BEGIN:VCALENDAR
VERSION:2.0
PRODID:-//Face to Face | Sonoma County - ECPv6.15.20//NONSGML v1.0//EN
CALSCALE:GREGORIAN
METHOD:PUBLISH
X-WR-CALNAME:Face to Face | Sonoma County
X-ORIGINAL-URL:https://f2f.org
X-WR-CALDESC:Events for Face to Face | Sonoma County
REFRESH-INTERVAL;VALUE=DURATION:PT1H
X-Robots-Tag:noindex
X-PUBLISHED-TTL:PT1H
BEGIN:VTIMEZONE
TZID:America/Los_Angeles
BEGIN:DAYLIGHT
TZOFFSETFROM:-0800
TZOFFSETTO:-0700
TZNAME:PDT
DTSTART:20250309T100000
END:DAYLIGHT
BEGIN:STANDARD
TZOFFSETFROM:-0700
TZOFFSETTO:-0800
TZNAME:PST
DTSTART:20251102T090000
END:STANDARD
BEGIN:DAYLIGHT
TZOFFSETFROM:-0800
TZOFFSETTO:-0700
TZNAME:PDT
DTSTART:20260308T100000
END:DAYLIGHT
BEGIN:STANDARD
TZOFFSETFROM:-0700
TZOFFSETTO:-0800
TZNAME:PST
DTSTART:20261101T090000
END:STANDARD
BEGIN:DAYLIGHT
TZOFFSETFROM:-0800
TZOFFSETTO:-0700
TZNAME:PDT
DTSTART:20270314T100000
END:DAYLIGHT
BEGIN:STANDARD
TZOFFSETFROM:-0700
TZOFFSETTO:-0800
TZNAME:PST
DTSTART:20271107T090000
END:STANDARD
END:VTIMEZONE
BEGIN:VEVENT
DTSTART;TZID=America/Los_Angeles:20260423T103000
DTEND;TZID=America/Los_Angeles:20260423T113000
DTSTAMP:20260421T221046
CREATED:20251120T175527Z
LAST-MODIFIED:20251120T175813Z
UID:10013207-1776940200-1776943800@f2f.org
SUMMARY:Santa Rosa Treatment Program Outreach
DESCRIPTION:Mobile Van Outreach at Santa Rosa Treatment Program from 9:00 a.m. – 11:00 a.m. at 625 Steele Lane\, Santa Rosa
URL:https://f2f.org/calendar-event/santa-rosa-treatment-program-outreach-2-2/2026-04-23/
LOCATION:SRTP\, 625 Steele Ln\, Santa Rosa\, CA\, 95403\, United States
CATEGORIES:Mobile Van
END:VEVENT
BEGIN:VEVENT
DTSTART;TZID=America/Los_Angeles:20260430T103000
DTEND;TZID=America/Los_Angeles:20260430T113000
DTSTAMP:20260421T221046
CREATED:20251120T175527Z
LAST-MODIFIED:20251120T175813Z
UID:10013208-1777545000-1777548600@f2f.org
SUMMARY:Santa Rosa Treatment Program Outreach
DESCRIPTION:Mobile Van Outreach at Santa Rosa Treatment Program from 9:00 a.m. – 11:00 a.m. at 625 Steele Lane\, Santa Rosa
URL:https://f2f.org/calendar-event/santa-rosa-treatment-program-outreach-2-2/2026-04-30/
LOCATION:SRTP\, 625 Steele Ln\, Santa Rosa\, CA\, 95403\, United States
CATEGORIES:Mobile Van
END:VEVENT
BEGIN:VEVENT
DTSTART;TZID=America/Los_Angeles:20260507T103000
DTEND;TZID=America/Los_Angeles:20260507T113000
DTSTAMP:20260421T221046
CREATED:20251120T175527Z
LAST-MODIFIED:20251120T175813Z
UID:10013209-1778149800-1778153400@f2f.org
SUMMARY:Santa Rosa Treatment Program Outreach
DESCRIPTION:Mobile Van Outreach at Santa Rosa Treatment Program from 9:00 a.m. – 11:00 a.m. at 625 Steele Lane\, Santa Rosa
URL:https://f2f.org/calendar-event/santa-rosa-treatment-program-outreach-2-2/2026-05-07/
LOCATION:SRTP\, 625 Steele Ln\, Santa Rosa\, CA\, 95403\, United States
CATEGORIES:Mobile Van
END:VEVENT
BEGIN:VEVENT
DTSTART;TZID=America/Los_Angeles:20260514T103000
DTEND;TZID=America/Los_Angeles:20260514T113000
DTSTAMP:20260421T221046
CREATED:20251120T175527Z
LAST-MODIFIED:20251120T175813Z
UID:10013210-1778754600-1778758200@f2f.org
SUMMARY:Santa Rosa Treatment Program Outreach
DESCRIPTION:Mobile Van Outreach at Santa Rosa Treatment Program from 9:00 a.m. – 11:00 a.m. at 625 Steele Lane\, Santa Rosa
URL:https://f2f.org/calendar-event/santa-rosa-treatment-program-outreach-2-2/2026-05-14/
LOCATION:SRTP\, 625 Steele Ln\, Santa Rosa\, CA\, 95403\, United States
CATEGORIES:Mobile Van
END:VEVENT
BEGIN:VEVENT
DTSTART;TZID=America/Los_Angeles:20260521T103000
DTEND;TZID=America/Los_Angeles:20260521T113000
DTSTAMP:20260421T221046
CREATED:20251120T175527Z
LAST-MODIFIED:20251120T175813Z
UID:10013211-1779359400-1779363000@f2f.org
SUMMARY:Santa Rosa Treatment Program Outreach
DESCRIPTION:Mobile Van Outreach at Santa Rosa Treatment Program from 9:00 a.m. – 11:00 a.m. at 625 Steele Lane\, Santa Rosa
URL:https://f2f.org/calendar-event/santa-rosa-treatment-program-outreach-2-2/2026-05-21/
LOCATION:SRTP\, 625 Steele Ln\, Santa Rosa\, CA\, 95403\, United States
CATEGORIES:Mobile Van
END:VEVENT
BEGIN:VEVENT
DTSTART;TZID=America/Los_Angeles:20260528T103000
DTEND;TZID=America/Los_Angeles:20260528T113000
DTSTAMP:20260421T221046
CREATED:20251120T175527Z
LAST-MODIFIED:20251120T175813Z
UID:10013212-1779964200-1779967800@f2f.org
SUMMARY:Santa Rosa Treatment Program Outreach
DESCRIPTION:Mobile Van Outreach at Santa Rosa Treatment Program from 9:00 a.m. – 11:00 a.m. at 625 Steele Lane\, Santa Rosa
URL:https://f2f.org/calendar-event/santa-rosa-treatment-program-outreach-2-2/2026-05-28/
LOCATION:SRTP\, 625 Steele Ln\, Santa Rosa\, CA\, 95403\, United States
CATEGORIES:Mobile Van
END:VEVENT
BEGIN:VEVENT
DTSTART;TZID=America/Los_Angeles:20260604T103000
DTEND;TZID=America/Los_Angeles:20260604T113000
DTSTAMP:20260421T221046
CREATED:20251120T175527Z
LAST-MODIFIED:20251120T175813Z
UID:10013213-1780569000-1780572600@f2f.org
SUMMARY:Santa Rosa Treatment Program Outreach
DESCRIPTION:Mobile Van Outreach at Santa Rosa Treatment Program from 9:00 a.m. – 11:00 a.m. at 625 Steele Lane\, Santa Rosa
URL:https://f2f.org/calendar-event/santa-rosa-treatment-program-outreach-2-2/2026-06-04/
LOCATION:SRTP\, 625 Steele Ln\, Santa Rosa\, CA\, 95403\, United States
CATEGORIES:Mobile Van
END:VEVENT
BEGIN:VEVENT
DTSTART;TZID=America/Los_Angeles:20260611T103000
DTEND;TZID=America/Los_Angeles:20260611T113000
DTSTAMP:20260421T221046
CREATED:20251120T175527Z
LAST-MODIFIED:20251120T175813Z
UID:10013214-1781173800-1781177400@f2f.org
SUMMARY:Santa Rosa Treatment Program Outreach
DESCRIPTION:Mobile Van Outreach at Santa Rosa Treatment Program from 9:00 a.m. – 11:00 a.m. at 625 Steele Lane\, Santa Rosa
URL:https://f2f.org/calendar-event/santa-rosa-treatment-program-outreach-2-2/2026-06-11/
LOCATION:SRTP\, 625 Steele Ln\, Santa Rosa\, CA\, 95403\, United States
CATEGORIES:Mobile Van
END:VEVENT
BEGIN:VEVENT
DTSTART;TZID=America/Los_Angeles:20260618T103000
DTEND;TZID=America/Los_Angeles:20260618T113000
DTSTAMP:20260421T221046
CREATED:20251120T175527Z
LAST-MODIFIED:20251120T175813Z
UID:10013215-1781778600-1781782200@f2f.org
SUMMARY:Santa Rosa Treatment Program Outreach
DESCRIPTION:Mobile Van Outreach at Santa Rosa Treatment Program from 9:00 a.m. – 11:00 a.m. at 625 Steele Lane\, Santa Rosa
URL:https://f2f.org/calendar-event/santa-rosa-treatment-program-outreach-2-2/2026-06-18/
LOCATION:SRTP\, 625 Steele Ln\, Santa Rosa\, CA\, 95403\, United States
CATEGORIES:Mobile Van
END:VEVENT
BEGIN:VEVENT
DTSTART;TZID=America/Los_Angeles:20260625T103000
DTEND;TZID=America/Los_Angeles:20260625T113000
DTSTAMP:20260421T221046
CREATED:20251120T175527Z
LAST-MODIFIED:20251120T175813Z
UID:10013216-1782383400-1782387000@f2f.org
SUMMARY:Santa Rosa Treatment Program Outreach
DESCRIPTION:Mobile Van Outreach at Santa Rosa Treatment Program from 9:00 a.m. – 11:00 a.m. at 625 Steele Lane\, Santa Rosa
URL:https://f2f.org/calendar-event/santa-rosa-treatment-program-outreach-2-2/2026-06-25/
LOCATION:SRTP\, 625 Steele Ln\, Santa Rosa\, CA\, 95403\, United States
CATEGORIES:Mobile Van
END:VEVENT
BEGIN:VEVENT
DTSTART;TZID=America/Los_Angeles:20260702T103000
DTEND;TZID=America/Los_Angeles:20260702T113000
DTSTAMP:20260421T221046
CREATED:20251120T175527Z
LAST-MODIFIED:20251120T175813Z
UID:10013217-1782988200-1782991800@f2f.org
SUMMARY:Santa Rosa Treatment Program Outreach
DESCRIPTION:Mobile Van Outreach at Santa Rosa Treatment Program from 9:00 a.m. – 11:00 a.m. at 625 Steele Lane\, Santa Rosa
URL:https://f2f.org/calendar-event/santa-rosa-treatment-program-outreach-2-2/2026-07-02/
LOCATION:SRTP\, 625 Steele Ln\, Santa Rosa\, CA\, 95403\, United States
CATEGORIES:Mobile Van
END:VEVENT
BEGIN:VEVENT
DTSTART;TZID=America/Los_Angeles:20260709T103000
DTEND;TZID=America/Los_Angeles:20260709T113000
DTSTAMP:20260421T221046
CREATED:20251120T175527Z
LAST-MODIFIED:20251120T175813Z
UID:10013218-1783593000-1783596600@f2f.org
SUMMARY:Santa Rosa Treatment Program Outreach
DESCRIPTION:Mobile Van Outreach at Santa Rosa Treatment Program from 9:00 a.m. – 11:00 a.m. at 625 Steele Lane\, Santa Rosa
URL:https://f2f.org/calendar-event/santa-rosa-treatment-program-outreach-2-2/2026-07-09/
LOCATION:SRTP\, 625 Steele Ln\, Santa Rosa\, CA\, 95403\, United States
CATEGORIES:Mobile Van
END:VEVENT
BEGIN:VEVENT
DTSTART;TZID=America/Los_Angeles:20260716T103000
DTEND;TZID=America/Los_Angeles:20260716T113000
DTSTAMP:20260421T221046
CREATED:20251120T175527Z
LAST-MODIFIED:20251120T175813Z
UID:10013219-1784197800-1784201400@f2f.org
SUMMARY:Santa Rosa Treatment Program Outreach
DESCRIPTION:Mobile Van Outreach at Santa Rosa Treatment Program from 9:00 a.m. – 11:00 a.m. at 625 Steele Lane\, Santa Rosa
URL:https://f2f.org/calendar-event/santa-rosa-treatment-program-outreach-2-2/2026-07-16/
LOCATION:SRTP\, 625 Steele Ln\, Santa Rosa\, CA\, 95403\, United States
CATEGORIES:Mobile Van
END:VEVENT
BEGIN:VEVENT
DTSTART;TZID=America/Los_Angeles:20260723T103000
DTEND;TZID=America/Los_Angeles:20260723T113000
DTSTAMP:20260421T221046
CREATED:20251120T175527Z
LAST-MODIFIED:20251120T175813Z
UID:10013220-1784802600-1784806200@f2f.org
SUMMARY:Santa Rosa Treatment Program Outreach
DESCRIPTION:Mobile Van Outreach at Santa Rosa Treatment Program from 9:00 a.m. – 11:00 a.m. at 625 Steele Lane\, Santa Rosa
URL:https://f2f.org/calendar-event/santa-rosa-treatment-program-outreach-2-2/2026-07-23/
LOCATION:SRTP\, 625 Steele Ln\, Santa Rosa\, CA\, 95403\, United States
CATEGORIES:Mobile Van
END:VEVENT
BEGIN:VEVENT
DTSTART;TZID=America/Los_Angeles:20260730T103000
DTEND;TZID=America/Los_Angeles:20260730T113000
DTSTAMP:20260421T221046
CREATED:20251120T175527Z
LAST-MODIFIED:20251120T175813Z
UID:10013221-1785407400-1785411000@f2f.org
SUMMARY:Santa Rosa Treatment Program Outreach
DESCRIPTION:Mobile Van Outreach at Santa Rosa Treatment Program from 9:00 a.m. – 11:00 a.m. at 625 Steele Lane\, Santa Rosa
URL:https://f2f.org/calendar-event/santa-rosa-treatment-program-outreach-2-2/2026-07-30/
LOCATION:SRTP\, 625 Steele Ln\, Santa Rosa\, CA\, 95403\, United States
CATEGORIES:Mobile Van
END:VEVENT
BEGIN:VEVENT
DTSTART;TZID=America/Los_Angeles:20260806T103000
DTEND;TZID=America/Los_Angeles:20260806T113000
DTSTAMP:20260421T221046
CREATED:20251120T175527Z
LAST-MODIFIED:20251120T175813Z
UID:10013222-1786012200-1786015800@f2f.org
SUMMARY:Santa Rosa Treatment Program Outreach
DESCRIPTION:Mobile Van Outreach at Santa Rosa Treatment Program from 9:00 a.m. – 11:00 a.m. at 625 Steele Lane\, Santa Rosa
URL:https://f2f.org/calendar-event/santa-rosa-treatment-program-outreach-2-2/2026-08-06/
LOCATION:SRTP\, 625 Steele Ln\, Santa Rosa\, CA\, 95403\, United States
CATEGORIES:Mobile Van
END:VEVENT
BEGIN:VEVENT
DTSTART;TZID=America/Los_Angeles:20260813T103000
DTEND;TZID=America/Los_Angeles:20260813T113000
DTSTAMP:20260421T221046
CREATED:20251120T175527Z
LAST-MODIFIED:20251120T175813Z
UID:10013223-1786617000-1786620600@f2f.org
SUMMARY:Santa Rosa Treatment Program Outreach
DESCRIPTION:Mobile Van Outreach at Santa Rosa Treatment Program from 9:00 a.m. – 11:00 a.m. at 625 Steele Lane\, Santa Rosa
URL:https://f2f.org/calendar-event/santa-rosa-treatment-program-outreach-2-2/2026-08-13/
LOCATION:SRTP\, 625 Steele Ln\, Santa Rosa\, CA\, 95403\, United States
CATEGORIES:Mobile Van
END:VEVENT
BEGIN:VEVENT
DTSTART;TZID=America/Los_Angeles:20260820T103000
DTEND;TZID=America/Los_Angeles:20260820T113000
DTSTAMP:20260421T221046
CREATED:20251120T175527Z
LAST-MODIFIED:20251120T175813Z
UID:10013224-1787221800-1787225400@f2f.org
SUMMARY:Santa Rosa Treatment Program Outreach
DESCRIPTION:Mobile Van Outreach at Santa Rosa Treatment Program from 9:00 a.m. – 11:00 a.m. at 625 Steele Lane\, Santa Rosa
URL:https://f2f.org/calendar-event/santa-rosa-treatment-program-outreach-2-2/2026-08-20/
LOCATION:SRTP\, 625 Steele Ln\, Santa Rosa\, CA\, 95403\, United States
CATEGORIES:Mobile Van
END:VEVENT
BEGIN:VEVENT
DTSTART;TZID=America/Los_Angeles:20260827T103000
DTEND;TZID=America/Los_Angeles:20260827T113000
DTSTAMP:20260421T221046
CREATED:20251120T175527Z
LAST-MODIFIED:20251120T175813Z
UID:10013225-1787826600-1787830200@f2f.org
SUMMARY:Santa Rosa Treatment Program Outreach
DESCRIPTION:Mobile Van Outreach at Santa Rosa Treatment Program from 9:00 a.m. – 11:00 a.m. at 625 Steele Lane\, Santa Rosa
URL:https://f2f.org/calendar-event/santa-rosa-treatment-program-outreach-2-2/2026-08-27/
LOCATION:SRTP\, 625 Steele Ln\, Santa Rosa\, CA\, 95403\, United States
CATEGORIES:Mobile Van
END:VEVENT
BEGIN:VEVENT
DTSTART;TZID=America/Los_Angeles:20260903T103000
DTEND;TZID=America/Los_Angeles:20260903T113000
DTSTAMP:20260421T221046
CREATED:20251120T175527Z
LAST-MODIFIED:20251120T175813Z
UID:10013226-1788431400-1788435000@f2f.org
SUMMARY:Santa Rosa Treatment Program Outreach
DESCRIPTION:Mobile Van Outreach at Santa Rosa Treatment Program from 9:00 a.m. – 11:00 a.m. at 625 Steele Lane\, Santa Rosa
URL:https://f2f.org/calendar-event/santa-rosa-treatment-program-outreach-2-2/2026-09-03/
LOCATION:SRTP\, 625 Steele Ln\, Santa Rosa\, CA\, 95403\, United States
CATEGORIES:Mobile Van
END:VEVENT
BEGIN:VEVENT
DTSTART;TZID=America/Los_Angeles:20260910T103000
DTEND;TZID=America/Los_Angeles:20260910T113000
DTSTAMP:20260421T221046
CREATED:20251120T175527Z
LAST-MODIFIED:20251120T175813Z
UID:10013227-1789036200-1789039800@f2f.org
SUMMARY:Santa Rosa Treatment Program Outreach
DESCRIPTION:Mobile Van Outreach at Santa Rosa Treatment Program from 9:00 a.m. – 11:00 a.m. at 625 Steele Lane\, Santa Rosa
URL:https://f2f.org/calendar-event/santa-rosa-treatment-program-outreach-2-2/2026-09-10/
LOCATION:SRTP\, 625 Steele Ln\, Santa Rosa\, CA\, 95403\, United States
CATEGORIES:Mobile Van
END:VEVENT
BEGIN:VEVENT
DTSTART;TZID=America/Los_Angeles:20260917T103000
DTEND;TZID=America/Los_Angeles:20260917T113000
DTSTAMP:20260421T221046
CREATED:20251120T175527Z
LAST-MODIFIED:20251120T175813Z
UID:10013228-1789641000-1789644600@f2f.org
SUMMARY:Santa Rosa Treatment Program Outreach
DESCRIPTION:Mobile Van Outreach at Santa Rosa Treatment Program from 9:00 a.m. – 11:00 a.m. at 625 Steele Lane\, Santa Rosa
URL:https://f2f.org/calendar-event/santa-rosa-treatment-program-outreach-2-2/2026-09-17/
LOCATION:SRTP\, 625 Steele Ln\, Santa Rosa\, CA\, 95403\, United States
CATEGORIES:Mobile Van
END:VEVENT
BEGIN:VEVENT
DTSTART;TZID=America/Los_Angeles:20260924T103000
DTEND;TZID=America/Los_Angeles:20260924T113000
DTSTAMP:20260421T221046
CREATED:20251120T175527Z
LAST-MODIFIED:20251120T175813Z
UID:10013229-1790245800-1790249400@f2f.org
SUMMARY:Santa Rosa Treatment Program Outreach
DESCRIPTION:Mobile Van Outreach at Santa Rosa Treatment Program from 9:00 a.m. – 11:00 a.m. at 625 Steele Lane\, Santa Rosa
URL:https://f2f.org/calendar-event/santa-rosa-treatment-program-outreach-2-2/2026-09-24/
LOCATION:SRTP\, 625 Steele Ln\, Santa Rosa\, CA\, 95403\, United States
CATEGORIES:Mobile Van
END:VEVENT
BEGIN:VEVENT
DTSTART;TZID=America/Los_Angeles:20261001T103000
DTEND;TZID=America/Los_Angeles:20261001T113000
DTSTAMP:20260421T221046
CREATED:20251120T175527Z
LAST-MODIFIED:20251120T175813Z
UID:10013230-1790850600-1790854200@f2f.org
SUMMARY:Santa Rosa Treatment Program Outreach
DESCRIPTION:Mobile Van Outreach at Santa Rosa Treatment Program from 9:00 a.m. – 11:00 a.m. at 625 Steele Lane\, Santa Rosa
URL:https://f2f.org/calendar-event/santa-rosa-treatment-program-outreach-2-2/2026-10-01/
LOCATION:SRTP\, 625 Steele Ln\, Santa Rosa\, CA\, 95403\, United States
CATEGORIES:Mobile Van
END:VEVENT
BEGIN:VEVENT
DTSTART;TZID=America/Los_Angeles:20261008T103000
DTEND;TZID=America/Los_Angeles:20261008T113000
DTSTAMP:20260421T221046
CREATED:20251120T175527Z
LAST-MODIFIED:20251120T175813Z
UID:10013231-1791455400-1791459000@f2f.org
SUMMARY:Santa Rosa Treatment Program Outreach
DESCRIPTION:Mobile Van Outreach at Santa Rosa Treatment Program from 9:00 a.m. – 11:00 a.m. at 625 Steele Lane\, Santa Rosa
URL:https://f2f.org/calendar-event/santa-rosa-treatment-program-outreach-2-2/2026-10-08/
LOCATION:SRTP\, 625 Steele Ln\, Santa Rosa\, CA\, 95403\, United States
CATEGORIES:Mobile Van
END:VEVENT
BEGIN:VEVENT
DTSTART;TZID=America/Los_Angeles:20261015T103000
DTEND;TZID=America/Los_Angeles:20261015T113000
DTSTAMP:20260421T221046
CREATED:20251120T175527Z
LAST-MODIFIED:20251120T175813Z
UID:10013232-1792060200-1792063800@f2f.org
SUMMARY:Santa Rosa Treatment Program Outreach
DESCRIPTION:Mobile Van Outreach at Santa Rosa Treatment Program from 9:00 a.m. – 11:00 a.m. at 625 Steele Lane\, Santa Rosa
URL:https://f2f.org/calendar-event/santa-rosa-treatment-program-outreach-2-2/2026-10-15/
LOCATION:SRTP\, 625 Steele Ln\, Santa Rosa\, CA\, 95403\, United States
CATEGORIES:Mobile Van
END:VEVENT
BEGIN:VEVENT
DTSTART;TZID=America/Los_Angeles:20261022T103000
DTEND;TZID=America/Los_Angeles:20261022T113000
DTSTAMP:20260421T221046
CREATED:20251120T175527Z
LAST-MODIFIED:20251120T175813Z
UID:10013233-1792665000-1792668600@f2f.org
SUMMARY:Santa Rosa Treatment Program Outreach
DESCRIPTION:Mobile Van Outreach at Santa Rosa Treatment Program from 9:00 a.m. – 11:00 a.m. at 625 Steele Lane\, Santa Rosa
URL:https://f2f.org/calendar-event/santa-rosa-treatment-program-outreach-2-2/2026-10-22/
LOCATION:SRTP\, 625 Steele Ln\, Santa Rosa\, CA\, 95403\, United States
CATEGORIES:Mobile Van
END:VEVENT
BEGIN:VEVENT
DTSTART;TZID=America/Los_Angeles:20261029T103000
DTEND;TZID=America/Los_Angeles:20261029T113000
DTSTAMP:20260421T221046
CREATED:20251120T175527Z
LAST-MODIFIED:20251120T175813Z
UID:10013234-1793269800-1793273400@f2f.org
SUMMARY:Santa Rosa Treatment Program Outreach
DESCRIPTION:Mobile Van Outreach at Santa Rosa Treatment Program from 9:00 a.m. – 11:00 a.m. at 625 Steele Lane\, Santa Rosa
URL:https://f2f.org/calendar-event/santa-rosa-treatment-program-outreach-2-2/2026-10-29/
LOCATION:SRTP\, 625 Steele Ln\, Santa Rosa\, CA\, 95403\, United States
CATEGORIES:Mobile Van
END:VEVENT
BEGIN:VEVENT
DTSTART;TZID=America/Los_Angeles:20261105T103000
DTEND;TZID=America/Los_Angeles:20261105T113000
DTSTAMP:20260421T221046
CREATED:20251120T175527Z
LAST-MODIFIED:20251120T175813Z
UID:10013235-1793874600-1793878200@f2f.org
SUMMARY:Santa Rosa Treatment Program Outreach
DESCRIPTION:Mobile Van Outreach at Santa Rosa Treatment Program from 9:00 a.m. – 11:00 a.m. at 625 Steele Lane\, Santa Rosa
URL:https://f2f.org/calendar-event/santa-rosa-treatment-program-outreach-2-2/2026-11-05/
LOCATION:SRTP\, 625 Steele Ln\, Santa Rosa\, CA\, 95403\, United States
CATEGORIES:Mobile Van
END:VEVENT
BEGIN:VEVENT
DTSTART;TZID=America/Los_Angeles:20261112T103000
DTEND;TZID=America/Los_Angeles:20261112T113000
DTSTAMP:20260421T221046
CREATED:20251120T175527Z
LAST-MODIFIED:20251120T175813Z
UID:10013236-1794479400-1794483000@f2f.org
SUMMARY:Santa Rosa Treatment Program Outreach
DESCRIPTION:Mobile Van Outreach at Santa Rosa Treatment Program from 9:00 a.m. – 11:00 a.m. at 625 Steele Lane\, Santa Rosa
URL:https://f2f.org/calendar-event/santa-rosa-treatment-program-outreach-2-2/2026-11-12/
LOCATION:SRTP\, 625 Steele Ln\, Santa Rosa\, CA\, 95403\, United States
CATEGORIES:Mobile Van
END:VEVENT
END:VCALENDAR