BEGIN:VCALENDAR
VERSION:2.0
PRODID:-//Face to Face | Sonoma County - ECPv6.15.20//NONSGML v1.0//EN
CALSCALE:GREGORIAN
METHOD:PUBLISH
X-WR-CALNAME:Face to Face | Sonoma County
X-ORIGINAL-URL:https://f2f.org
X-WR-CALDESC:Events for Face to Face | Sonoma County
REFRESH-INTERVAL;VALUE=DURATION:PT1H
X-Robots-Tag:noindex
X-PUBLISHED-TTL:PT1H
BEGIN:VTIMEZONE
TZID:America/Los_Angeles
BEGIN:DAYLIGHT
TZOFFSETFROM:-0800
TZOFFSETTO:-0700
TZNAME:PDT
DTSTART:20250309T100000
END:DAYLIGHT
BEGIN:STANDARD
TZOFFSETFROM:-0700
TZOFFSETTO:-0800
TZNAME:PST
DTSTART:20251102T090000
END:STANDARD
BEGIN:DAYLIGHT
TZOFFSETFROM:-0800
TZOFFSETTO:-0700
TZNAME:PDT
DTSTART:20260308T100000
END:DAYLIGHT
BEGIN:STANDARD
TZOFFSETFROM:-0700
TZOFFSETTO:-0800
TZNAME:PST
DTSTART:20261101T090000
END:STANDARD
BEGIN:DAYLIGHT
TZOFFSETFROM:-0800
TZOFFSETTO:-0700
TZNAME:PDT
DTSTART:20270314T100000
END:DAYLIGHT
BEGIN:STANDARD
TZOFFSETFROM:-0700
TZOFFSETTO:-0800
TZNAME:PST
DTSTART:20271107T090000
END:STANDARD
END:VTIMEZONE
BEGIN:VEVENT
DTSTART;TZID=America/Los_Angeles:20260421T110000
DTEND;TZID=America/Los_Angeles:20260421T130000
DTSTAMP:20260420T124528
CREATED:20250422T192135Z
LAST-MODIFIED:20250711T161832Z
UID:10009899-1776769200-1776776400@f2f.org
SUMMARY:Guerneville Plaza Outreach
DESCRIPTION:Mobile van outreach at the Guerneville plaza under the walking bridge from 11:00 a.m. to 1:00 p.m.
URL:https://f2f.org/calendar-event/guerneville-plaza-outreach/2026-04-21/
LOCATION:Guerneville Downtown Plaza\, Guerneville\, CA\, 95446\, United States
CATEGORIES:Mobile Van
END:VEVENT
BEGIN:VEVENT
DTSTART;TZID=America/Los_Angeles:20260428T110000
DTEND;TZID=America/Los_Angeles:20260428T130000
DTSTAMP:20260420T124528
CREATED:20250422T192135Z
LAST-MODIFIED:20250711T161832Z
UID:10009900-1777374000-1777381200@f2f.org
SUMMARY:Guerneville Plaza Outreach
DESCRIPTION:Mobile van outreach at the Guerneville plaza under the walking bridge from 11:00 a.m. to 1:00 p.m.
URL:https://f2f.org/calendar-event/guerneville-plaza-outreach/2026-04-28/
LOCATION:Guerneville Downtown Plaza\, Guerneville\, CA\, 95446\, United States
CATEGORIES:Mobile Van
END:VEVENT
BEGIN:VEVENT
DTSTART;TZID=America/Los_Angeles:20260505T110000
DTEND;TZID=America/Los_Angeles:20260505T130000
DTSTAMP:20260420T124528
CREATED:20250422T192135Z
LAST-MODIFIED:20250711T161832Z
UID:10009901-1777978800-1777986000@f2f.org
SUMMARY:Guerneville Plaza Outreach
DESCRIPTION:Mobile van outreach at the Guerneville plaza under the walking bridge from 11:00 a.m. to 1:00 p.m.
URL:https://f2f.org/calendar-event/guerneville-plaza-outreach/2026-05-05/
LOCATION:Guerneville Downtown Plaza\, Guerneville\, CA\, 95446\, United States
CATEGORIES:Mobile Van
END:VEVENT
BEGIN:VEVENT
DTSTART;TZID=America/Los_Angeles:20260512T110000
DTEND;TZID=America/Los_Angeles:20260512T130000
DTSTAMP:20260420T124528
CREATED:20250422T192135Z
LAST-MODIFIED:20250711T161832Z
UID:10009902-1778583600-1778590800@f2f.org
SUMMARY:Guerneville Plaza Outreach
DESCRIPTION:Mobile van outreach at the Guerneville plaza under the walking bridge from 11:00 a.m. to 1:00 p.m.
URL:https://f2f.org/calendar-event/guerneville-plaza-outreach/2026-05-12/
LOCATION:Guerneville Downtown Plaza\, Guerneville\, CA\, 95446\, United States
CATEGORIES:Mobile Van
END:VEVENT
BEGIN:VEVENT
DTSTART;TZID=America/Los_Angeles:20260519T110000
DTEND;TZID=America/Los_Angeles:20260519T130000
DTSTAMP:20260420T124528
CREATED:20250422T192135Z
LAST-MODIFIED:20250711T161832Z
UID:10009903-1779188400-1779195600@f2f.org
SUMMARY:Guerneville Plaza Outreach
DESCRIPTION:Mobile van outreach at the Guerneville plaza under the walking bridge from 11:00 a.m. to 1:00 p.m.
URL:https://f2f.org/calendar-event/guerneville-plaza-outreach/2026-05-19/
LOCATION:Guerneville Downtown Plaza\, Guerneville\, CA\, 95446\, United States
CATEGORIES:Mobile Van
END:VEVENT
BEGIN:VEVENT
DTSTART;TZID=America/Los_Angeles:20260526T110000
DTEND;TZID=America/Los_Angeles:20260526T130000
DTSTAMP:20260420T124528
CREATED:20250422T192135Z
LAST-MODIFIED:20250711T161832Z
UID:10009904-1779793200-1779800400@f2f.org
SUMMARY:Guerneville Plaza Outreach
DESCRIPTION:Mobile van outreach at the Guerneville plaza under the walking bridge from 11:00 a.m. to 1:00 p.m.
URL:https://f2f.org/calendar-event/guerneville-plaza-outreach/2026-05-26/
LOCATION:Guerneville Downtown Plaza\, Guerneville\, CA\, 95446\, United States
CATEGORIES:Mobile Van
END:VEVENT
BEGIN:VEVENT
DTSTART;TZID=America/Los_Angeles:20260602T110000
DTEND;TZID=America/Los_Angeles:20260602T130000
DTSTAMP:20260420T124528
CREATED:20250422T192135Z
LAST-MODIFIED:20250711T161832Z
UID:10009905-1780398000-1780405200@f2f.org
SUMMARY:Guerneville Plaza Outreach
DESCRIPTION:Mobile van outreach at the Guerneville plaza under the walking bridge from 11:00 a.m. to 1:00 p.m.
URL:https://f2f.org/calendar-event/guerneville-plaza-outreach/2026-06-02/
LOCATION:Guerneville Downtown Plaza\, Guerneville\, CA\, 95446\, United States
CATEGORIES:Mobile Van
END:VEVENT
BEGIN:VEVENT
DTSTART;TZID=America/Los_Angeles:20260609T110000
DTEND;TZID=America/Los_Angeles:20260609T130000
DTSTAMP:20260420T124528
CREATED:20250422T192135Z
LAST-MODIFIED:20250711T161832Z
UID:10009906-1781002800-1781010000@f2f.org
SUMMARY:Guerneville Plaza Outreach
DESCRIPTION:Mobile van outreach at the Guerneville plaza under the walking bridge from 11:00 a.m. to 1:00 p.m.
URL:https://f2f.org/calendar-event/guerneville-plaza-outreach/2026-06-09/
LOCATION:Guerneville Downtown Plaza\, Guerneville\, CA\, 95446\, United States
CATEGORIES:Mobile Van
END:VEVENT
BEGIN:VEVENT
DTSTART;TZID=America/Los_Angeles:20260616T110000
DTEND;TZID=America/Los_Angeles:20260616T130000
DTSTAMP:20260420T124528
CREATED:20250422T192135Z
LAST-MODIFIED:20250711T161832Z
UID:10009907-1781607600-1781614800@f2f.org
SUMMARY:Guerneville Plaza Outreach
DESCRIPTION:Mobile van outreach at the Guerneville plaza under the walking bridge from 11:00 a.m. to 1:00 p.m.
URL:https://f2f.org/calendar-event/guerneville-plaza-outreach/2026-06-16/
LOCATION:Guerneville Downtown Plaza\, Guerneville\, CA\, 95446\, United States
CATEGORIES:Mobile Van
END:VEVENT
BEGIN:VEVENT
DTSTART;TZID=America/Los_Angeles:20260623T110000
DTEND;TZID=America/Los_Angeles:20260623T130000
DTSTAMP:20260420T124528
CREATED:20250422T192135Z
LAST-MODIFIED:20250711T161832Z
UID:10009908-1782212400-1782219600@f2f.org
SUMMARY:Guerneville Plaza Outreach
DESCRIPTION:Mobile van outreach at the Guerneville plaza under the walking bridge from 11:00 a.m. to 1:00 p.m.
URL:https://f2f.org/calendar-event/guerneville-plaza-outreach/2026-06-23/
LOCATION:Guerneville Downtown Plaza\, Guerneville\, CA\, 95446\, United States
CATEGORIES:Mobile Van
END:VEVENT
BEGIN:VEVENT
DTSTART;TZID=America/Los_Angeles:20260630T110000
DTEND;TZID=America/Los_Angeles:20260630T130000
DTSTAMP:20260420T124528
CREATED:20250422T192135Z
LAST-MODIFIED:20250711T161832Z
UID:10009909-1782817200-1782824400@f2f.org
SUMMARY:Guerneville Plaza Outreach
DESCRIPTION:Mobile van outreach at the Guerneville plaza under the walking bridge from 11:00 a.m. to 1:00 p.m.
URL:https://f2f.org/calendar-event/guerneville-plaza-outreach/2026-06-30/
LOCATION:Guerneville Downtown Plaza\, Guerneville\, CA\, 95446\, United States
CATEGORIES:Mobile Van
END:VEVENT
BEGIN:VEVENT
DTSTART;TZID=America/Los_Angeles:20260707T110000
DTEND;TZID=America/Los_Angeles:20260707T130000
DTSTAMP:20260420T124528
CREATED:20250422T192135Z
LAST-MODIFIED:20250711T161832Z
UID:10009910-1783422000-1783429200@f2f.org
SUMMARY:Guerneville Plaza Outreach
DESCRIPTION:Mobile van outreach at the Guerneville plaza under the walking bridge from 11:00 a.m. to 1:00 p.m.
URL:https://f2f.org/calendar-event/guerneville-plaza-outreach/2026-07-07/
LOCATION:Guerneville Downtown Plaza\, Guerneville\, CA\, 95446\, United States
CATEGORIES:Mobile Van
END:VEVENT
BEGIN:VEVENT
DTSTART;TZID=America/Los_Angeles:20260714T110000
DTEND;TZID=America/Los_Angeles:20260714T130000
DTSTAMP:20260420T124528
CREATED:20250422T192135Z
LAST-MODIFIED:20250711T161832Z
UID:10009911-1784026800-1784034000@f2f.org
SUMMARY:Guerneville Plaza Outreach
DESCRIPTION:Mobile van outreach at the Guerneville plaza under the walking bridge from 11:00 a.m. to 1:00 p.m.
URL:https://f2f.org/calendar-event/guerneville-plaza-outreach/2026-07-14/
LOCATION:Guerneville Downtown Plaza\, Guerneville\, CA\, 95446\, United States
CATEGORIES:Mobile Van
END:VEVENT
BEGIN:VEVENT
DTSTART;TZID=America/Los_Angeles:20260721T110000
DTEND;TZID=America/Los_Angeles:20260721T130000
DTSTAMP:20260420T124528
CREATED:20250422T192135Z
LAST-MODIFIED:20250711T161832Z
UID:10009912-1784631600-1784638800@f2f.org
SUMMARY:Guerneville Plaza Outreach
DESCRIPTION:Mobile van outreach at the Guerneville plaza under the walking bridge from 11:00 a.m. to 1:00 p.m.
URL:https://f2f.org/calendar-event/guerneville-plaza-outreach/2026-07-21/
LOCATION:Guerneville Downtown Plaza\, Guerneville\, CA\, 95446\, United States
CATEGORIES:Mobile Van
END:VEVENT
BEGIN:VEVENT
DTSTART;TZID=America/Los_Angeles:20260728T110000
DTEND;TZID=America/Los_Angeles:20260728T130000
DTSTAMP:20260420T124528
CREATED:20250422T192135Z
LAST-MODIFIED:20250711T161832Z
UID:10009913-1785236400-1785243600@f2f.org
SUMMARY:Guerneville Plaza Outreach
DESCRIPTION:Mobile van outreach at the Guerneville plaza under the walking bridge from 11:00 a.m. to 1:00 p.m.
URL:https://f2f.org/calendar-event/guerneville-plaza-outreach/2026-07-28/
LOCATION:Guerneville Downtown Plaza\, Guerneville\, CA\, 95446\, United States
CATEGORIES:Mobile Van
END:VEVENT
BEGIN:VEVENT
DTSTART;TZID=America/Los_Angeles:20260804T110000
DTEND;TZID=America/Los_Angeles:20260804T130000
DTSTAMP:20260420T124528
CREATED:20250422T192135Z
LAST-MODIFIED:20250711T161832Z
UID:10009914-1785841200-1785848400@f2f.org
SUMMARY:Guerneville Plaza Outreach
DESCRIPTION:Mobile van outreach at the Guerneville plaza under the walking bridge from 11:00 a.m. to 1:00 p.m.
URL:https://f2f.org/calendar-event/guerneville-plaza-outreach/2026-08-04/
LOCATION:Guerneville Downtown Plaza\, Guerneville\, CA\, 95446\, United States
CATEGORIES:Mobile Van
END:VEVENT
BEGIN:VEVENT
DTSTART;TZID=America/Los_Angeles:20260811T110000
DTEND;TZID=America/Los_Angeles:20260811T130000
DTSTAMP:20260420T124528
CREATED:20250422T192135Z
LAST-MODIFIED:20250711T161832Z
UID:10009915-1786446000-1786453200@f2f.org
SUMMARY:Guerneville Plaza Outreach
DESCRIPTION:Mobile van outreach at the Guerneville plaza under the walking bridge from 11:00 a.m. to 1:00 p.m.
URL:https://f2f.org/calendar-event/guerneville-plaza-outreach/2026-08-11/
LOCATION:Guerneville Downtown Plaza\, Guerneville\, CA\, 95446\, United States
CATEGORIES:Mobile Van
END:VEVENT
BEGIN:VEVENT
DTSTART;TZID=America/Los_Angeles:20260818T110000
DTEND;TZID=America/Los_Angeles:20260818T130000
DTSTAMP:20260420T124528
CREATED:20250422T192135Z
LAST-MODIFIED:20250711T161832Z
UID:10009916-1787050800-1787058000@f2f.org
SUMMARY:Guerneville Plaza Outreach
DESCRIPTION:Mobile van outreach at the Guerneville plaza under the walking bridge from 11:00 a.m. to 1:00 p.m.
URL:https://f2f.org/calendar-event/guerneville-plaza-outreach/2026-08-18/
LOCATION:Guerneville Downtown Plaza\, Guerneville\, CA\, 95446\, United States
CATEGORIES:Mobile Van
END:VEVENT
BEGIN:VEVENT
DTSTART;TZID=America/Los_Angeles:20260825T110000
DTEND;TZID=America/Los_Angeles:20260825T130000
DTSTAMP:20260420T124528
CREATED:20250422T192135Z
LAST-MODIFIED:20250711T161832Z
UID:10009917-1787655600-1787662800@f2f.org
SUMMARY:Guerneville Plaza Outreach
DESCRIPTION:Mobile van outreach at the Guerneville plaza under the walking bridge from 11:00 a.m. to 1:00 p.m.
URL:https://f2f.org/calendar-event/guerneville-plaza-outreach/2026-08-25/
LOCATION:Guerneville Downtown Plaza\, Guerneville\, CA\, 95446\, United States
CATEGORIES:Mobile Van
END:VEVENT
BEGIN:VEVENT
DTSTART;TZID=America/Los_Angeles:20260901T110000
DTEND;TZID=America/Los_Angeles:20260901T130000
DTSTAMP:20260420T124528
CREATED:20250422T192135Z
LAST-MODIFIED:20250711T161832Z
UID:10009918-1788260400-1788267600@f2f.org
SUMMARY:Guerneville Plaza Outreach
DESCRIPTION:Mobile van outreach at the Guerneville plaza under the walking bridge from 11:00 a.m. to 1:00 p.m.
URL:https://f2f.org/calendar-event/guerneville-plaza-outreach/2026-09-01/
LOCATION:Guerneville Downtown Plaza\, Guerneville\, CA\, 95446\, United States
CATEGORIES:Mobile Van
END:VEVENT
BEGIN:VEVENT
DTSTART;TZID=America/Los_Angeles:20260908T110000
DTEND;TZID=America/Los_Angeles:20260908T130000
DTSTAMP:20260420T124528
CREATED:20250422T192135Z
LAST-MODIFIED:20250711T161832Z
UID:10009919-1788865200-1788872400@f2f.org
SUMMARY:Guerneville Plaza Outreach
DESCRIPTION:Mobile van outreach at the Guerneville plaza under the walking bridge from 11:00 a.m. to 1:00 p.m.
URL:https://f2f.org/calendar-event/guerneville-plaza-outreach/2026-09-08/
LOCATION:Guerneville Downtown Plaza\, Guerneville\, CA\, 95446\, United States
CATEGORIES:Mobile Van
END:VEVENT
BEGIN:VEVENT
DTSTART;TZID=America/Los_Angeles:20260915T110000
DTEND;TZID=America/Los_Angeles:20260915T130000
DTSTAMP:20260420T124528
CREATED:20250422T192135Z
LAST-MODIFIED:20250711T161832Z
UID:10009920-1789470000-1789477200@f2f.org
SUMMARY:Guerneville Plaza Outreach
DESCRIPTION:Mobile van outreach at the Guerneville plaza under the walking bridge from 11:00 a.m. to 1:00 p.m.
URL:https://f2f.org/calendar-event/guerneville-plaza-outreach/2026-09-15/
LOCATION:Guerneville Downtown Plaza\, Guerneville\, CA\, 95446\, United States
CATEGORIES:Mobile Van
END:VEVENT
BEGIN:VEVENT
DTSTART;TZID=America/Los_Angeles:20260922T110000
DTEND;TZID=America/Los_Angeles:20260922T130000
DTSTAMP:20260420T124528
CREATED:20250422T192135Z
LAST-MODIFIED:20250711T161832Z
UID:10009921-1790074800-1790082000@f2f.org
SUMMARY:Guerneville Plaza Outreach
DESCRIPTION:Mobile van outreach at the Guerneville plaza under the walking bridge from 11:00 a.m. to 1:00 p.m.
URL:https://f2f.org/calendar-event/guerneville-plaza-outreach/2026-09-22/
LOCATION:Guerneville Downtown Plaza\, Guerneville\, CA\, 95446\, United States
CATEGORIES:Mobile Van
END:VEVENT
BEGIN:VEVENT
DTSTART;TZID=America/Los_Angeles:20260929T110000
DTEND;TZID=America/Los_Angeles:20260929T130000
DTSTAMP:20260420T124528
CREATED:20250422T192135Z
LAST-MODIFIED:20250711T161832Z
UID:10009922-1790679600-1790686800@f2f.org
SUMMARY:Guerneville Plaza Outreach
DESCRIPTION:Mobile van outreach at the Guerneville plaza under the walking bridge from 11:00 a.m. to 1:00 p.m.
URL:https://f2f.org/calendar-event/guerneville-plaza-outreach/2026-09-29/
LOCATION:Guerneville Downtown Plaza\, Guerneville\, CA\, 95446\, United States
CATEGORIES:Mobile Van
END:VEVENT
BEGIN:VEVENT
DTSTART;TZID=America/Los_Angeles:20261006T110000
DTEND;TZID=America/Los_Angeles:20261006T130000
DTSTAMP:20260420T124528
CREATED:20250422T192135Z
LAST-MODIFIED:20250711T161832Z
UID:10009923-1791284400-1791291600@f2f.org
SUMMARY:Guerneville Plaza Outreach
DESCRIPTION:Mobile van outreach at the Guerneville plaza under the walking bridge from 11:00 a.m. to 1:00 p.m.
URL:https://f2f.org/calendar-event/guerneville-plaza-outreach/2026-10-06/
LOCATION:Guerneville Downtown Plaza\, Guerneville\, CA\, 95446\, United States
CATEGORIES:Mobile Van
END:VEVENT
BEGIN:VEVENT
DTSTART;TZID=America/Los_Angeles:20261013T110000
DTEND;TZID=America/Los_Angeles:20261013T130000
DTSTAMP:20260420T124528
CREATED:20250422T192135Z
LAST-MODIFIED:20250711T161832Z
UID:10009924-1791889200-1791896400@f2f.org
SUMMARY:Guerneville Plaza Outreach
DESCRIPTION:Mobile van outreach at the Guerneville plaza under the walking bridge from 11:00 a.m. to 1:00 p.m.
URL:https://f2f.org/calendar-event/guerneville-plaza-outreach/2026-10-13/
LOCATION:Guerneville Downtown Plaza\, Guerneville\, CA\, 95446\, United States
CATEGORIES:Mobile Van
END:VEVENT
BEGIN:VEVENT
DTSTART;TZID=America/Los_Angeles:20261020T110000
DTEND;TZID=America/Los_Angeles:20261020T130000
DTSTAMP:20260420T124528
CREATED:20250422T192135Z
LAST-MODIFIED:20250711T161832Z
UID:10009925-1792494000-1792501200@f2f.org
SUMMARY:Guerneville Plaza Outreach
DESCRIPTION:Mobile van outreach at the Guerneville plaza under the walking bridge from 11:00 a.m. to 1:00 p.m.
URL:https://f2f.org/calendar-event/guerneville-plaza-outreach/2026-10-20/
LOCATION:Guerneville Downtown Plaza\, Guerneville\, CA\, 95446\, United States
CATEGORIES:Mobile Van
END:VEVENT
BEGIN:VEVENT
DTSTART;TZID=America/Los_Angeles:20261027T110000
DTEND;TZID=America/Los_Angeles:20261027T130000
DTSTAMP:20260420T124528
CREATED:20250422T192135Z
LAST-MODIFIED:20250711T161832Z
UID:10009926-1793098800-1793106000@f2f.org
SUMMARY:Guerneville Plaza Outreach
DESCRIPTION:Mobile van outreach at the Guerneville plaza under the walking bridge from 11:00 a.m. to 1:00 p.m.
URL:https://f2f.org/calendar-event/guerneville-plaza-outreach/2026-10-27/
LOCATION:Guerneville Downtown Plaza\, Guerneville\, CA\, 95446\, United States
CATEGORIES:Mobile Van
END:VEVENT
BEGIN:VEVENT
DTSTART;TZID=America/Los_Angeles:20261103T110000
DTEND;TZID=America/Los_Angeles:20261103T130000
DTSTAMP:20260420T124528
CREATED:20250422T192135Z
LAST-MODIFIED:20250711T161832Z
UID:10009927-1793703600-1793710800@f2f.org
SUMMARY:Guerneville Plaza Outreach
DESCRIPTION:Mobile van outreach at the Guerneville plaza under the walking bridge from 11:00 a.m. to 1:00 p.m.
URL:https://f2f.org/calendar-event/guerneville-plaza-outreach/2026-11-03/
LOCATION:Guerneville Downtown Plaza\, Guerneville\, CA\, 95446\, United States
CATEGORIES:Mobile Van
END:VEVENT
BEGIN:VEVENT
DTSTART;TZID=America/Los_Angeles:20261110T110000
DTEND;TZID=America/Los_Angeles:20261110T130000
DTSTAMP:20260420T124528
CREATED:20250422T192135Z
LAST-MODIFIED:20250711T161832Z
UID:10009928-1794308400-1794315600@f2f.org
SUMMARY:Guerneville Plaza Outreach
DESCRIPTION:Mobile van outreach at the Guerneville plaza under the walking bridge from 11:00 a.m. to 1:00 p.m.
URL:https://f2f.org/calendar-event/guerneville-plaza-outreach/2026-11-10/
LOCATION:Guerneville Downtown Plaza\, Guerneville\, CA\, 95446\, United States
CATEGORIES:Mobile Van
END:VEVENT
END:VCALENDAR