BEGIN:VCALENDAR
VERSION:2.0
PRODID:-//Face to Face | Sonoma County - ECPv6.15.20//NONSGML v1.0//EN
CALSCALE:GREGORIAN
METHOD:PUBLISH
X-ORIGINAL-URL:https://f2f.org
X-WR-CALDESC:Events for Face to Face | Sonoma County
REFRESH-INTERVAL;VALUE=DURATION:PT1H
X-Robots-Tag:noindex
X-PUBLISHED-TTL:PT1H
BEGIN:VTIMEZONE
TZID:America/Los_Angeles
BEGIN:DAYLIGHT
TZOFFSETFROM:-0800
TZOFFSETTO:-0700
TZNAME:PDT
DTSTART:20250309T100000
END:DAYLIGHT
BEGIN:STANDARD
TZOFFSETFROM:-0700
TZOFFSETTO:-0800
TZNAME:PST
DTSTART:20251102T090000
END:STANDARD
BEGIN:DAYLIGHT
TZOFFSETFROM:-0800
TZOFFSETTO:-0700
TZNAME:PDT
DTSTART:20260308T100000
END:DAYLIGHT
BEGIN:STANDARD
TZOFFSETFROM:-0700
TZOFFSETTO:-0800
TZNAME:PST
DTSTART:20261101T090000
END:STANDARD
BEGIN:DAYLIGHT
TZOFFSETFROM:-0800
TZOFFSETTO:-0700
TZNAME:PDT
DTSTART:20270314T100000
END:DAYLIGHT
BEGIN:STANDARD
TZOFFSETFROM:-0700
TZOFFSETTO:-0800
TZNAME:PST
DTSTART:20271107T090000
END:STANDARD
END:VTIMEZONE
BEGIN:VEVENT
DTSTART;TZID=America/Los_Angeles:20260505T110000
DTEND;TZID=America/Los_Angeles:20260505T130000
DTSTAMP:20260421T141344
CREATED:20250422T192135Z
LAST-MODIFIED:20250711T165243Z
UID:10010174-1777978800-1777986000@f2f.org
SUMMARY:Alcance de la Plaza Guerneville
DESCRIPTION:Furgoneta móvil de divulgación en la plaza de Guerneville\, bajo el puente peatonal\, de 11.00 a 13.00 h.
URL:https://f2f.org/calendar-event/alcance-de-la-plaza-guerneville/2026-05-05/
LOCATION:Guerneville Downtown Plaza\, Guerneville\, CA\, 95446\, United States
CATEGORIES:Furgoneta móvil
END:VEVENT
BEGIN:VEVENT
DTSTART;TZID=America/Los_Angeles:20260505T133000
DTEND;TZID=America/Los_Angeles:20260505T143000
DTSTAMP:20260421T141344
CREATED:20250711T154315Z
LAST-MODIFIED:20250711T165251Z
UID:10012057-1777987800-1777991400@f2f.org
SUMMARY:Joe Rodota Trail Outreach
DESCRIPTION:Difusión con furgoneta móvil en el Joe Rodota Trail\, cerca de Foodmaxx\, de 13.30 a 14.30 h\, en 2055 Sebastopol Road\, Santa Rosa.
URL:https://f2f.org/calendar-event/joe-rodota-trail-outreach/2026-05-05/
LOCATION:Joe Rodota Trail Near Foodmaxx\, 2055 Sebastopol Rd\, Santa Rosa\, CA\, 95407\, United States
CATEGORIES:Furgoneta móvil
END:VEVENT
BEGIN:VEVENT
DTSTART;TZID=America/Los_Angeles:20260505T150000
DTEND;TZID=America/Los_Angeles:20260505T160000
DTSTAMP:20260421T141344
CREATED:20250422T191949Z
LAST-MODIFIED:20250711T165241Z
UID:10009627-1777993200-1777996800@f2f.org
SUMMARY:Alcance del Puente de la Calle 6
DESCRIPTION:Alcance de la furgoneta móvil bajo el puente de la autopista\, en el 217 de la calle 6\, Santa Rosa\, de 15.00 a 16.00 h.
URL:https://f2f.org/calendar-event/alcance-del-puente-de-la-calle-6/2026-05-05/
LOCATION:6th Street\, 217 6th Street\, Santa Rosa\, CA\, 95404\, United States
CATEGORIES:Furgoneta móvil
END:VEVENT
BEGIN:VEVENT
DTSTART;TZID=America/Los_Angeles:20260506T113000
DTEND;TZID=America/Los_Angeles:20260506T123000
DTSTAMP:20260421T141344
CREATED:20250711T155317Z
LAST-MODIFIED:20250711T165248Z
UID:10011534-1778067000-1778070600@f2f.org
SUMMARY:Extensión del Camino de Montero
DESCRIPTION:Campaña de divulgación con furgoneta móvil en Montero Way\, Petaluma\, de 11.30 a 12.30 h.
URL:https://f2f.org/calendar-event/extension-del-camino-de-montero/2026-05-06/
LOCATION:Montero Way\, Montero Way\, Petaluma\, CA\, 94954\, United States
CATEGORIES:Furgoneta móvil
END:VEVENT
BEGIN:VEVENT
DTSTART;TZID=America/Los_Angeles:20260506T124500
DTEND;TZID=America/Los_Angeles:20260506T134500
DTSTAMP:20260421T141344
CREATED:20250422T192846Z
LAST-MODIFIED:20250711T165241Z
UID:10010720-1778071500-1778075100@f2f.org
SUMMARY:Alcance de la Avenida Robles Este
DESCRIPTION:Alcance de la furgoneta móvil de 12:45 a 13:45 en 236 East Robles Ave\, Santa Rosa\nPor Avenue Car Wash
URL:https://f2f.org/calendar-event/alcance-de-la-avenida-robles-este/2026-05-06/
LOCATION:East Robles Avenue\, 236 East Robles Ave\, Santa Rosa\, CA\, 95407\, United States
CATEGORIES:Furgoneta móvil
END:VEVENT
BEGIN:VEVENT
DTSTART;TZID=America/Los_Angeles:20260506T130000
DTEND;TZID=America/Los_Angeles:20260506T140000
DTSTAMP:20260421T141344
CREATED:20251202T234319Z
LAST-MODIFIED:20251202T234319Z
UID:10014331-1778072400-1778076000@f2f.org
SUMMARY:St. Vincent De Paul Commons Outreach
DESCRIPTION:Alcance de la furgoneta móvil de 13:00 a 14:00 en 2400 Mendocino Ave\, Santa Rosa\, CA 95403
URL:https://f2f.org/calendar-event/st-vincent-de-paul-commons-outreach/2026-05-06/
LOCATION:St. Vincent de Paul Commons\, 2400 Mendocino Ave\, Santa Rosa\, 95403\, United States
CATEGORIES:Furgoneta móvil
END:VEVENT
BEGIN:VEVENT
DTSTART;TZID=America/Los_Angeles:20260506T140000
DTEND;TZID=America/Los_Angeles:20260506T150000
DTSTAMP:20260421T141344
CREATED:20250711T155832Z
LAST-MODIFIED:20250711T165249Z
UID:10011796-1778076000-1778079600@f2f.org
SUMMARY:Alcance de la Avenida Finley
DESCRIPTION:Campaña de divulgación con furgoneta móvil en Finley Avenue\, cerca de Sam Jones Hall\, de 14:00 a 15:00 h.
URL:https://f2f.org/calendar-event/alcance-de-la-avenida-finley/2026-05-06/
LOCATION:Finley Avenue\, 4020 Finley Ave\, Santa Rosa\, CA\, 95407\, United States
CATEGORIES:Furgoneta móvil
END:VEVENT
BEGIN:VEVENT
DTSTART;TZID=America/Los_Angeles:20260507T103000
DTEND;TZID=America/Los_Angeles:20260507T113000
DTSTAMP:20260421T141344
CREATED:20251120T174601Z
LAST-MODIFIED:20251120T174601Z
UID:10013500-1778149800-1778153400@f2f.org
SUMMARY:Alcance del Programa de Tratamiento de Santa Rosa
DESCRIPTION:Alcance de la furgoneta móvil en el Programa de Tratamiento de Santa Rosa de 9:00 a.m. a 11:00 a.m. en 625 Steele Lane\, Santa Rosa
URL:https://f2f.org/calendar-event/alcance-del-programa-de-tratamiento-de-santa-rosa-3/2026-05-07/
LOCATION:SRTP\, 625 Steele Ln\, Santa Rosa\, CA\, 95403\, United States
CATEGORIES:Furgoneta móvil
END:VEVENT
BEGIN:VEVENT
DTSTART;TZID=America/Los_Angeles:20260507T103000
DTEND;TZID=America/Los_Angeles:20260507T113000
DTSTAMP:20260421T141344
CREATED:20251120T175527Z
LAST-MODIFIED:20251202T234415Z
UID:10013812-1778149800-1778153400@f2f.org
SUMMARY:Alcance del Programa de Tratamiento de Santa Rosa
DESCRIPTION:Alcance de la furgoneta móvil en el Programa de Tratamiento de Santa Rosa de 9:00 a.m. a 11:00 a.m. en 625 Steele Lane\, Santa Rosa
URL:https://f2f.org/calendar-event/alcance-del-programa-de-tratamiento-de-santa-rosa-4/2026-05-07/
LOCATION:SRTP\, 625 Steele Ln\, Santa Rosa\, CA\, 95403\, United States
CATEGORIES:Furgoneta móvil
END:VEVENT
BEGIN:VEVENT
DTSTART;TZID=America/Los_Angeles:20260507T120000
DTEND;TZID=America/Los_Angeles:20260507T133000
DTSTAMP:20260421T141344
CREATED:20250711T162036Z
LAST-MODIFIED:20250711T165250Z
UID:10012715-1778155200-1778160600@f2f.org
SUMMARY:Labath Landing Outreach
DESCRIPTION:Alcance de la furgoneta móvil en Labath Landing de 12:00 a 13:30.
URL:https://f2f.org/calendar-event/labath-landing-outreach/2026-05-07/
LOCATION:Labath Landing\, 6050 Labath Avenue\, Rohnert Park\, CA\, 94928\, United States
CATEGORIES:Furgoneta móvil
END:VEVENT
BEGIN:VEVENT
DTSTART;TZID=America/Los_Angeles:20260512T110000
DTEND;TZID=America/Los_Angeles:20260512T130000
DTSTAMP:20260421T141344
CREATED:20250422T192135Z
LAST-MODIFIED:20250711T165243Z
UID:10010175-1778583600-1778590800@f2f.org
SUMMARY:Alcance de la Plaza Guerneville
DESCRIPTION:Furgoneta móvil de divulgación en la plaza de Guerneville\, bajo el puente peatonal\, de 11.00 a 13.00 h.
URL:https://f2f.org/calendar-event/alcance-de-la-plaza-guerneville/2026-05-12/
LOCATION:Guerneville Downtown Plaza\, Guerneville\, CA\, 95446\, United States
CATEGORIES:Furgoneta móvil
END:VEVENT
BEGIN:VEVENT
DTSTART;TZID=America/Los_Angeles:20260512T133000
DTEND;TZID=America/Los_Angeles:20260512T143000
DTSTAMP:20260421T141344
CREATED:20250711T154315Z
LAST-MODIFIED:20250711T165251Z
UID:10012058-1778592600-1778596200@f2f.org
SUMMARY:Joe Rodota Trail Outreach
DESCRIPTION:Difusión con furgoneta móvil en el Joe Rodota Trail\, cerca de Foodmaxx\, de 13.30 a 14.30 h\, en 2055 Sebastopol Road\, Santa Rosa.
URL:https://f2f.org/calendar-event/joe-rodota-trail-outreach/2026-05-12/
LOCATION:Joe Rodota Trail Near Foodmaxx\, 2055 Sebastopol Rd\, Santa Rosa\, CA\, 95407\, United States
CATEGORIES:Furgoneta móvil
END:VEVENT
BEGIN:VEVENT
DTSTART;TZID=America/Los_Angeles:20260512T150000
DTEND;TZID=America/Los_Angeles:20260512T160000
DTSTAMP:20260421T141344
CREATED:20250422T191949Z
LAST-MODIFIED:20250711T165241Z
UID:10009628-1778598000-1778601600@f2f.org
SUMMARY:Alcance del Puente de la Calle 6
DESCRIPTION:Alcance de la furgoneta móvil bajo el puente de la autopista\, en el 217 de la calle 6\, Santa Rosa\, de 15.00 a 16.00 h.
URL:https://f2f.org/calendar-event/alcance-del-puente-de-la-calle-6/2026-05-12/
LOCATION:6th Street\, 217 6th Street\, Santa Rosa\, CA\, 95404\, United States
CATEGORIES:Furgoneta móvil
END:VEVENT
BEGIN:VEVENT
DTSTART;TZID=America/Los_Angeles:20260513T113000
DTEND;TZID=America/Los_Angeles:20260513T123000
DTSTAMP:20260421T141344
CREATED:20250711T155317Z
LAST-MODIFIED:20250711T165248Z
UID:10011535-1778671800-1778675400@f2f.org
SUMMARY:Extensión del Camino de Montero
DESCRIPTION:Campaña de divulgación con furgoneta móvil en Montero Way\, Petaluma\, de 11.30 a 12.30 h.
URL:https://f2f.org/calendar-event/extension-del-camino-de-montero/2026-05-13/
LOCATION:Montero Way\, Montero Way\, Petaluma\, CA\, 94954\, United States
CATEGORIES:Furgoneta móvil
END:VEVENT
BEGIN:VEVENT
DTSTART;TZID=America/Los_Angeles:20260513T124500
DTEND;TZID=America/Los_Angeles:20260513T134500
DTSTAMP:20260421T141344
CREATED:20250422T192846Z
LAST-MODIFIED:20250711T165241Z
UID:10010721-1778676300-1778679900@f2f.org
SUMMARY:Alcance de la Avenida Robles Este
DESCRIPTION:Alcance de la furgoneta móvil de 12:45 a 13:45 en 236 East Robles Ave\, Santa Rosa\nPor Avenue Car Wash
URL:https://f2f.org/calendar-event/alcance-de-la-avenida-robles-este/2026-05-13/
LOCATION:East Robles Avenue\, 236 East Robles Ave\, Santa Rosa\, CA\, 95407\, United States
CATEGORIES:Furgoneta móvil
END:VEVENT
BEGIN:VEVENT
DTSTART;TZID=America/Los_Angeles:20260513T130000
DTEND;TZID=America/Los_Angeles:20260513T140000
DTSTAMP:20260421T141344
CREATED:20251202T234319Z
LAST-MODIFIED:20251202T234319Z
UID:10014332-1778677200-1778680800@f2f.org
SUMMARY:St. Vincent De Paul Commons Outreach
DESCRIPTION:Alcance de la furgoneta móvil de 13:00 a 14:00 en 2400 Mendocino Ave\, Santa Rosa\, CA 95403
URL:https://f2f.org/calendar-event/st-vincent-de-paul-commons-outreach/2026-05-13/
LOCATION:St. Vincent de Paul Commons\, 2400 Mendocino Ave\, Santa Rosa\, 95403\, United States
CATEGORIES:Furgoneta móvil
END:VEVENT
BEGIN:VEVENT
DTSTART;TZID=America/Los_Angeles:20260513T140000
DTEND;TZID=America/Los_Angeles:20260513T150000
DTSTAMP:20260421T141344
CREATED:20250711T155832Z
LAST-MODIFIED:20250711T165249Z
UID:10011797-1778680800-1778684400@f2f.org
SUMMARY:Alcance de la Avenida Finley
DESCRIPTION:Campaña de divulgación con furgoneta móvil en Finley Avenue\, cerca de Sam Jones Hall\, de 14:00 a 15:00 h.
URL:https://f2f.org/calendar-event/alcance-de-la-avenida-finley/2026-05-13/
LOCATION:Finley Avenue\, 4020 Finley Ave\, Santa Rosa\, CA\, 95407\, United States
CATEGORIES:Furgoneta móvil
END:VEVENT
BEGIN:VEVENT
DTSTART;TZID=America/Los_Angeles:20260514T103000
DTEND;TZID=America/Los_Angeles:20260514T113000
DTSTAMP:20260421T141344
CREATED:20251120T174601Z
LAST-MODIFIED:20251120T174601Z
UID:10013501-1778754600-1778758200@f2f.org
SUMMARY:Alcance del Programa de Tratamiento de Santa Rosa
DESCRIPTION:Alcance de la furgoneta móvil en el Programa de Tratamiento de Santa Rosa de 9:00 a.m. a 11:00 a.m. en 625 Steele Lane\, Santa Rosa
URL:https://f2f.org/calendar-event/alcance-del-programa-de-tratamiento-de-santa-rosa-3/2026-05-14/
LOCATION:SRTP\, 625 Steele Ln\, Santa Rosa\, CA\, 95403\, United States
CATEGORIES:Furgoneta móvil
END:VEVENT
BEGIN:VEVENT
DTSTART;TZID=America/Los_Angeles:20260514T103000
DTEND;TZID=America/Los_Angeles:20260514T113000
DTSTAMP:20260421T141344
CREATED:20251120T175527Z
LAST-MODIFIED:20251202T234415Z
UID:10013813-1778754600-1778758200@f2f.org
SUMMARY:Alcance del Programa de Tratamiento de Santa Rosa
DESCRIPTION:Alcance de la furgoneta móvil en el Programa de Tratamiento de Santa Rosa de 9:00 a.m. a 11:00 a.m. en 625 Steele Lane\, Santa Rosa
URL:https://f2f.org/calendar-event/alcance-del-programa-de-tratamiento-de-santa-rosa-4/2026-05-14/
LOCATION:SRTP\, 625 Steele Ln\, Santa Rosa\, CA\, 95403\, United States
CATEGORIES:Furgoneta móvil
END:VEVENT
BEGIN:VEVENT
DTSTART;TZID=America/Los_Angeles:20260514T120000
DTEND;TZID=America/Los_Angeles:20260514T133000
DTSTAMP:20260421T141344
CREATED:20250711T162036Z
LAST-MODIFIED:20250711T165250Z
UID:10012716-1778760000-1778765400@f2f.org
SUMMARY:Labath Landing Outreach
DESCRIPTION:Alcance de la furgoneta móvil en Labath Landing de 12:00 a 13:30.
URL:https://f2f.org/calendar-event/labath-landing-outreach/2026-05-14/
LOCATION:Labath Landing\, 6050 Labath Avenue\, Rohnert Park\, CA\, 94928\, United States
CATEGORIES:Furgoneta móvil
END:VEVENT
BEGIN:VEVENT
DTSTART;TZID=America/Los_Angeles:20260514T130000
DTEND;TZID=America/Los_Angeles:20260514T150000
DTSTAMP:20260421T141344
CREATED:20250925T190451Z
LAST-MODIFIED:20250925T190451Z
UID:10013128-1778763600-1778770800@f2f.org
SUMMARY:Divulgación en los Dormitorios del Santa Rosa Junior College
DESCRIPTION:Alcance de la furgoneta móvil en los dormitorios del Santa Rosa Junior College de 13:00 a 15:00 en Polly O’Meara Doyle Hall 1950 Armory Drive\, Santa Rosa
URL:https://f2f.org/calendar-event/divulgacion-en-los-dormitorios-del-santa-rosa-junior-college-3/2026-05-14/
LOCATION:SRJC Dorms\, 1950 Armory Drive\, Santa Rosa\, CA\, 95401\, United States
CATEGORIES:Furgoneta móvil
END:VEVENT
BEGIN:VEVENT
DTSTART;TZID=America/Los_Angeles:20260519T110000
DTEND;TZID=America/Los_Angeles:20260519T130000
DTSTAMP:20260421T141344
CREATED:20250422T192135Z
LAST-MODIFIED:20250711T165243Z
UID:10010176-1779188400-1779195600@f2f.org
SUMMARY:Alcance de la Plaza Guerneville
DESCRIPTION:Furgoneta móvil de divulgación en la plaza de Guerneville\, bajo el puente peatonal\, de 11.00 a 13.00 h.
URL:https://f2f.org/calendar-event/alcance-de-la-plaza-guerneville/2026-05-19/
LOCATION:Guerneville Downtown Plaza\, Guerneville\, CA\, 95446\, United States
CATEGORIES:Furgoneta móvil
END:VEVENT
BEGIN:VEVENT
DTSTART;TZID=America/Los_Angeles:20260519T133000
DTEND;TZID=America/Los_Angeles:20260519T143000
DTSTAMP:20260421T141344
CREATED:20250711T154315Z
LAST-MODIFIED:20250711T165251Z
UID:10012059-1779197400-1779201000@f2f.org
SUMMARY:Joe Rodota Trail Outreach
DESCRIPTION:Difusión con furgoneta móvil en el Joe Rodota Trail\, cerca de Foodmaxx\, de 13.30 a 14.30 h\, en 2055 Sebastopol Road\, Santa Rosa.
URL:https://f2f.org/calendar-event/joe-rodota-trail-outreach/2026-05-19/
LOCATION:Joe Rodota Trail Near Foodmaxx\, 2055 Sebastopol Rd\, Santa Rosa\, CA\, 95407\, United States
CATEGORIES:Furgoneta móvil
END:VEVENT
BEGIN:VEVENT
DTSTART;TZID=America/Los_Angeles:20260519T150000
DTEND;TZID=America/Los_Angeles:20260519T160000
DTSTAMP:20260421T141344
CREATED:20250422T191949Z
LAST-MODIFIED:20250711T165241Z
UID:10009629-1779202800-1779206400@f2f.org
SUMMARY:Alcance del Puente de la Calle 6
DESCRIPTION:Alcance de la furgoneta móvil bajo el puente de la autopista\, en el 217 de la calle 6\, Santa Rosa\, de 15.00 a 16.00 h.
URL:https://f2f.org/calendar-event/alcance-del-puente-de-la-calle-6/2026-05-19/
LOCATION:6th Street\, 217 6th Street\, Santa Rosa\, CA\, 95404\, United States
CATEGORIES:Furgoneta móvil
END:VEVENT
BEGIN:VEVENT
DTSTART;TZID=America/Los_Angeles:20260520T113000
DTEND;TZID=America/Los_Angeles:20260520T123000
DTSTAMP:20260421T141344
CREATED:20250711T155317Z
LAST-MODIFIED:20250711T165248Z
UID:10011536-1779276600-1779280200@f2f.org
SUMMARY:Extensión del Camino de Montero
DESCRIPTION:Campaña de divulgación con furgoneta móvil en Montero Way\, Petaluma\, de 11.30 a 12.30 h.
URL:https://f2f.org/calendar-event/extension-del-camino-de-montero/2026-05-20/
LOCATION:Montero Way\, Montero Way\, Petaluma\, CA\, 94954\, United States
CATEGORIES:Furgoneta móvil
END:VEVENT
BEGIN:VEVENT
DTSTART;TZID=America/Los_Angeles:20260520T124500
DTEND;TZID=America/Los_Angeles:20260520T134500
DTSTAMP:20260421T141344
CREATED:20250422T192846Z
LAST-MODIFIED:20250711T165241Z
UID:10010722-1779281100-1779284700@f2f.org
SUMMARY:Alcance de la Avenida Robles Este
DESCRIPTION:Alcance de la furgoneta móvil de 12:45 a 13:45 en 236 East Robles Ave\, Santa Rosa\nPor Avenue Car Wash
URL:https://f2f.org/calendar-event/alcance-de-la-avenida-robles-este/2026-05-20/
LOCATION:East Robles Avenue\, 236 East Robles Ave\, Santa Rosa\, CA\, 95407\, United States
CATEGORIES:Furgoneta móvil
END:VEVENT
BEGIN:VEVENT
DTSTART;TZID=America/Los_Angeles:20260520T130000
DTEND;TZID=America/Los_Angeles:20260520T140000
DTSTAMP:20260421T141344
CREATED:20251202T234319Z
LAST-MODIFIED:20251202T234319Z
UID:10014333-1779282000-1779285600@f2f.org
SUMMARY:St. Vincent De Paul Commons Outreach
DESCRIPTION:Alcance de la furgoneta móvil de 13:00 a 14:00 en 2400 Mendocino Ave\, Santa Rosa\, CA 95403
URL:https://f2f.org/calendar-event/st-vincent-de-paul-commons-outreach/2026-05-20/
LOCATION:St. Vincent de Paul Commons\, 2400 Mendocino Ave\, Santa Rosa\, 95403\, United States
CATEGORIES:Furgoneta móvil
END:VEVENT
BEGIN:VEVENT
DTSTART;TZID=America/Los_Angeles:20260520T140000
DTEND;TZID=America/Los_Angeles:20260520T150000
DTSTAMP:20260421T141344
CREATED:20250711T155832Z
LAST-MODIFIED:20250711T165249Z
UID:10011798-1779285600-1779289200@f2f.org
SUMMARY:Alcance de la Avenida Finley
DESCRIPTION:Campaña de divulgación con furgoneta móvil en Finley Avenue\, cerca de Sam Jones Hall\, de 14:00 a 15:00 h.
URL:https://f2f.org/calendar-event/alcance-de-la-avenida-finley/2026-05-20/
LOCATION:Finley Avenue\, 4020 Finley Ave\, Santa Rosa\, CA\, 95407\, United States
CATEGORIES:Furgoneta móvil
END:VEVENT
BEGIN:VEVENT
DTSTART;TZID=America/Los_Angeles:20260521T103000
DTEND;TZID=America/Los_Angeles:20260521T113000
DTSTAMP:20260421T141344
CREATED:20251120T174601Z
LAST-MODIFIED:20251120T174601Z
UID:10013502-1779359400-1779363000@f2f.org
SUMMARY:Alcance del Programa de Tratamiento de Santa Rosa
DESCRIPTION:Alcance de la furgoneta móvil en el Programa de Tratamiento de Santa Rosa de 9:00 a.m. a 11:00 a.m. en 625 Steele Lane\, Santa Rosa
URL:https://f2f.org/calendar-event/alcance-del-programa-de-tratamiento-de-santa-rosa-3/2026-05-21/
LOCATION:SRTP\, 625 Steele Ln\, Santa Rosa\, CA\, 95403\, United States
CATEGORIES:Furgoneta móvil
END:VEVENT
BEGIN:VEVENT
DTSTART;TZID=America/Los_Angeles:20260521T103000
DTEND;TZID=America/Los_Angeles:20260521T113000
DTSTAMP:20260421T141344
CREATED:20251120T175527Z
LAST-MODIFIED:20251202T234415Z
UID:10013814-1779359400-1779363000@f2f.org
SUMMARY:Alcance del Programa de Tratamiento de Santa Rosa
DESCRIPTION:Alcance de la furgoneta móvil en el Programa de Tratamiento de Santa Rosa de 9:00 a.m. a 11:00 a.m. en 625 Steele Lane\, Santa Rosa
URL:https://f2f.org/calendar-event/alcance-del-programa-de-tratamiento-de-santa-rosa-4/2026-05-21/
LOCATION:SRTP\, 625 Steele Ln\, Santa Rosa\, CA\, 95403\, United States
CATEGORIES:Furgoneta móvil
END:VEVENT
END:VCALENDAR