BEGIN:VCALENDAR
VERSION:2.0
PRODID:-//Face to Face | Sonoma County - ECPv6.15.20//NONSGML v1.0//EN
CALSCALE:GREGORIAN
METHOD:PUBLISH
X-ORIGINAL-URL:https://f2f.org
X-WR-CALDESC:Events for Face to Face | Sonoma County
REFRESH-INTERVAL;VALUE=DURATION:PT1H
X-Robots-Tag:noindex
X-PUBLISHED-TTL:PT1H
BEGIN:VTIMEZONE
TZID:America/Los_Angeles
BEGIN:DAYLIGHT
TZOFFSETFROM:-0800
TZOFFSETTO:-0700
TZNAME:PDT
DTSTART:20250309T100000
END:DAYLIGHT
BEGIN:STANDARD
TZOFFSETFROM:-0700
TZOFFSETTO:-0800
TZNAME:PST
DTSTART:20251102T090000
END:STANDARD
BEGIN:DAYLIGHT
TZOFFSETFROM:-0800
TZOFFSETTO:-0700
TZNAME:PDT
DTSTART:20260308T100000
END:DAYLIGHT
BEGIN:STANDARD
TZOFFSETFROM:-0700
TZOFFSETTO:-0800
TZNAME:PST
DTSTART:20261101T090000
END:STANDARD
BEGIN:DAYLIGHT
TZOFFSETFROM:-0800
TZOFFSETTO:-0700
TZNAME:PDT
DTSTART:20270314T100000
END:DAYLIGHT
BEGIN:STANDARD
TZOFFSETFROM:-0700
TZOFFSETTO:-0800
TZNAME:PST
DTSTART:20271107T090000
END:STANDARD
END:VTIMEZONE
BEGIN:VEVENT
DTSTART;TZID=America/Los_Angeles:20260602T110000
DTEND;TZID=America/Los_Angeles:20260602T130000
DTSTAMP:20260421T153445
CREATED:20250422T192135Z
LAST-MODIFIED:20250711T165243Z
UID:10010178-1780398000-1780405200@f2f.org
SUMMARY:Alcance de la Plaza Guerneville
DESCRIPTION:Furgoneta móvil de divulgación en la plaza de Guerneville\, bajo el puente peatonal\, de 11.00 a 13.00 h.
URL:https://f2f.org/calendar-event/alcance-de-la-plaza-guerneville/2026-06-02/
LOCATION:Guerneville Downtown Plaza\, Guerneville\, CA\, 95446\, United States
CATEGORIES:Furgoneta móvil
END:VEVENT
BEGIN:VEVENT
DTSTART;TZID=America/Los_Angeles:20260602T133000
DTEND;TZID=America/Los_Angeles:20260602T143000
DTSTAMP:20260421T153445
CREATED:20250711T154315Z
LAST-MODIFIED:20250711T165251Z
UID:10012061-1780407000-1780410600@f2f.org
SUMMARY:Joe Rodota Trail Outreach
DESCRIPTION:Difusión con furgoneta móvil en el Joe Rodota Trail\, cerca de Foodmaxx\, de 13.30 a 14.30 h\, en 2055 Sebastopol Road\, Santa Rosa.
URL:https://f2f.org/calendar-event/joe-rodota-trail-outreach/2026-06-02/
LOCATION:Joe Rodota Trail Near Foodmaxx\, 2055 Sebastopol Rd\, Santa Rosa\, CA\, 95407\, United States
CATEGORIES:Furgoneta móvil
END:VEVENT
BEGIN:VEVENT
DTSTART;TZID=America/Los_Angeles:20260602T150000
DTEND;TZID=America/Los_Angeles:20260602T160000
DTSTAMP:20260421T153445
CREATED:20250422T191949Z
LAST-MODIFIED:20250711T165241Z
UID:10009631-1780412400-1780416000@f2f.org
SUMMARY:Alcance del Puente de la Calle 6
DESCRIPTION:Alcance de la furgoneta móvil bajo el puente de la autopista\, en el 217 de la calle 6\, Santa Rosa\, de 15.00 a 16.00 h.
URL:https://f2f.org/calendar-event/alcance-del-puente-de-la-calle-6/2026-06-02/
LOCATION:6th Street\, 217 6th Street\, Santa Rosa\, CA\, 95404\, United States
CATEGORIES:Furgoneta móvil
END:VEVENT
BEGIN:VEVENT
DTSTART;TZID=America/Los_Angeles:20260603T113000
DTEND;TZID=America/Los_Angeles:20260603T123000
DTSTAMP:20260421T153445
CREATED:20250711T155317Z
LAST-MODIFIED:20250711T165248Z
UID:10011538-1780486200-1780489800@f2f.org
SUMMARY:Extensión del Camino de Montero
DESCRIPTION:Campaña de divulgación con furgoneta móvil en Montero Way\, Petaluma\, de 11.30 a 12.30 h.
URL:https://f2f.org/calendar-event/extension-del-camino-de-montero/2026-06-03/
LOCATION:Montero Way\, Montero Way\, Petaluma\, CA\, 94954\, United States
CATEGORIES:Furgoneta móvil
END:VEVENT
BEGIN:VEVENT
DTSTART;TZID=America/Los_Angeles:20260603T124500
DTEND;TZID=America/Los_Angeles:20260603T134500
DTSTAMP:20260421T153445
CREATED:20250422T192846Z
LAST-MODIFIED:20250711T165241Z
UID:10010724-1780490700-1780494300@f2f.org
SUMMARY:Alcance de la Avenida Robles Este
DESCRIPTION:Alcance de la furgoneta móvil de 12:45 a 13:45 en 236 East Robles Ave\, Santa Rosa\nPor Avenue Car Wash
URL:https://f2f.org/calendar-event/alcance-de-la-avenida-robles-este/2026-06-03/
LOCATION:East Robles Avenue\, 236 East Robles Ave\, Santa Rosa\, CA\, 95407\, United States
CATEGORIES:Furgoneta móvil
END:VEVENT
BEGIN:VEVENT
DTSTART;TZID=America/Los_Angeles:20260603T130000
DTEND;TZID=America/Los_Angeles:20260603T140000
DTSTAMP:20260421T153445
CREATED:20251202T234319Z
LAST-MODIFIED:20251202T234319Z
UID:10014335-1780491600-1780495200@f2f.org
SUMMARY:St. Vincent De Paul Commons Outreach
DESCRIPTION:Alcance de la furgoneta móvil de 13:00 a 14:00 en 2400 Mendocino Ave\, Santa Rosa\, CA 95403
URL:https://f2f.org/calendar-event/st-vincent-de-paul-commons-outreach/2026-06-03/
LOCATION:St. Vincent de Paul Commons\, 2400 Mendocino Ave\, Santa Rosa\, 95403\, United States
CATEGORIES:Furgoneta móvil
END:VEVENT
BEGIN:VEVENT
DTSTART;TZID=America/Los_Angeles:20260603T140000
DTEND;TZID=America/Los_Angeles:20260603T150000
DTSTAMP:20260421T153445
CREATED:20250711T155832Z
LAST-MODIFIED:20250711T165249Z
UID:10011800-1780495200-1780498800@f2f.org
SUMMARY:Alcance de la Avenida Finley
DESCRIPTION:Campaña de divulgación con furgoneta móvil en Finley Avenue\, cerca de Sam Jones Hall\, de 14:00 a 15:00 h.
URL:https://f2f.org/calendar-event/alcance-de-la-avenida-finley/2026-06-03/
LOCATION:Finley Avenue\, 4020 Finley Ave\, Santa Rosa\, CA\, 95407\, United States
CATEGORIES:Furgoneta móvil
END:VEVENT
BEGIN:VEVENT
DTSTART;TZID=America/Los_Angeles:20260604T103000
DTEND;TZID=America/Los_Angeles:20260604T113000
DTSTAMP:20260421T153445
CREATED:20251120T174601Z
LAST-MODIFIED:20251120T174601Z
UID:10013504-1780569000-1780572600@f2f.org
SUMMARY:Alcance del Programa de Tratamiento de Santa Rosa
DESCRIPTION:Alcance de la furgoneta móvil en el Programa de Tratamiento de Santa Rosa de 9:00 a.m. a 11:00 a.m. en 625 Steele Lane\, Santa Rosa
URL:https://f2f.org/calendar-event/alcance-del-programa-de-tratamiento-de-santa-rosa-3/2026-06-04/
LOCATION:SRTP\, 625 Steele Ln\, Santa Rosa\, CA\, 95403\, United States
CATEGORIES:Furgoneta móvil
END:VEVENT
BEGIN:VEVENT
DTSTART;TZID=America/Los_Angeles:20260604T103000
DTEND;TZID=America/Los_Angeles:20260604T113000
DTSTAMP:20260421T153445
CREATED:20251120T175527Z
LAST-MODIFIED:20251202T234415Z
UID:10013816-1780569000-1780572600@f2f.org
SUMMARY:Alcance del Programa de Tratamiento de Santa Rosa
DESCRIPTION:Alcance de la furgoneta móvil en el Programa de Tratamiento de Santa Rosa de 9:00 a.m. a 11:00 a.m. en 625 Steele Lane\, Santa Rosa
URL:https://f2f.org/calendar-event/alcance-del-programa-de-tratamiento-de-santa-rosa-4/2026-06-04/
LOCATION:SRTP\, 625 Steele Ln\, Santa Rosa\, CA\, 95403\, United States
CATEGORIES:Furgoneta móvil
END:VEVENT
BEGIN:VEVENT
DTSTART;TZID=America/Los_Angeles:20260604T120000
DTEND;TZID=America/Los_Angeles:20260604T133000
DTSTAMP:20260421T153445
CREATED:20250711T162036Z
LAST-MODIFIED:20250711T165250Z
UID:10012719-1780574400-1780579800@f2f.org
SUMMARY:Labath Landing Outreach
DESCRIPTION:Alcance de la furgoneta móvil en Labath Landing de 12:00 a 13:30.
URL:https://f2f.org/calendar-event/labath-landing-outreach/2026-06-04/
LOCATION:Labath Landing\, 6050 Labath Avenue\, Rohnert Park\, CA\, 94928\, United States
CATEGORIES:Furgoneta móvil
END:VEVENT
BEGIN:VEVENT
DTSTART;TZID=America/Los_Angeles:20260609T110000
DTEND;TZID=America/Los_Angeles:20260609T130000
DTSTAMP:20260421T153445
CREATED:20250422T192135Z
LAST-MODIFIED:20250711T165243Z
UID:10010179-1781002800-1781010000@f2f.org
SUMMARY:Alcance de la Plaza Guerneville
DESCRIPTION:Furgoneta móvil de divulgación en la plaza de Guerneville\, bajo el puente peatonal\, de 11.00 a 13.00 h.
URL:https://f2f.org/calendar-event/alcance-de-la-plaza-guerneville/2026-06-09/
LOCATION:Guerneville Downtown Plaza\, Guerneville\, CA\, 95446\, United States
CATEGORIES:Furgoneta móvil
END:VEVENT
BEGIN:VEVENT
DTSTART;TZID=America/Los_Angeles:20260609T133000
DTEND;TZID=America/Los_Angeles:20260609T143000
DTSTAMP:20260421T153445
CREATED:20250711T154315Z
LAST-MODIFIED:20250711T165251Z
UID:10012062-1781011800-1781015400@f2f.org
SUMMARY:Joe Rodota Trail Outreach
DESCRIPTION:Difusión con furgoneta móvil en el Joe Rodota Trail\, cerca de Foodmaxx\, de 13.30 a 14.30 h\, en 2055 Sebastopol Road\, Santa Rosa.
URL:https://f2f.org/calendar-event/joe-rodota-trail-outreach/2026-06-09/
LOCATION:Joe Rodota Trail Near Foodmaxx\, 2055 Sebastopol Rd\, Santa Rosa\, CA\, 95407\, United States
CATEGORIES:Furgoneta móvil
END:VEVENT
BEGIN:VEVENT
DTSTART;TZID=America/Los_Angeles:20260609T150000
DTEND;TZID=America/Los_Angeles:20260609T160000
DTSTAMP:20260421T153445
CREATED:20250422T191949Z
LAST-MODIFIED:20250711T165241Z
UID:10009632-1781017200-1781020800@f2f.org
SUMMARY:Alcance del Puente de la Calle 6
DESCRIPTION:Alcance de la furgoneta móvil bajo el puente de la autopista\, en el 217 de la calle 6\, Santa Rosa\, de 15.00 a 16.00 h.
URL:https://f2f.org/calendar-event/alcance-del-puente-de-la-calle-6/2026-06-09/
LOCATION:6th Street\, 217 6th Street\, Santa Rosa\, CA\, 95404\, United States
CATEGORIES:Furgoneta móvil
END:VEVENT
BEGIN:VEVENT
DTSTART;TZID=America/Los_Angeles:20260610T113000
DTEND;TZID=America/Los_Angeles:20260610T123000
DTSTAMP:20260421T153445
CREATED:20250711T155317Z
LAST-MODIFIED:20250711T165248Z
UID:10011539-1781091000-1781094600@f2f.org
SUMMARY:Extensión del Camino de Montero
DESCRIPTION:Campaña de divulgación con furgoneta móvil en Montero Way\, Petaluma\, de 11.30 a 12.30 h.
URL:https://f2f.org/calendar-event/extension-del-camino-de-montero/2026-06-10/
LOCATION:Montero Way\, Montero Way\, Petaluma\, CA\, 94954\, United States
CATEGORIES:Furgoneta móvil
END:VEVENT
BEGIN:VEVENT
DTSTART;TZID=America/Los_Angeles:20260610T124500
DTEND;TZID=America/Los_Angeles:20260610T134500
DTSTAMP:20260421T153445
CREATED:20250422T192846Z
LAST-MODIFIED:20250711T165241Z
UID:10010725-1781095500-1781099100@f2f.org
SUMMARY:Alcance de la Avenida Robles Este
DESCRIPTION:Alcance de la furgoneta móvil de 12:45 a 13:45 en 236 East Robles Ave\, Santa Rosa\nPor Avenue Car Wash
URL:https://f2f.org/calendar-event/alcance-de-la-avenida-robles-este/2026-06-10/
LOCATION:East Robles Avenue\, 236 East Robles Ave\, Santa Rosa\, CA\, 95407\, United States
CATEGORIES:Furgoneta móvil
END:VEVENT
BEGIN:VEVENT
DTSTART;TZID=America/Los_Angeles:20260610T130000
DTEND;TZID=America/Los_Angeles:20260610T140000
DTSTAMP:20260421T153445
CREATED:20251202T234319Z
LAST-MODIFIED:20251202T234319Z
UID:10014336-1781096400-1781100000@f2f.org
SUMMARY:St. Vincent De Paul Commons Outreach
DESCRIPTION:Alcance de la furgoneta móvil de 13:00 a 14:00 en 2400 Mendocino Ave\, Santa Rosa\, CA 95403
URL:https://f2f.org/calendar-event/st-vincent-de-paul-commons-outreach/2026-06-10/
LOCATION:St. Vincent de Paul Commons\, 2400 Mendocino Ave\, Santa Rosa\, 95403\, United States
CATEGORIES:Furgoneta móvil
END:VEVENT
BEGIN:VEVENT
DTSTART;TZID=America/Los_Angeles:20260610T140000
DTEND;TZID=America/Los_Angeles:20260610T150000
DTSTAMP:20260421T153445
CREATED:20250711T155832Z
LAST-MODIFIED:20250711T165249Z
UID:10011801-1781100000-1781103600@f2f.org
SUMMARY:Alcance de la Avenida Finley
DESCRIPTION:Campaña de divulgación con furgoneta móvil en Finley Avenue\, cerca de Sam Jones Hall\, de 14:00 a 15:00 h.
URL:https://f2f.org/calendar-event/alcance-de-la-avenida-finley/2026-06-10/
LOCATION:Finley Avenue\, 4020 Finley Ave\, Santa Rosa\, CA\, 95407\, United States
CATEGORIES:Furgoneta móvil
END:VEVENT
BEGIN:VEVENT
DTSTART;TZID=America/Los_Angeles:20260611T103000
DTEND;TZID=America/Los_Angeles:20260611T113000
DTSTAMP:20260421T153445
CREATED:20251120T174601Z
LAST-MODIFIED:20251120T174601Z
UID:10013505-1781173800-1781177400@f2f.org
SUMMARY:Alcance del Programa de Tratamiento de Santa Rosa
DESCRIPTION:Alcance de la furgoneta móvil en el Programa de Tratamiento de Santa Rosa de 9:00 a.m. a 11:00 a.m. en 625 Steele Lane\, Santa Rosa
URL:https://f2f.org/calendar-event/alcance-del-programa-de-tratamiento-de-santa-rosa-3/2026-06-11/
LOCATION:SRTP\, 625 Steele Ln\, Santa Rosa\, CA\, 95403\, United States
CATEGORIES:Furgoneta móvil
END:VEVENT
BEGIN:VEVENT
DTSTART;TZID=America/Los_Angeles:20260611T103000
DTEND;TZID=America/Los_Angeles:20260611T113000
DTSTAMP:20260421T153445
CREATED:20251120T175527Z
LAST-MODIFIED:20251202T234415Z
UID:10013817-1781173800-1781177400@f2f.org
SUMMARY:Alcance del Programa de Tratamiento de Santa Rosa
DESCRIPTION:Alcance de la furgoneta móvil en el Programa de Tratamiento de Santa Rosa de 9:00 a.m. a 11:00 a.m. en 625 Steele Lane\, Santa Rosa
URL:https://f2f.org/calendar-event/alcance-del-programa-de-tratamiento-de-santa-rosa-4/2026-06-11/
LOCATION:SRTP\, 625 Steele Ln\, Santa Rosa\, CA\, 95403\, United States
CATEGORIES:Furgoneta móvil
END:VEVENT
BEGIN:VEVENT
DTSTART;TZID=America/Los_Angeles:20260611T120000
DTEND;TZID=America/Los_Angeles:20260611T133000
DTSTAMP:20260421T153445
CREATED:20250711T162036Z
LAST-MODIFIED:20250711T165250Z
UID:10012720-1781179200-1781184600@f2f.org
SUMMARY:Labath Landing Outreach
DESCRIPTION:Alcance de la furgoneta móvil en Labath Landing de 12:00 a 13:30.
URL:https://f2f.org/calendar-event/labath-landing-outreach/2026-06-11/
LOCATION:Labath Landing\, 6050 Labath Avenue\, Rohnert Park\, CA\, 94928\, United States
CATEGORIES:Furgoneta móvil
END:VEVENT
BEGIN:VEVENT
DTSTART;TZID=America/Los_Angeles:20260611T130000
DTEND;TZID=America/Los_Angeles:20260611T150000
DTSTAMP:20260421T153445
CREATED:20250925T190451Z
LAST-MODIFIED:20250925T190451Z
UID:10013129-1781182800-1781190000@f2f.org
SUMMARY:Divulgación en los Dormitorios del Santa Rosa Junior College
DESCRIPTION:Alcance de la furgoneta móvil en los dormitorios del Santa Rosa Junior College de 13:00 a 15:00 en Polly O’Meara Doyle Hall 1950 Armory Drive\, Santa Rosa
URL:https://f2f.org/calendar-event/divulgacion-en-los-dormitorios-del-santa-rosa-junior-college-3/2026-06-11/
LOCATION:SRJC Dorms\, 1950 Armory Drive\, Santa Rosa\, CA\, 95401\, United States
CATEGORIES:Furgoneta móvil
END:VEVENT
BEGIN:VEVENT
DTSTART;TZID=America/Los_Angeles:20260616T110000
DTEND;TZID=America/Los_Angeles:20260616T130000
DTSTAMP:20260421T153445
CREATED:20250422T192135Z
LAST-MODIFIED:20250711T165243Z
UID:10010180-1781607600-1781614800@f2f.org
SUMMARY:Alcance de la Plaza Guerneville
DESCRIPTION:Furgoneta móvil de divulgación en la plaza de Guerneville\, bajo el puente peatonal\, de 11.00 a 13.00 h.
URL:https://f2f.org/calendar-event/alcance-de-la-plaza-guerneville/2026-06-16/
LOCATION:Guerneville Downtown Plaza\, Guerneville\, CA\, 95446\, United States
CATEGORIES:Furgoneta móvil
END:VEVENT
BEGIN:VEVENT
DTSTART;TZID=America/Los_Angeles:20260616T133000
DTEND;TZID=America/Los_Angeles:20260616T143000
DTSTAMP:20260421T153445
CREATED:20250711T154315Z
LAST-MODIFIED:20250711T165251Z
UID:10012063-1781616600-1781620200@f2f.org
SUMMARY:Joe Rodota Trail Outreach
DESCRIPTION:Difusión con furgoneta móvil en el Joe Rodota Trail\, cerca de Foodmaxx\, de 13.30 a 14.30 h\, en 2055 Sebastopol Road\, Santa Rosa.
URL:https://f2f.org/calendar-event/joe-rodota-trail-outreach/2026-06-16/
LOCATION:Joe Rodota Trail Near Foodmaxx\, 2055 Sebastopol Rd\, Santa Rosa\, CA\, 95407\, United States
CATEGORIES:Furgoneta móvil
END:VEVENT
BEGIN:VEVENT
DTSTART;TZID=America/Los_Angeles:20260616T150000
DTEND;TZID=America/Los_Angeles:20260616T160000
DTSTAMP:20260421T153445
CREATED:20250422T191949Z
LAST-MODIFIED:20250711T165241Z
UID:10009633-1781622000-1781625600@f2f.org
SUMMARY:Alcance del Puente de la Calle 6
DESCRIPTION:Alcance de la furgoneta móvil bajo el puente de la autopista\, en el 217 de la calle 6\, Santa Rosa\, de 15.00 a 16.00 h.
URL:https://f2f.org/calendar-event/alcance-del-puente-de-la-calle-6/2026-06-16/
LOCATION:6th Street\, 217 6th Street\, Santa Rosa\, CA\, 95404\, United States
CATEGORIES:Furgoneta móvil
END:VEVENT
BEGIN:VEVENT
DTSTART;TZID=America/Los_Angeles:20260617T113000
DTEND;TZID=America/Los_Angeles:20260617T123000
DTSTAMP:20260421T153445
CREATED:20250711T155317Z
LAST-MODIFIED:20250711T165248Z
UID:10011540-1781695800-1781699400@f2f.org
SUMMARY:Extensión del Camino de Montero
DESCRIPTION:Campaña de divulgación con furgoneta móvil en Montero Way\, Petaluma\, de 11.30 a 12.30 h.
URL:https://f2f.org/calendar-event/extension-del-camino-de-montero/2026-06-17/
LOCATION:Montero Way\, Montero Way\, Petaluma\, CA\, 94954\, United States
CATEGORIES:Furgoneta móvil
END:VEVENT
BEGIN:VEVENT
DTSTART;TZID=America/Los_Angeles:20260617T124500
DTEND;TZID=America/Los_Angeles:20260617T134500
DTSTAMP:20260421T153445
CREATED:20250422T192846Z
LAST-MODIFIED:20250711T165241Z
UID:10010726-1781700300-1781703900@f2f.org
SUMMARY:Alcance de la Avenida Robles Este
DESCRIPTION:Alcance de la furgoneta móvil de 12:45 a 13:45 en 236 East Robles Ave\, Santa Rosa\nPor Avenue Car Wash
URL:https://f2f.org/calendar-event/alcance-de-la-avenida-robles-este/2026-06-17/
LOCATION:East Robles Avenue\, 236 East Robles Ave\, Santa Rosa\, CA\, 95407\, United States
CATEGORIES:Furgoneta móvil
END:VEVENT
BEGIN:VEVENT
DTSTART;TZID=America/Los_Angeles:20260617T130000
DTEND;TZID=America/Los_Angeles:20260617T140000
DTSTAMP:20260421T153445
CREATED:20251202T234319Z
LAST-MODIFIED:20251202T234319Z
UID:10014337-1781701200-1781704800@f2f.org
SUMMARY:St. Vincent De Paul Commons Outreach
DESCRIPTION:Alcance de la furgoneta móvil de 13:00 a 14:00 en 2400 Mendocino Ave\, Santa Rosa\, CA 95403
URL:https://f2f.org/calendar-event/st-vincent-de-paul-commons-outreach/2026-06-17/
LOCATION:St. Vincent de Paul Commons\, 2400 Mendocino Ave\, Santa Rosa\, 95403\, United States
CATEGORIES:Furgoneta móvil
END:VEVENT
BEGIN:VEVENT
DTSTART;TZID=America/Los_Angeles:20260617T140000
DTEND;TZID=America/Los_Angeles:20260617T150000
DTSTAMP:20260421T153445
CREATED:20250711T155832Z
LAST-MODIFIED:20250711T165249Z
UID:10011802-1781704800-1781708400@f2f.org
SUMMARY:Alcance de la Avenida Finley
DESCRIPTION:Campaña de divulgación con furgoneta móvil en Finley Avenue\, cerca de Sam Jones Hall\, de 14:00 a 15:00 h.
URL:https://f2f.org/calendar-event/alcance-de-la-avenida-finley/2026-06-17/
LOCATION:Finley Avenue\, 4020 Finley Ave\, Santa Rosa\, CA\, 95407\, United States
CATEGORIES:Furgoneta móvil
END:VEVENT
BEGIN:VEVENT
DTSTART;TZID=America/Los_Angeles:20260618T103000
DTEND;TZID=America/Los_Angeles:20260618T113000
DTSTAMP:20260421T153445
CREATED:20251120T174601Z
LAST-MODIFIED:20251120T174601Z
UID:10013506-1781778600-1781782200@f2f.org
SUMMARY:Alcance del Programa de Tratamiento de Santa Rosa
DESCRIPTION:Alcance de la furgoneta móvil en el Programa de Tratamiento de Santa Rosa de 9:00 a.m. a 11:00 a.m. en 625 Steele Lane\, Santa Rosa
URL:https://f2f.org/calendar-event/alcance-del-programa-de-tratamiento-de-santa-rosa-3/2026-06-18/
LOCATION:SRTP\, 625 Steele Ln\, Santa Rosa\, CA\, 95403\, United States
CATEGORIES:Furgoneta móvil
END:VEVENT
BEGIN:VEVENT
DTSTART;TZID=America/Los_Angeles:20260618T103000
DTEND;TZID=America/Los_Angeles:20260618T113000
DTSTAMP:20260421T153445
CREATED:20251120T175527Z
LAST-MODIFIED:20251202T234415Z
UID:10013818-1781778600-1781782200@f2f.org
SUMMARY:Alcance del Programa de Tratamiento de Santa Rosa
DESCRIPTION:Alcance de la furgoneta móvil en el Programa de Tratamiento de Santa Rosa de 9:00 a.m. a 11:00 a.m. en 625 Steele Lane\, Santa Rosa
URL:https://f2f.org/calendar-event/alcance-del-programa-de-tratamiento-de-santa-rosa-4/2026-06-18/
LOCATION:SRTP\, 625 Steele Ln\, Santa Rosa\, CA\, 95403\, United States
CATEGORIES:Furgoneta móvil
END:VEVENT
END:VCALENDAR