BEGIN:VCALENDAR
VERSION:2.0
PRODID:-//Face to Face | Sonoma County - ECPv6.15.20//NONSGML v1.0//EN
CALSCALE:GREGORIAN
METHOD:PUBLISH
X-WR-CALNAME:Face to Face | Sonoma County
X-ORIGINAL-URL:https://f2f.org
X-WR-CALDESC:Events for Face to Face | Sonoma County
REFRESH-INTERVAL;VALUE=DURATION:PT1H
X-Robots-Tag:noindex
X-PUBLISHED-TTL:PT1H
BEGIN:VTIMEZONE
TZID:America/Los_Angeles
BEGIN:DAYLIGHT
TZOFFSETFROM:-0800
TZOFFSETTO:-0700
TZNAME:PDT
DTSTART:20250309T100000
END:DAYLIGHT
BEGIN:STANDARD
TZOFFSETFROM:-0700
TZOFFSETTO:-0800
TZNAME:PST
DTSTART:20251102T090000
END:STANDARD
BEGIN:DAYLIGHT
TZOFFSETFROM:-0800
TZOFFSETTO:-0700
TZNAME:PDT
DTSTART:20260308T100000
END:DAYLIGHT
BEGIN:STANDARD
TZOFFSETFROM:-0700
TZOFFSETTO:-0800
TZNAME:PST
DTSTART:20261101T090000
END:STANDARD
BEGIN:DAYLIGHT
TZOFFSETFROM:-0800
TZOFFSETTO:-0700
TZNAME:PDT
DTSTART:20270314T100000
END:DAYLIGHT
BEGIN:STANDARD
TZOFFSETFROM:-0700
TZOFFSETTO:-0800
TZNAME:PST
DTSTART:20271107T090000
END:STANDARD
END:VTIMEZONE
BEGIN:VEVENT
DTSTART;TZID=America/Los_Angeles:20260701T113000
DTEND;TZID=America/Los_Angeles:20260701T123000
DTSTAMP:20260421T153036
CREATED:20250711T155317Z
LAST-MODIFIED:20250711T165248Z
UID:10011542-1782905400-1782909000@f2f.org
SUMMARY:Extensión del Camino de Montero
DESCRIPTION:Campaña de divulgación con furgoneta móvil en Montero Way\, Petaluma\, de 11.30 a 12.30 h.
URL:https://f2f.org/calendar-event/extension-del-camino-de-montero/2026-07-01/
LOCATION:Montero Way\, Montero Way\, Petaluma\, CA\, 94954\, United States
CATEGORIES:Furgoneta móvil
END:VEVENT
BEGIN:VEVENT
DTSTART;TZID=America/Los_Angeles:20260701T124500
DTEND;TZID=America/Los_Angeles:20260701T134500
DTSTAMP:20260421T153036
CREATED:20250422T192846Z
LAST-MODIFIED:20250711T165241Z
UID:10010728-1782909900-1782913500@f2f.org
SUMMARY:Alcance de la Avenida Robles Este
DESCRIPTION:Alcance de la furgoneta móvil de 12:45 a 13:45 en 236 East Robles Ave\, Santa Rosa\nPor Avenue Car Wash
URL:https://f2f.org/calendar-event/alcance-de-la-avenida-robles-este/2026-07-01/
LOCATION:East Robles Avenue\, 236 East Robles Ave\, Santa Rosa\, CA\, 95407\, United States
CATEGORIES:Furgoneta móvil
END:VEVENT
BEGIN:VEVENT
DTSTART;TZID=America/Los_Angeles:20260701T130000
DTEND;TZID=America/Los_Angeles:20260701T140000
DTSTAMP:20260421T153036
CREATED:20251202T234319Z
LAST-MODIFIED:20251202T234319Z
UID:10014339-1782910800-1782914400@f2f.org
SUMMARY:St. Vincent De Paul Commons Outreach
DESCRIPTION:Alcance de la furgoneta móvil de 13:00 a 14:00 en 2400 Mendocino Ave\, Santa Rosa\, CA 95403
URL:https://f2f.org/calendar-event/st-vincent-de-paul-commons-outreach/2026-07-01/
LOCATION:St. Vincent de Paul Commons\, 2400 Mendocino Ave\, Santa Rosa\, 95403\, United States
CATEGORIES:Furgoneta móvil
END:VEVENT
BEGIN:VEVENT
DTSTART;TZID=America/Los_Angeles:20260701T140000
DTEND;TZID=America/Los_Angeles:20260701T150000
DTSTAMP:20260421T153036
CREATED:20250711T155832Z
LAST-MODIFIED:20250711T165249Z
UID:10011804-1782914400-1782918000@f2f.org
SUMMARY:Alcance de la Avenida Finley
DESCRIPTION:Campaña de divulgación con furgoneta móvil en Finley Avenue\, cerca de Sam Jones Hall\, de 14:00 a 15:00 h.
URL:https://f2f.org/calendar-event/alcance-de-la-avenida-finley/2026-07-01/
LOCATION:Finley Avenue\, 4020 Finley Ave\, Santa Rosa\, CA\, 95407\, United States
CATEGORIES:Furgoneta móvil
END:VEVENT
BEGIN:VEVENT
DTSTART;TZID=America/Los_Angeles:20260702T103000
DTEND;TZID=America/Los_Angeles:20260702T113000
DTSTAMP:20260421T153036
CREATED:20251120T174601Z
LAST-MODIFIED:20251120T174601Z
UID:10013508-1782988200-1782991800@f2f.org
SUMMARY:Alcance del Programa de Tratamiento de Santa Rosa
DESCRIPTION:Alcance de la furgoneta móvil en el Programa de Tratamiento de Santa Rosa de 9:00 a.m. a 11:00 a.m. en 625 Steele Lane\, Santa Rosa
URL:https://f2f.org/calendar-event/alcance-del-programa-de-tratamiento-de-santa-rosa-3/2026-07-02/
LOCATION:SRTP\, 625 Steele Ln\, Santa Rosa\, CA\, 95403\, United States
CATEGORIES:Furgoneta móvil
END:VEVENT
BEGIN:VEVENT
DTSTART;TZID=America/Los_Angeles:20260702T103000
DTEND;TZID=America/Los_Angeles:20260702T113000
DTSTAMP:20260421T153036
CREATED:20251120T175527Z
LAST-MODIFIED:20251202T234415Z
UID:10013820-1782988200-1782991800@f2f.org
SUMMARY:Alcance del Programa de Tratamiento de Santa Rosa
DESCRIPTION:Alcance de la furgoneta móvil en el Programa de Tratamiento de Santa Rosa de 9:00 a.m. a 11:00 a.m. en 625 Steele Lane\, Santa Rosa
URL:https://f2f.org/calendar-event/alcance-del-programa-de-tratamiento-de-santa-rosa-4/2026-07-02/
LOCATION:SRTP\, 625 Steele Ln\, Santa Rosa\, CA\, 95403\, United States
CATEGORIES:Furgoneta móvil
END:VEVENT
BEGIN:VEVENT
DTSTART;TZID=America/Los_Angeles:20260702T120000
DTEND;TZID=America/Los_Angeles:20260702T133000
DTSTAMP:20260421T153036
CREATED:20250711T162036Z
LAST-MODIFIED:20250711T165250Z
UID:10012723-1782993600-1782999000@f2f.org
SUMMARY:Labath Landing Outreach
DESCRIPTION:Alcance de la furgoneta móvil en Labath Landing de 12:00 a 13:30.
URL:https://f2f.org/calendar-event/labath-landing-outreach/2026-07-02/
LOCATION:Labath Landing\, 6050 Labath Avenue\, Rohnert Park\, CA\, 94928\, United States
CATEGORIES:Furgoneta móvil
END:VEVENT
BEGIN:VEVENT
DTSTART;TZID=America/Los_Angeles:20260707T110000
DTEND;TZID=America/Los_Angeles:20260707T130000
DTSTAMP:20260421T153036
CREATED:20250422T192135Z
LAST-MODIFIED:20250711T165243Z
UID:10010183-1783422000-1783429200@f2f.org
SUMMARY:Alcance de la Plaza Guerneville
DESCRIPTION:Furgoneta móvil de divulgación en la plaza de Guerneville\, bajo el puente peatonal\, de 11.00 a 13.00 h.
URL:https://f2f.org/calendar-event/alcance-de-la-plaza-guerneville/2026-07-07/
LOCATION:Guerneville Downtown Plaza\, Guerneville\, CA\, 95446\, United States
CATEGORIES:Furgoneta móvil
END:VEVENT
BEGIN:VEVENT
DTSTART;TZID=America/Los_Angeles:20260707T133000
DTEND;TZID=America/Los_Angeles:20260707T143000
DTSTAMP:20260421T153036
CREATED:20250711T154315Z
LAST-MODIFIED:20250711T165251Z
UID:10012066-1783431000-1783434600@f2f.org
SUMMARY:Joe Rodota Trail Outreach
DESCRIPTION:Difusión con furgoneta móvil en el Joe Rodota Trail\, cerca de Foodmaxx\, de 13.30 a 14.30 h\, en 2055 Sebastopol Road\, Santa Rosa.
URL:https://f2f.org/calendar-event/joe-rodota-trail-outreach/2026-07-07/
LOCATION:Joe Rodota Trail Near Foodmaxx\, 2055 Sebastopol Rd\, Santa Rosa\, CA\, 95407\, United States
CATEGORIES:Furgoneta móvil
END:VEVENT
BEGIN:VEVENT
DTSTART;TZID=America/Los_Angeles:20260707T150000
DTEND;TZID=America/Los_Angeles:20260707T160000
DTSTAMP:20260421T153036
CREATED:20250422T191949Z
LAST-MODIFIED:20250711T165241Z
UID:10009636-1783436400-1783440000@f2f.org
SUMMARY:Alcance del Puente de la Calle 6
DESCRIPTION:Alcance de la furgoneta móvil bajo el puente de la autopista\, en el 217 de la calle 6\, Santa Rosa\, de 15.00 a 16.00 h.
URL:https://f2f.org/calendar-event/alcance-del-puente-de-la-calle-6/2026-07-07/
LOCATION:6th Street\, 217 6th Street\, Santa Rosa\, CA\, 95404\, United States
CATEGORIES:Furgoneta móvil
END:VEVENT
BEGIN:VEVENT
DTSTART;TZID=America/Los_Angeles:20260708T113000
DTEND;TZID=America/Los_Angeles:20260708T123000
DTSTAMP:20260421T153036
CREATED:20250711T155317Z
LAST-MODIFIED:20250711T165248Z
UID:10011543-1783510200-1783513800@f2f.org
SUMMARY:Extensión del Camino de Montero
DESCRIPTION:Campaña de divulgación con furgoneta móvil en Montero Way\, Petaluma\, de 11.30 a 12.30 h.
URL:https://f2f.org/calendar-event/extension-del-camino-de-montero/2026-07-08/
LOCATION:Montero Way\, Montero Way\, Petaluma\, CA\, 94954\, United States
CATEGORIES:Furgoneta móvil
END:VEVENT
BEGIN:VEVENT
DTSTART;TZID=America/Los_Angeles:20260708T124500
DTEND;TZID=America/Los_Angeles:20260708T134500
DTSTAMP:20260421T153036
CREATED:20250422T192846Z
LAST-MODIFIED:20250711T165241Z
UID:10010729-1783514700-1783518300@f2f.org
SUMMARY:Alcance de la Avenida Robles Este
DESCRIPTION:Alcance de la furgoneta móvil de 12:45 a 13:45 en 236 East Robles Ave\, Santa Rosa\nPor Avenue Car Wash
URL:https://f2f.org/calendar-event/alcance-de-la-avenida-robles-este/2026-07-08/
LOCATION:East Robles Avenue\, 236 East Robles Ave\, Santa Rosa\, CA\, 95407\, United States
CATEGORIES:Furgoneta móvil
END:VEVENT
BEGIN:VEVENT
DTSTART;TZID=America/Los_Angeles:20260708T130000
DTEND;TZID=America/Los_Angeles:20260708T140000
DTSTAMP:20260421T153036
CREATED:20251202T234319Z
LAST-MODIFIED:20251202T234319Z
UID:10014340-1783515600-1783519200@f2f.org
SUMMARY:St. Vincent De Paul Commons Outreach
DESCRIPTION:Alcance de la furgoneta móvil de 13:00 a 14:00 en 2400 Mendocino Ave\, Santa Rosa\, CA 95403
URL:https://f2f.org/calendar-event/st-vincent-de-paul-commons-outreach/2026-07-08/
LOCATION:St. Vincent de Paul Commons\, 2400 Mendocino Ave\, Santa Rosa\, 95403\, United States
CATEGORIES:Furgoneta móvil
END:VEVENT
BEGIN:VEVENT
DTSTART;TZID=America/Los_Angeles:20260708T140000
DTEND;TZID=America/Los_Angeles:20260708T150000
DTSTAMP:20260421T153036
CREATED:20250711T155832Z
LAST-MODIFIED:20250711T165249Z
UID:10011805-1783519200-1783522800@f2f.org
SUMMARY:Alcance de la Avenida Finley
DESCRIPTION:Campaña de divulgación con furgoneta móvil en Finley Avenue\, cerca de Sam Jones Hall\, de 14:00 a 15:00 h.
URL:https://f2f.org/calendar-event/alcance-de-la-avenida-finley/2026-07-08/
LOCATION:Finley Avenue\, 4020 Finley Ave\, Santa Rosa\, CA\, 95407\, United States
CATEGORIES:Furgoneta móvil
END:VEVENT
BEGIN:VEVENT
DTSTART;TZID=America/Los_Angeles:20260709T103000
DTEND;TZID=America/Los_Angeles:20260709T113000
DTSTAMP:20260421T153036
CREATED:20251120T174601Z
LAST-MODIFIED:20251120T174601Z
UID:10013509-1783593000-1783596600@f2f.org
SUMMARY:Alcance del Programa de Tratamiento de Santa Rosa
DESCRIPTION:Alcance de la furgoneta móvil en el Programa de Tratamiento de Santa Rosa de 9:00 a.m. a 11:00 a.m. en 625 Steele Lane\, Santa Rosa
URL:https://f2f.org/calendar-event/alcance-del-programa-de-tratamiento-de-santa-rosa-3/2026-07-09/
LOCATION:SRTP\, 625 Steele Ln\, Santa Rosa\, CA\, 95403\, United States
CATEGORIES:Furgoneta móvil
END:VEVENT
BEGIN:VEVENT
DTSTART;TZID=America/Los_Angeles:20260709T103000
DTEND;TZID=America/Los_Angeles:20260709T113000
DTSTAMP:20260421T153036
CREATED:20251120T175527Z
LAST-MODIFIED:20251202T234415Z
UID:10013821-1783593000-1783596600@f2f.org
SUMMARY:Alcance del Programa de Tratamiento de Santa Rosa
DESCRIPTION:Alcance de la furgoneta móvil en el Programa de Tratamiento de Santa Rosa de 9:00 a.m. a 11:00 a.m. en 625 Steele Lane\, Santa Rosa
URL:https://f2f.org/calendar-event/alcance-del-programa-de-tratamiento-de-santa-rosa-4/2026-07-09/
LOCATION:SRTP\, 625 Steele Ln\, Santa Rosa\, CA\, 95403\, United States
CATEGORIES:Furgoneta móvil
END:VEVENT
BEGIN:VEVENT
DTSTART;TZID=America/Los_Angeles:20260709T120000
DTEND;TZID=America/Los_Angeles:20260709T133000
DTSTAMP:20260421T153036
CREATED:20250711T162036Z
LAST-MODIFIED:20250711T165250Z
UID:10012724-1783598400-1783603800@f2f.org
SUMMARY:Labath Landing Outreach
DESCRIPTION:Alcance de la furgoneta móvil en Labath Landing de 12:00 a 13:30.
URL:https://f2f.org/calendar-event/labath-landing-outreach/2026-07-09/
LOCATION:Labath Landing\, 6050 Labath Avenue\, Rohnert Park\, CA\, 94928\, United States
CATEGORIES:Furgoneta móvil
END:VEVENT
BEGIN:VEVENT
DTSTART;TZID=America/Los_Angeles:20260709T130000
DTEND;TZID=America/Los_Angeles:20260709T150000
DTSTAMP:20260421T153036
CREATED:20250925T190451Z
LAST-MODIFIED:20250925T190451Z
UID:10013130-1783602000-1783609200@f2f.org
SUMMARY:Divulgación en los Dormitorios del Santa Rosa Junior College
DESCRIPTION:Alcance de la furgoneta móvil en los dormitorios del Santa Rosa Junior College de 13:00 a 15:00 en Polly O’Meara Doyle Hall 1950 Armory Drive\, Santa Rosa
URL:https://f2f.org/calendar-event/divulgacion-en-los-dormitorios-del-santa-rosa-junior-college-3/2026-07-09/
LOCATION:SRJC Dorms\, 1950 Armory Drive\, Santa Rosa\, CA\, 95401\, United States
CATEGORIES:Furgoneta móvil
END:VEVENT
BEGIN:VEVENT
DTSTART;TZID=America/Los_Angeles:20260714T110000
DTEND;TZID=America/Los_Angeles:20260714T130000
DTSTAMP:20260421T153036
CREATED:20250422T192135Z
LAST-MODIFIED:20250711T165243Z
UID:10010184-1784026800-1784034000@f2f.org
SUMMARY:Alcance de la Plaza Guerneville
DESCRIPTION:Furgoneta móvil de divulgación en la plaza de Guerneville\, bajo el puente peatonal\, de 11.00 a 13.00 h.
URL:https://f2f.org/calendar-event/alcance-de-la-plaza-guerneville/2026-07-14/
LOCATION:Guerneville Downtown Plaza\, Guerneville\, CA\, 95446\, United States
CATEGORIES:Furgoneta móvil
END:VEVENT
BEGIN:VEVENT
DTSTART;TZID=America/Los_Angeles:20260714T133000
DTEND;TZID=America/Los_Angeles:20260714T143000
DTSTAMP:20260421T153036
CREATED:20250711T154315Z
LAST-MODIFIED:20250711T165251Z
UID:10012067-1784035800-1784039400@f2f.org
SUMMARY:Joe Rodota Trail Outreach
DESCRIPTION:Difusión con furgoneta móvil en el Joe Rodota Trail\, cerca de Foodmaxx\, de 13.30 a 14.30 h\, en 2055 Sebastopol Road\, Santa Rosa.
URL:https://f2f.org/calendar-event/joe-rodota-trail-outreach/2026-07-14/
LOCATION:Joe Rodota Trail Near Foodmaxx\, 2055 Sebastopol Rd\, Santa Rosa\, CA\, 95407\, United States
CATEGORIES:Furgoneta móvil
END:VEVENT
BEGIN:VEVENT
DTSTART;TZID=America/Los_Angeles:20260714T150000
DTEND;TZID=America/Los_Angeles:20260714T160000
DTSTAMP:20260421T153037
CREATED:20250422T191949Z
LAST-MODIFIED:20250711T165241Z
UID:10009637-1784041200-1784044800@f2f.org
SUMMARY:Alcance del Puente de la Calle 6
DESCRIPTION:Alcance de la furgoneta móvil bajo el puente de la autopista\, en el 217 de la calle 6\, Santa Rosa\, de 15.00 a 16.00 h.
URL:https://f2f.org/calendar-event/alcance-del-puente-de-la-calle-6/2026-07-14/
LOCATION:6th Street\, 217 6th Street\, Santa Rosa\, CA\, 95404\, United States
CATEGORIES:Furgoneta móvil
END:VEVENT
BEGIN:VEVENT
DTSTART;TZID=America/Los_Angeles:20260715T113000
DTEND;TZID=America/Los_Angeles:20260715T123000
DTSTAMP:20260421T153037
CREATED:20250711T155317Z
LAST-MODIFIED:20250711T165248Z
UID:10011544-1784115000-1784118600@f2f.org
SUMMARY:Extensión del Camino de Montero
DESCRIPTION:Campaña de divulgación con furgoneta móvil en Montero Way\, Petaluma\, de 11.30 a 12.30 h.
URL:https://f2f.org/calendar-event/extension-del-camino-de-montero/2026-07-15/
LOCATION:Montero Way\, Montero Way\, Petaluma\, CA\, 94954\, United States
CATEGORIES:Furgoneta móvil
END:VEVENT
BEGIN:VEVENT
DTSTART;TZID=America/Los_Angeles:20260715T124500
DTEND;TZID=America/Los_Angeles:20260715T134500
DTSTAMP:20260421T153037
CREATED:20250422T192846Z
LAST-MODIFIED:20250711T165241Z
UID:10010730-1784119500-1784123100@f2f.org
SUMMARY:Alcance de la Avenida Robles Este
DESCRIPTION:Alcance de la furgoneta móvil de 12:45 a 13:45 en 236 East Robles Ave\, Santa Rosa\nPor Avenue Car Wash
URL:https://f2f.org/calendar-event/alcance-de-la-avenida-robles-este/2026-07-15/
LOCATION:East Robles Avenue\, 236 East Robles Ave\, Santa Rosa\, CA\, 95407\, United States
CATEGORIES:Furgoneta móvil
END:VEVENT
BEGIN:VEVENT
DTSTART;TZID=America/Los_Angeles:20260715T130000
DTEND;TZID=America/Los_Angeles:20260715T140000
DTSTAMP:20260421T153037
CREATED:20251202T234319Z
LAST-MODIFIED:20251202T234319Z
UID:10014341-1784120400-1784124000@f2f.org
SUMMARY:St. Vincent De Paul Commons Outreach
DESCRIPTION:Alcance de la furgoneta móvil de 13:00 a 14:00 en 2400 Mendocino Ave\, Santa Rosa\, CA 95403
URL:https://f2f.org/calendar-event/st-vincent-de-paul-commons-outreach/2026-07-15/
LOCATION:St. Vincent de Paul Commons\, 2400 Mendocino Ave\, Santa Rosa\, 95403\, United States
CATEGORIES:Furgoneta móvil
END:VEVENT
BEGIN:VEVENT
DTSTART;TZID=America/Los_Angeles:20260715T140000
DTEND;TZID=America/Los_Angeles:20260715T150000
DTSTAMP:20260421T153037
CREATED:20250711T155832Z
LAST-MODIFIED:20250711T165249Z
UID:10011806-1784124000-1784127600@f2f.org
SUMMARY:Alcance de la Avenida Finley
DESCRIPTION:Campaña de divulgación con furgoneta móvil en Finley Avenue\, cerca de Sam Jones Hall\, de 14:00 a 15:00 h.
URL:https://f2f.org/calendar-event/alcance-de-la-avenida-finley/2026-07-15/
LOCATION:Finley Avenue\, 4020 Finley Ave\, Santa Rosa\, CA\, 95407\, United States
CATEGORIES:Furgoneta móvil
END:VEVENT
BEGIN:VEVENT
DTSTART;TZID=America/Los_Angeles:20260716T103000
DTEND;TZID=America/Los_Angeles:20260716T113000
DTSTAMP:20260421T153037
CREATED:20251120T174601Z
LAST-MODIFIED:20251120T174601Z
UID:10013510-1784197800-1784201400@f2f.org
SUMMARY:Alcance del Programa de Tratamiento de Santa Rosa
DESCRIPTION:Alcance de la furgoneta móvil en el Programa de Tratamiento de Santa Rosa de 9:00 a.m. a 11:00 a.m. en 625 Steele Lane\, Santa Rosa
URL:https://f2f.org/calendar-event/alcance-del-programa-de-tratamiento-de-santa-rosa-3/2026-07-16/
LOCATION:SRTP\, 625 Steele Ln\, Santa Rosa\, CA\, 95403\, United States
CATEGORIES:Furgoneta móvil
END:VEVENT
BEGIN:VEVENT
DTSTART;TZID=America/Los_Angeles:20260716T103000
DTEND;TZID=America/Los_Angeles:20260716T113000
DTSTAMP:20260421T153037
CREATED:20251120T175527Z
LAST-MODIFIED:20251202T234415Z
UID:10013822-1784197800-1784201400@f2f.org
SUMMARY:Alcance del Programa de Tratamiento de Santa Rosa
DESCRIPTION:Alcance de la furgoneta móvil en el Programa de Tratamiento de Santa Rosa de 9:00 a.m. a 11:00 a.m. en 625 Steele Lane\, Santa Rosa
URL:https://f2f.org/calendar-event/alcance-del-programa-de-tratamiento-de-santa-rosa-4/2026-07-16/
LOCATION:SRTP\, 625 Steele Ln\, Santa Rosa\, CA\, 95403\, United States
CATEGORIES:Furgoneta móvil
END:VEVENT
BEGIN:VEVENT
DTSTART;TZID=America/Los_Angeles:20260716T120000
DTEND;TZID=America/Los_Angeles:20260716T133000
DTSTAMP:20260421T153037
CREATED:20250711T162036Z
LAST-MODIFIED:20250711T165250Z
UID:10012725-1784203200-1784208600@f2f.org
SUMMARY:Labath Landing Outreach
DESCRIPTION:Alcance de la furgoneta móvil en Labath Landing de 12:00 a 13:30.
URL:https://f2f.org/calendar-event/labath-landing-outreach/2026-07-16/
LOCATION:Labath Landing\, 6050 Labath Avenue\, Rohnert Park\, CA\, 94928\, United States
CATEGORIES:Furgoneta móvil
END:VEVENT
BEGIN:VEVENT
DTSTART;TZID=America/Los_Angeles:20260721T110000
DTEND;TZID=America/Los_Angeles:20260721T130000
DTSTAMP:20260421T153037
CREATED:20250422T192135Z
LAST-MODIFIED:20250711T165243Z
UID:10010185-1784631600-1784638800@f2f.org
SUMMARY:Alcance de la Plaza Guerneville
DESCRIPTION:Furgoneta móvil de divulgación en la plaza de Guerneville\, bajo el puente peatonal\, de 11.00 a 13.00 h.
URL:https://f2f.org/calendar-event/alcance-de-la-plaza-guerneville/2026-07-21/
LOCATION:Guerneville Downtown Plaza\, Guerneville\, CA\, 95446\, United States
CATEGORIES:Furgoneta móvil
END:VEVENT
BEGIN:VEVENT
DTSTART;TZID=America/Los_Angeles:20260721T133000
DTEND;TZID=America/Los_Angeles:20260721T143000
DTSTAMP:20260421T153037
CREATED:20250711T154315Z
LAST-MODIFIED:20250711T165251Z
UID:10012068-1784640600-1784644200@f2f.org
SUMMARY:Joe Rodota Trail Outreach
DESCRIPTION:Difusión con furgoneta móvil en el Joe Rodota Trail\, cerca de Foodmaxx\, de 13.30 a 14.30 h\, en 2055 Sebastopol Road\, Santa Rosa.
URL:https://f2f.org/calendar-event/joe-rodota-trail-outreach/2026-07-21/
LOCATION:Joe Rodota Trail Near Foodmaxx\, 2055 Sebastopol Rd\, Santa Rosa\, CA\, 95407\, United States
CATEGORIES:Furgoneta móvil
END:VEVENT
END:VCALENDAR