BEGIN:VCALENDAR
VERSION:2.0
PRODID:-//Face to Face | Sonoma County - ECPv6.15.20//NONSGML v1.0//EN
CALSCALE:GREGORIAN
METHOD:PUBLISH
X-WR-CALNAME:Face to Face | Sonoma County
X-ORIGINAL-URL:https://f2f.org
X-WR-CALDESC:Events for Face to Face | Sonoma County
REFRESH-INTERVAL;VALUE=DURATION:PT1H
X-Robots-Tag:noindex
X-PUBLISHED-TTL:PT1H
BEGIN:VTIMEZONE
TZID:America/Los_Angeles
BEGIN:DAYLIGHT
TZOFFSETFROM:-0800
TZOFFSETTO:-0700
TZNAME:PDT
DTSTART:20250309T100000
END:DAYLIGHT
BEGIN:STANDARD
TZOFFSETFROM:-0700
TZOFFSETTO:-0800
TZNAME:PST
DTSTART:20251102T090000
END:STANDARD
BEGIN:DAYLIGHT
TZOFFSETFROM:-0800
TZOFFSETTO:-0700
TZNAME:PDT
DTSTART:20260308T100000
END:DAYLIGHT
BEGIN:STANDARD
TZOFFSETFROM:-0700
TZOFFSETTO:-0800
TZNAME:PST
DTSTART:20261101T090000
END:STANDARD
BEGIN:DAYLIGHT
TZOFFSETFROM:-0800
TZOFFSETTO:-0700
TZNAME:PDT
DTSTART:20270314T100000
END:DAYLIGHT
BEGIN:STANDARD
TZOFFSETFROM:-0700
TZOFFSETTO:-0800
TZNAME:PST
DTSTART:20271107T090000
END:STANDARD
END:VTIMEZONE
BEGIN:VEVENT
DTSTART;TZID=America/Los_Angeles:20260901T110000
DTEND;TZID=America/Los_Angeles:20260901T130000
DTSTAMP:20260421T195245
CREATED:20250422T192135Z
LAST-MODIFIED:20250711T165243Z
UID:10010191-1788260400-1788267600@f2f.org
SUMMARY:Alcance de la Plaza Guerneville
DESCRIPTION:Furgoneta móvil de divulgación en la plaza de Guerneville\, bajo el puente peatonal\, de 11.00 a 13.00 h.
URL:https://f2f.org/calendar-event/alcance-de-la-plaza-guerneville/2026-09-01/
LOCATION:Guerneville Downtown Plaza\, Guerneville\, CA\, 95446\, United States
CATEGORIES:Furgoneta móvil
END:VEVENT
BEGIN:VEVENT
DTSTART;TZID=America/Los_Angeles:20260901T133000
DTEND;TZID=America/Los_Angeles:20260901T143000
DTSTAMP:20260421T195245
CREATED:20250711T154315Z
LAST-MODIFIED:20250711T165251Z
UID:10012074-1788269400-1788273000@f2f.org
SUMMARY:Joe Rodota Trail Outreach
DESCRIPTION:Difusión con furgoneta móvil en el Joe Rodota Trail\, cerca de Foodmaxx\, de 13.30 a 14.30 h\, en 2055 Sebastopol Road\, Santa Rosa.
URL:https://f2f.org/calendar-event/joe-rodota-trail-outreach/2026-09-01/
LOCATION:Joe Rodota Trail Near Foodmaxx\, 2055 Sebastopol Rd\, Santa Rosa\, CA\, 95407\, United States
CATEGORIES:Furgoneta móvil
END:VEVENT
BEGIN:VEVENT
DTSTART;TZID=America/Los_Angeles:20260901T150000
DTEND;TZID=America/Los_Angeles:20260901T160000
DTSTAMP:20260421T195245
CREATED:20250422T191949Z
LAST-MODIFIED:20250711T165241Z
UID:10009644-1788274800-1788278400@f2f.org
SUMMARY:Alcance del Puente de la Calle 6
DESCRIPTION:Alcance de la furgoneta móvil bajo el puente de la autopista\, en el 217 de la calle 6\, Santa Rosa\, de 15.00 a 16.00 h.
URL:https://f2f.org/calendar-event/alcance-del-puente-de-la-calle-6/2026-09-01/
LOCATION:6th Street\, 217 6th Street\, Santa Rosa\, CA\, 95404\, United States
CATEGORIES:Furgoneta móvil
END:VEVENT
BEGIN:VEVENT
DTSTART;TZID=America/Los_Angeles:20260902T113000
DTEND;TZID=America/Los_Angeles:20260902T123000
DTSTAMP:20260421T195245
CREATED:20250711T155317Z
LAST-MODIFIED:20250711T165248Z
UID:10011551-1788348600-1788352200@f2f.org
SUMMARY:Extensión del Camino de Montero
DESCRIPTION:Campaña de divulgación con furgoneta móvil en Montero Way\, Petaluma\, de 11.30 a 12.30 h.
URL:https://f2f.org/calendar-event/extension-del-camino-de-montero/2026-09-02/
LOCATION:Montero Way\, Montero Way\, Petaluma\, CA\, 94954\, United States
CATEGORIES:Furgoneta móvil
END:VEVENT
BEGIN:VEVENT
DTSTART;TZID=America/Los_Angeles:20260902T124500
DTEND;TZID=America/Los_Angeles:20260902T134500
DTSTAMP:20260421T195245
CREATED:20250422T192846Z
LAST-MODIFIED:20250711T165241Z
UID:10010737-1788353100-1788356700@f2f.org
SUMMARY:Alcance de la Avenida Robles Este
DESCRIPTION:Alcance de la furgoneta móvil de 12:45 a 13:45 en 236 East Robles Ave\, Santa Rosa\nPor Avenue Car Wash
URL:https://f2f.org/calendar-event/alcance-de-la-avenida-robles-este/2026-09-02/
LOCATION:East Robles Avenue\, 236 East Robles Ave\, Santa Rosa\, CA\, 95407\, United States
CATEGORIES:Furgoneta móvil
END:VEVENT
BEGIN:VEVENT
DTSTART;TZID=America/Los_Angeles:20260902T130000
DTEND;TZID=America/Los_Angeles:20260902T140000
DTSTAMP:20260421T195245
CREATED:20251202T234319Z
LAST-MODIFIED:20251202T234319Z
UID:10014348-1788354000-1788357600@f2f.org
SUMMARY:St. Vincent De Paul Commons Outreach
DESCRIPTION:Alcance de la furgoneta móvil de 13:00 a 14:00 en 2400 Mendocino Ave\, Santa Rosa\, CA 95403
URL:https://f2f.org/calendar-event/st-vincent-de-paul-commons-outreach/2026-09-02/
LOCATION:St. Vincent de Paul Commons\, 2400 Mendocino Ave\, Santa Rosa\, 95403\, United States
CATEGORIES:Furgoneta móvil
END:VEVENT
BEGIN:VEVENT
DTSTART;TZID=America/Los_Angeles:20260902T140000
DTEND;TZID=America/Los_Angeles:20260902T150000
DTSTAMP:20260421T195245
CREATED:20250711T155832Z
LAST-MODIFIED:20250711T165249Z
UID:10011813-1788357600-1788361200@f2f.org
SUMMARY:Alcance de la Avenida Finley
DESCRIPTION:Campaña de divulgación con furgoneta móvil en Finley Avenue\, cerca de Sam Jones Hall\, de 14:00 a 15:00 h.
URL:https://f2f.org/calendar-event/alcance-de-la-avenida-finley/2026-09-02/
LOCATION:Finley Avenue\, 4020 Finley Ave\, Santa Rosa\, CA\, 95407\, United States
CATEGORIES:Furgoneta móvil
END:VEVENT
BEGIN:VEVENT
DTSTART;TZID=America/Los_Angeles:20260903T103000
DTEND;TZID=America/Los_Angeles:20260903T113000
DTSTAMP:20260421T195245
CREATED:20251120T174601Z
LAST-MODIFIED:20251120T174601Z
UID:10013517-1788431400-1788435000@f2f.org
SUMMARY:Alcance del Programa de Tratamiento de Santa Rosa
DESCRIPTION:Alcance de la furgoneta móvil en el Programa de Tratamiento de Santa Rosa de 9:00 a.m. a 11:00 a.m. en 625 Steele Lane\, Santa Rosa
URL:https://f2f.org/calendar-event/alcance-del-programa-de-tratamiento-de-santa-rosa-3/2026-09-03/
LOCATION:SRTP\, 625 Steele Ln\, Santa Rosa\, CA\, 95403\, United States
CATEGORIES:Furgoneta móvil
END:VEVENT
BEGIN:VEVENT
DTSTART;TZID=America/Los_Angeles:20260903T103000
DTEND;TZID=America/Los_Angeles:20260903T113000
DTSTAMP:20260421T195245
CREATED:20251120T175527Z
LAST-MODIFIED:20251202T234415Z
UID:10013829-1788431400-1788435000@f2f.org
SUMMARY:Alcance del Programa de Tratamiento de Santa Rosa
DESCRIPTION:Alcance de la furgoneta móvil en el Programa de Tratamiento de Santa Rosa de 9:00 a.m. a 11:00 a.m. en 625 Steele Lane\, Santa Rosa
URL:https://f2f.org/calendar-event/alcance-del-programa-de-tratamiento-de-santa-rosa-4/2026-09-03/
LOCATION:SRTP\, 625 Steele Ln\, Santa Rosa\, CA\, 95403\, United States
CATEGORIES:Furgoneta móvil
END:VEVENT
BEGIN:VEVENT
DTSTART;TZID=America/Los_Angeles:20260903T120000
DTEND;TZID=America/Los_Angeles:20260903T133000
DTSTAMP:20260421T195245
CREATED:20250711T162036Z
LAST-MODIFIED:20250711T165250Z
UID:10012732-1788436800-1788442200@f2f.org
SUMMARY:Labath Landing Outreach
DESCRIPTION:Alcance de la furgoneta móvil en Labath Landing de 12:00 a 13:30.
URL:https://f2f.org/calendar-event/labath-landing-outreach/2026-09-03/
LOCATION:Labath Landing\, 6050 Labath Avenue\, Rohnert Park\, CA\, 94928\, United States
CATEGORIES:Furgoneta móvil
END:VEVENT
BEGIN:VEVENT
DTSTART;TZID=America/Los_Angeles:20260908T110000
DTEND;TZID=America/Los_Angeles:20260908T130000
DTSTAMP:20260421T195245
CREATED:20250422T192135Z
LAST-MODIFIED:20250711T165243Z
UID:10010192-1788865200-1788872400@f2f.org
SUMMARY:Alcance de la Plaza Guerneville
DESCRIPTION:Furgoneta móvil de divulgación en la plaza de Guerneville\, bajo el puente peatonal\, de 11.00 a 13.00 h.
URL:https://f2f.org/calendar-event/alcance-de-la-plaza-guerneville/2026-09-08/
LOCATION:Guerneville Downtown Plaza\, Guerneville\, CA\, 95446\, United States
CATEGORIES:Furgoneta móvil
END:VEVENT
BEGIN:VEVENT
DTSTART;TZID=America/Los_Angeles:20260908T133000
DTEND;TZID=America/Los_Angeles:20260908T143000
DTSTAMP:20260421T195245
CREATED:20250711T154315Z
LAST-MODIFIED:20250711T165251Z
UID:10012075-1788874200-1788877800@f2f.org
SUMMARY:Joe Rodota Trail Outreach
DESCRIPTION:Difusión con furgoneta móvil en el Joe Rodota Trail\, cerca de Foodmaxx\, de 13.30 a 14.30 h\, en 2055 Sebastopol Road\, Santa Rosa.
URL:https://f2f.org/calendar-event/joe-rodota-trail-outreach/2026-09-08/
LOCATION:Joe Rodota Trail Near Foodmaxx\, 2055 Sebastopol Rd\, Santa Rosa\, CA\, 95407\, United States
CATEGORIES:Furgoneta móvil
END:VEVENT
BEGIN:VEVENT
DTSTART;TZID=America/Los_Angeles:20260908T150000
DTEND;TZID=America/Los_Angeles:20260908T160000
DTSTAMP:20260421T195245
CREATED:20250422T191949Z
LAST-MODIFIED:20250711T165241Z
UID:10009645-1788879600-1788883200@f2f.org
SUMMARY:Alcance del Puente de la Calle 6
DESCRIPTION:Alcance de la furgoneta móvil bajo el puente de la autopista\, en el 217 de la calle 6\, Santa Rosa\, de 15.00 a 16.00 h.
URL:https://f2f.org/calendar-event/alcance-del-puente-de-la-calle-6/2026-09-08/
LOCATION:6th Street\, 217 6th Street\, Santa Rosa\, CA\, 95404\, United States
CATEGORIES:Furgoneta móvil
END:VEVENT
BEGIN:VEVENT
DTSTART;TZID=America/Los_Angeles:20260909T113000
DTEND;TZID=America/Los_Angeles:20260909T123000
DTSTAMP:20260421T195245
CREATED:20250711T155317Z
LAST-MODIFIED:20250711T165248Z
UID:10011552-1788953400-1788957000@f2f.org
SUMMARY:Extensión del Camino de Montero
DESCRIPTION:Campaña de divulgación con furgoneta móvil en Montero Way\, Petaluma\, de 11.30 a 12.30 h.
URL:https://f2f.org/calendar-event/extension-del-camino-de-montero/2026-09-09/
LOCATION:Montero Way\, Montero Way\, Petaluma\, CA\, 94954\, United States
CATEGORIES:Furgoneta móvil
END:VEVENT
BEGIN:VEVENT
DTSTART;TZID=America/Los_Angeles:20260909T124500
DTEND;TZID=America/Los_Angeles:20260909T134500
DTSTAMP:20260421T195245
CREATED:20250422T192846Z
LAST-MODIFIED:20250711T165241Z
UID:10010738-1788957900-1788961500@f2f.org
SUMMARY:Alcance de la Avenida Robles Este
DESCRIPTION:Alcance de la furgoneta móvil de 12:45 a 13:45 en 236 East Robles Ave\, Santa Rosa\nPor Avenue Car Wash
URL:https://f2f.org/calendar-event/alcance-de-la-avenida-robles-este/2026-09-09/
LOCATION:East Robles Avenue\, 236 East Robles Ave\, Santa Rosa\, CA\, 95407\, United States
CATEGORIES:Furgoneta móvil
END:VEVENT
BEGIN:VEVENT
DTSTART;TZID=America/Los_Angeles:20260909T130000
DTEND;TZID=America/Los_Angeles:20260909T140000
DTSTAMP:20260421T195245
CREATED:20251202T234319Z
LAST-MODIFIED:20251202T234319Z
UID:10014349-1788958800-1788962400@f2f.org
SUMMARY:St. Vincent De Paul Commons Outreach
DESCRIPTION:Alcance de la furgoneta móvil de 13:00 a 14:00 en 2400 Mendocino Ave\, Santa Rosa\, CA 95403
URL:https://f2f.org/calendar-event/st-vincent-de-paul-commons-outreach/2026-09-09/
LOCATION:St. Vincent de Paul Commons\, 2400 Mendocino Ave\, Santa Rosa\, 95403\, United States
CATEGORIES:Furgoneta móvil
END:VEVENT
BEGIN:VEVENT
DTSTART;TZID=America/Los_Angeles:20260909T140000
DTEND;TZID=America/Los_Angeles:20260909T150000
DTSTAMP:20260421T195245
CREATED:20250711T155832Z
LAST-MODIFIED:20250711T165249Z
UID:10011814-1788962400-1788966000@f2f.org
SUMMARY:Alcance de la Avenida Finley
DESCRIPTION:Campaña de divulgación con furgoneta móvil en Finley Avenue\, cerca de Sam Jones Hall\, de 14:00 a 15:00 h.
URL:https://f2f.org/calendar-event/alcance-de-la-avenida-finley/2026-09-09/
LOCATION:Finley Avenue\, 4020 Finley Ave\, Santa Rosa\, CA\, 95407\, United States
CATEGORIES:Furgoneta móvil
END:VEVENT
BEGIN:VEVENT
DTSTART;TZID=America/Los_Angeles:20260910T103000
DTEND;TZID=America/Los_Angeles:20260910T113000
DTSTAMP:20260421T195245
CREATED:20251120T174601Z
LAST-MODIFIED:20251120T174601Z
UID:10013518-1789036200-1789039800@f2f.org
SUMMARY:Alcance del Programa de Tratamiento de Santa Rosa
DESCRIPTION:Alcance de la furgoneta móvil en el Programa de Tratamiento de Santa Rosa de 9:00 a.m. a 11:00 a.m. en 625 Steele Lane\, Santa Rosa
URL:https://f2f.org/calendar-event/alcance-del-programa-de-tratamiento-de-santa-rosa-3/2026-09-10/
LOCATION:SRTP\, 625 Steele Ln\, Santa Rosa\, CA\, 95403\, United States
CATEGORIES:Furgoneta móvil
END:VEVENT
BEGIN:VEVENT
DTSTART;TZID=America/Los_Angeles:20260910T103000
DTEND;TZID=America/Los_Angeles:20260910T113000
DTSTAMP:20260421T195245
CREATED:20251120T175527Z
LAST-MODIFIED:20251202T234415Z
UID:10013830-1789036200-1789039800@f2f.org
SUMMARY:Alcance del Programa de Tratamiento de Santa Rosa
DESCRIPTION:Alcance de la furgoneta móvil en el Programa de Tratamiento de Santa Rosa de 9:00 a.m. a 11:00 a.m. en 625 Steele Lane\, Santa Rosa
URL:https://f2f.org/calendar-event/alcance-del-programa-de-tratamiento-de-santa-rosa-4/2026-09-10/
LOCATION:SRTP\, 625 Steele Ln\, Santa Rosa\, CA\, 95403\, United States
CATEGORIES:Furgoneta móvil
END:VEVENT
BEGIN:VEVENT
DTSTART;TZID=America/Los_Angeles:20260910T120000
DTEND;TZID=America/Los_Angeles:20260910T133000
DTSTAMP:20260421T195245
CREATED:20250711T162036Z
LAST-MODIFIED:20250711T165250Z
UID:10012733-1789041600-1789047000@f2f.org
SUMMARY:Labath Landing Outreach
DESCRIPTION:Alcance de la furgoneta móvil en Labath Landing de 12:00 a 13:30.
URL:https://f2f.org/calendar-event/labath-landing-outreach/2026-09-10/
LOCATION:Labath Landing\, 6050 Labath Avenue\, Rohnert Park\, CA\, 94928\, United States
CATEGORIES:Furgoneta móvil
END:VEVENT
BEGIN:VEVENT
DTSTART;TZID=America/Los_Angeles:20260910T130000
DTEND;TZID=America/Los_Angeles:20260910T150000
DTSTAMP:20260421T195245
CREATED:20250925T190451Z
LAST-MODIFIED:20250925T190451Z
UID:10013132-1789045200-1789052400@f2f.org
SUMMARY:Divulgación en los Dormitorios del Santa Rosa Junior College
DESCRIPTION:Alcance de la furgoneta móvil en los dormitorios del Santa Rosa Junior College de 13:00 a 15:00 en Polly O’Meara Doyle Hall 1950 Armory Drive\, Santa Rosa
URL:https://f2f.org/calendar-event/divulgacion-en-los-dormitorios-del-santa-rosa-junior-college-3/2026-09-10/
LOCATION:SRJC Dorms\, 1950 Armory Drive\, Santa Rosa\, CA\, 95401\, United States
CATEGORIES:Furgoneta móvil
END:VEVENT
BEGIN:VEVENT
DTSTART;TZID=America/Los_Angeles:20260915T110000
DTEND;TZID=America/Los_Angeles:20260915T130000
DTSTAMP:20260421T195245
CREATED:20250422T192135Z
LAST-MODIFIED:20250711T165243Z
UID:10010193-1789470000-1789477200@f2f.org
SUMMARY:Alcance de la Plaza Guerneville
DESCRIPTION:Furgoneta móvil de divulgación en la plaza de Guerneville\, bajo el puente peatonal\, de 11.00 a 13.00 h.
URL:https://f2f.org/calendar-event/alcance-de-la-plaza-guerneville/2026-09-15/
LOCATION:Guerneville Downtown Plaza\, Guerneville\, CA\, 95446\, United States
CATEGORIES:Furgoneta móvil
END:VEVENT
BEGIN:VEVENT
DTSTART;TZID=America/Los_Angeles:20260915T133000
DTEND;TZID=America/Los_Angeles:20260915T143000
DTSTAMP:20260421T195245
CREATED:20250711T154315Z
LAST-MODIFIED:20250711T165251Z
UID:10012076-1789479000-1789482600@f2f.org
SUMMARY:Joe Rodota Trail Outreach
DESCRIPTION:Difusión con furgoneta móvil en el Joe Rodota Trail\, cerca de Foodmaxx\, de 13.30 a 14.30 h\, en 2055 Sebastopol Road\, Santa Rosa.
URL:https://f2f.org/calendar-event/joe-rodota-trail-outreach/2026-09-15/
LOCATION:Joe Rodota Trail Near Foodmaxx\, 2055 Sebastopol Rd\, Santa Rosa\, CA\, 95407\, United States
CATEGORIES:Furgoneta móvil
END:VEVENT
BEGIN:VEVENT
DTSTART;TZID=America/Los_Angeles:20260915T150000
DTEND;TZID=America/Los_Angeles:20260915T160000
DTSTAMP:20260421T195245
CREATED:20250422T191949Z
LAST-MODIFIED:20250711T165241Z
UID:10009646-1789484400-1789488000@f2f.org
SUMMARY:Alcance del Puente de la Calle 6
DESCRIPTION:Alcance de la furgoneta móvil bajo el puente de la autopista\, en el 217 de la calle 6\, Santa Rosa\, de 15.00 a 16.00 h.
URL:https://f2f.org/calendar-event/alcance-del-puente-de-la-calle-6/2026-09-15/
LOCATION:6th Street\, 217 6th Street\, Santa Rosa\, CA\, 95404\, United States
CATEGORIES:Furgoneta móvil
END:VEVENT
BEGIN:VEVENT
DTSTART;TZID=America/Los_Angeles:20260916T113000
DTEND;TZID=America/Los_Angeles:20260916T123000
DTSTAMP:20260421T195245
CREATED:20250711T155317Z
LAST-MODIFIED:20250711T165248Z
UID:10011553-1789558200-1789561800@f2f.org
SUMMARY:Extensión del Camino de Montero
DESCRIPTION:Campaña de divulgación con furgoneta móvil en Montero Way\, Petaluma\, de 11.30 a 12.30 h.
URL:https://f2f.org/calendar-event/extension-del-camino-de-montero/2026-09-16/
LOCATION:Montero Way\, Montero Way\, Petaluma\, CA\, 94954\, United States
CATEGORIES:Furgoneta móvil
END:VEVENT
BEGIN:VEVENT
DTSTART;TZID=America/Los_Angeles:20260916T124500
DTEND;TZID=America/Los_Angeles:20260916T134500
DTSTAMP:20260421T195245
CREATED:20250422T192846Z
LAST-MODIFIED:20250711T165241Z
UID:10010739-1789562700-1789566300@f2f.org
SUMMARY:Alcance de la Avenida Robles Este
DESCRIPTION:Alcance de la furgoneta móvil de 12:45 a 13:45 en 236 East Robles Ave\, Santa Rosa\nPor Avenue Car Wash
URL:https://f2f.org/calendar-event/alcance-de-la-avenida-robles-este/2026-09-16/
LOCATION:East Robles Avenue\, 236 East Robles Ave\, Santa Rosa\, CA\, 95407\, United States
CATEGORIES:Furgoneta móvil
END:VEVENT
BEGIN:VEVENT
DTSTART;TZID=America/Los_Angeles:20260916T130000
DTEND;TZID=America/Los_Angeles:20260916T140000
DTSTAMP:20260421T195245
CREATED:20251202T234319Z
LAST-MODIFIED:20251202T234319Z
UID:10014350-1789563600-1789567200@f2f.org
SUMMARY:St. Vincent De Paul Commons Outreach
DESCRIPTION:Alcance de la furgoneta móvil de 13:00 a 14:00 en 2400 Mendocino Ave\, Santa Rosa\, CA 95403
URL:https://f2f.org/calendar-event/st-vincent-de-paul-commons-outreach/2026-09-16/
LOCATION:St. Vincent de Paul Commons\, 2400 Mendocino Ave\, Santa Rosa\, 95403\, United States
CATEGORIES:Furgoneta móvil
END:VEVENT
BEGIN:VEVENT
DTSTART;TZID=America/Los_Angeles:20260916T140000
DTEND;TZID=America/Los_Angeles:20260916T150000
DTSTAMP:20260421T195245
CREATED:20250711T155832Z
LAST-MODIFIED:20250711T165249Z
UID:10011815-1789567200-1789570800@f2f.org
SUMMARY:Alcance de la Avenida Finley
DESCRIPTION:Campaña de divulgación con furgoneta móvil en Finley Avenue\, cerca de Sam Jones Hall\, de 14:00 a 15:00 h.
URL:https://f2f.org/calendar-event/alcance-de-la-avenida-finley/2026-09-16/
LOCATION:Finley Avenue\, 4020 Finley Ave\, Santa Rosa\, CA\, 95407\, United States
CATEGORIES:Furgoneta móvil
END:VEVENT
BEGIN:VEVENT
DTSTART;TZID=America/Los_Angeles:20260917T103000
DTEND;TZID=America/Los_Angeles:20260917T113000
DTSTAMP:20260421T195245
CREATED:20251120T174601Z
LAST-MODIFIED:20251120T174601Z
UID:10013519-1789641000-1789644600@f2f.org
SUMMARY:Alcance del Programa de Tratamiento de Santa Rosa
DESCRIPTION:Alcance de la furgoneta móvil en el Programa de Tratamiento de Santa Rosa de 9:00 a.m. a 11:00 a.m. en 625 Steele Lane\, Santa Rosa
URL:https://f2f.org/calendar-event/alcance-del-programa-de-tratamiento-de-santa-rosa-3/2026-09-17/
LOCATION:SRTP\, 625 Steele Ln\, Santa Rosa\, CA\, 95403\, United States
CATEGORIES:Furgoneta móvil
END:VEVENT
BEGIN:VEVENT
DTSTART;TZID=America/Los_Angeles:20260917T103000
DTEND;TZID=America/Los_Angeles:20260917T113000
DTSTAMP:20260421T195245
CREATED:20251120T175527Z
LAST-MODIFIED:20251202T234415Z
UID:10013831-1789641000-1789644600@f2f.org
SUMMARY:Alcance del Programa de Tratamiento de Santa Rosa
DESCRIPTION:Alcance de la furgoneta móvil en el Programa de Tratamiento de Santa Rosa de 9:00 a.m. a 11:00 a.m. en 625 Steele Lane\, Santa Rosa
URL:https://f2f.org/calendar-event/alcance-del-programa-de-tratamiento-de-santa-rosa-4/2026-09-17/
LOCATION:SRTP\, 625 Steele Ln\, Santa Rosa\, CA\, 95403\, United States
CATEGORIES:Furgoneta móvil
END:VEVENT
END:VCALENDAR