BEGIN:VCALENDAR
VERSION:2.0
PRODID:-//Face to Face | Sonoma County - ECPv6.15.20//NONSGML v1.0//EN
CALSCALE:GREGORIAN
METHOD:PUBLISH
X-ORIGINAL-URL:https://f2f.org
X-WR-CALDESC:Events for Face to Face | Sonoma County
REFRESH-INTERVAL;VALUE=DURATION:PT1H
X-Robots-Tag:noindex
X-PUBLISHED-TTL:PT1H
BEGIN:VTIMEZONE
TZID:America/Los_Angeles
BEGIN:DAYLIGHT
TZOFFSETFROM:-0800
TZOFFSETTO:-0700
TZNAME:PDT
DTSTART:20250309T100000
END:DAYLIGHT
BEGIN:STANDARD
TZOFFSETFROM:-0700
TZOFFSETTO:-0800
TZNAME:PST
DTSTART:20251102T090000
END:STANDARD
BEGIN:DAYLIGHT
TZOFFSETFROM:-0800
TZOFFSETTO:-0700
TZNAME:PDT
DTSTART:20260308T100000
END:DAYLIGHT
BEGIN:STANDARD
TZOFFSETFROM:-0700
TZOFFSETTO:-0800
TZNAME:PST
DTSTART:20261101T090000
END:STANDARD
BEGIN:DAYLIGHT
TZOFFSETFROM:-0800
TZOFFSETTO:-0700
TZNAME:PDT
DTSTART:20270314T100000
END:DAYLIGHT
BEGIN:STANDARD
TZOFFSETFROM:-0700
TZOFFSETTO:-0800
TZNAME:PST
DTSTART:20271107T090000
END:STANDARD
END:VTIMEZONE
BEGIN:VEVENT
DTSTART;TZID=America/Los_Angeles:20261001T103000
DTEND;TZID=America/Los_Angeles:20261001T113000
DTSTAMP:20260422T003035
CREATED:20251120T174601Z
LAST-MODIFIED:20251120T174601Z
UID:10013521-1790850600-1790854200@f2f.org
SUMMARY:Alcance del Programa de Tratamiento de Santa Rosa
DESCRIPTION:Alcance de la furgoneta móvil en el Programa de Tratamiento de Santa Rosa de 9:00 a.m. a 11:00 a.m. en 625 Steele Lane\, Santa Rosa
URL:https://f2f.org/calendar-event/alcance-del-programa-de-tratamiento-de-santa-rosa-3/2026-10-01/
LOCATION:SRTP\, 625 Steele Ln\, Santa Rosa\, CA\, 95403\, United States
CATEGORIES:Furgoneta móvil
END:VEVENT
BEGIN:VEVENT
DTSTART;TZID=America/Los_Angeles:20261001T103000
DTEND;TZID=America/Los_Angeles:20261001T113000
DTSTAMP:20260422T003035
CREATED:20251120T175527Z
LAST-MODIFIED:20251202T234415Z
UID:10013833-1790850600-1790854200@f2f.org
SUMMARY:Alcance del Programa de Tratamiento de Santa Rosa
DESCRIPTION:Alcance de la furgoneta móvil en el Programa de Tratamiento de Santa Rosa de 9:00 a.m. a 11:00 a.m. en 625 Steele Lane\, Santa Rosa
URL:https://f2f.org/calendar-event/alcance-del-programa-de-tratamiento-de-santa-rosa-4/2026-10-01/
LOCATION:SRTP\, 625 Steele Ln\, Santa Rosa\, CA\, 95403\, United States
CATEGORIES:Furgoneta móvil
END:VEVENT
BEGIN:VEVENT
DTSTART;TZID=America/Los_Angeles:20261001T120000
DTEND;TZID=America/Los_Angeles:20261001T133000
DTSTAMP:20260422T003035
CREATED:20250711T162036Z
LAST-MODIFIED:20250711T165250Z
UID:10012736-1790856000-1790861400@f2f.org
SUMMARY:Labath Landing Outreach
DESCRIPTION:Alcance de la furgoneta móvil en Labath Landing de 12:00 a 13:30.
URL:https://f2f.org/calendar-event/labath-landing-outreach/2026-10-01/
LOCATION:Labath Landing\, 6050 Labath Avenue\, Rohnert Park\, CA\, 94928\, United States
CATEGORIES:Furgoneta móvil
END:VEVENT
BEGIN:VEVENT
DTSTART;TZID=America/Los_Angeles:20261006T110000
DTEND;TZID=America/Los_Angeles:20261006T130000
DTSTAMP:20260422T003035
CREATED:20250422T192135Z
LAST-MODIFIED:20250711T165243Z
UID:10010196-1791284400-1791291600@f2f.org
SUMMARY:Alcance de la Plaza Guerneville
DESCRIPTION:Furgoneta móvil de divulgación en la plaza de Guerneville\, bajo el puente peatonal\, de 11.00 a 13.00 h.
URL:https://f2f.org/calendar-event/alcance-de-la-plaza-guerneville/2026-10-06/
LOCATION:Guerneville Downtown Plaza\, Guerneville\, CA\, 95446\, United States
CATEGORIES:Furgoneta móvil
END:VEVENT
BEGIN:VEVENT
DTSTART;TZID=America/Los_Angeles:20261006T133000
DTEND;TZID=America/Los_Angeles:20261006T143000
DTSTAMP:20260422T003035
CREATED:20250711T154315Z
LAST-MODIFIED:20250711T165251Z
UID:10012079-1791293400-1791297000@f2f.org
SUMMARY:Joe Rodota Trail Outreach
DESCRIPTION:Difusión con furgoneta móvil en el Joe Rodota Trail\, cerca de Foodmaxx\, de 13.30 a 14.30 h\, en 2055 Sebastopol Road\, Santa Rosa.
URL:https://f2f.org/calendar-event/joe-rodota-trail-outreach/2026-10-06/
LOCATION:Joe Rodota Trail Near Foodmaxx\, 2055 Sebastopol Rd\, Santa Rosa\, CA\, 95407\, United States
CATEGORIES:Furgoneta móvil
END:VEVENT
BEGIN:VEVENT
DTSTART;TZID=America/Los_Angeles:20261006T150000
DTEND;TZID=America/Los_Angeles:20261006T160000
DTSTAMP:20260422T003035
CREATED:20250422T191949Z
LAST-MODIFIED:20250711T165241Z
UID:10009649-1791298800-1791302400@f2f.org
SUMMARY:Alcance del Puente de la Calle 6
DESCRIPTION:Alcance de la furgoneta móvil bajo el puente de la autopista\, en el 217 de la calle 6\, Santa Rosa\, de 15.00 a 16.00 h.
URL:https://f2f.org/calendar-event/alcance-del-puente-de-la-calle-6/2026-10-06/
LOCATION:6th Street\, 217 6th Street\, Santa Rosa\, CA\, 95404\, United States
CATEGORIES:Furgoneta móvil
END:VEVENT
BEGIN:VEVENT
DTSTART;TZID=America/Los_Angeles:20261007T113000
DTEND;TZID=America/Los_Angeles:20261007T123000
DTSTAMP:20260422T003035
CREATED:20250711T155317Z
LAST-MODIFIED:20250711T165248Z
UID:10011556-1791372600-1791376200@f2f.org
SUMMARY:Extensión del Camino de Montero
DESCRIPTION:Campaña de divulgación con furgoneta móvil en Montero Way\, Petaluma\, de 11.30 a 12.30 h.
URL:https://f2f.org/calendar-event/extension-del-camino-de-montero/2026-10-07/
LOCATION:Montero Way\, Montero Way\, Petaluma\, CA\, 94954\, United States
CATEGORIES:Furgoneta móvil
END:VEVENT
BEGIN:VEVENT
DTSTART;TZID=America/Los_Angeles:20261007T124500
DTEND;TZID=America/Los_Angeles:20261007T134500
DTSTAMP:20260422T003035
CREATED:20250422T192846Z
LAST-MODIFIED:20250711T165241Z
UID:10010742-1791377100-1791380700@f2f.org
SUMMARY:Alcance de la Avenida Robles Este
DESCRIPTION:Alcance de la furgoneta móvil de 12:45 a 13:45 en 236 East Robles Ave\, Santa Rosa\nPor Avenue Car Wash
URL:https://f2f.org/calendar-event/alcance-de-la-avenida-robles-este/2026-10-07/
LOCATION:East Robles Avenue\, 236 East Robles Ave\, Santa Rosa\, CA\, 95407\, United States
CATEGORIES:Furgoneta móvil
END:VEVENT
BEGIN:VEVENT
DTSTART;TZID=America/Los_Angeles:20261007T130000
DTEND;TZID=America/Los_Angeles:20261007T140000
DTSTAMP:20260422T003035
CREATED:20251202T234319Z
LAST-MODIFIED:20251202T234319Z
UID:10014353-1791378000-1791381600@f2f.org
SUMMARY:St. Vincent De Paul Commons Outreach
DESCRIPTION:Alcance de la furgoneta móvil de 13:00 a 14:00 en 2400 Mendocino Ave\, Santa Rosa\, CA 95403
URL:https://f2f.org/calendar-event/st-vincent-de-paul-commons-outreach/2026-10-07/
LOCATION:St. Vincent de Paul Commons\, 2400 Mendocino Ave\, Santa Rosa\, 95403\, United States
CATEGORIES:Furgoneta móvil
END:VEVENT
BEGIN:VEVENT
DTSTART;TZID=America/Los_Angeles:20261007T140000
DTEND;TZID=America/Los_Angeles:20261007T150000
DTSTAMP:20260422T003035
CREATED:20250711T155832Z
LAST-MODIFIED:20250711T165249Z
UID:10011818-1791381600-1791385200@f2f.org
SUMMARY:Alcance de la Avenida Finley
DESCRIPTION:Campaña de divulgación con furgoneta móvil en Finley Avenue\, cerca de Sam Jones Hall\, de 14:00 a 15:00 h.
URL:https://f2f.org/calendar-event/alcance-de-la-avenida-finley/2026-10-07/
LOCATION:Finley Avenue\, 4020 Finley Ave\, Santa Rosa\, CA\, 95407\, United States
CATEGORIES:Furgoneta móvil
END:VEVENT
BEGIN:VEVENT
DTSTART;TZID=America/Los_Angeles:20261008T103000
DTEND;TZID=America/Los_Angeles:20261008T113000
DTSTAMP:20260422T003035
CREATED:20251120T174601Z
LAST-MODIFIED:20251120T174601Z
UID:10013522-1791455400-1791459000@f2f.org
SUMMARY:Alcance del Programa de Tratamiento de Santa Rosa
DESCRIPTION:Alcance de la furgoneta móvil en el Programa de Tratamiento de Santa Rosa de 9:00 a.m. a 11:00 a.m. en 625 Steele Lane\, Santa Rosa
URL:https://f2f.org/calendar-event/alcance-del-programa-de-tratamiento-de-santa-rosa-3/2026-10-08/
LOCATION:SRTP\, 625 Steele Ln\, Santa Rosa\, CA\, 95403\, United States
CATEGORIES:Furgoneta móvil
END:VEVENT
BEGIN:VEVENT
DTSTART;TZID=America/Los_Angeles:20261008T103000
DTEND;TZID=America/Los_Angeles:20261008T113000
DTSTAMP:20260422T003035
CREATED:20251120T175527Z
LAST-MODIFIED:20251202T234415Z
UID:10013834-1791455400-1791459000@f2f.org
SUMMARY:Alcance del Programa de Tratamiento de Santa Rosa
DESCRIPTION:Alcance de la furgoneta móvil en el Programa de Tratamiento de Santa Rosa de 9:00 a.m. a 11:00 a.m. en 625 Steele Lane\, Santa Rosa
URL:https://f2f.org/calendar-event/alcance-del-programa-de-tratamiento-de-santa-rosa-4/2026-10-08/
LOCATION:SRTP\, 625 Steele Ln\, Santa Rosa\, CA\, 95403\, United States
CATEGORIES:Furgoneta móvil
END:VEVENT
BEGIN:VEVENT
DTSTART;TZID=America/Los_Angeles:20261008T120000
DTEND;TZID=America/Los_Angeles:20261008T133000
DTSTAMP:20260422T003035
CREATED:20250711T162036Z
LAST-MODIFIED:20250711T165250Z
UID:10012737-1791460800-1791466200@f2f.org
SUMMARY:Labath Landing Outreach
DESCRIPTION:Alcance de la furgoneta móvil en Labath Landing de 12:00 a 13:30.
URL:https://f2f.org/calendar-event/labath-landing-outreach/2026-10-08/
LOCATION:Labath Landing\, 6050 Labath Avenue\, Rohnert Park\, CA\, 94928\, United States
CATEGORIES:Furgoneta móvil
END:VEVENT
BEGIN:VEVENT
DTSTART;TZID=America/Los_Angeles:20261008T130000
DTEND;TZID=America/Los_Angeles:20261008T150000
DTSTAMP:20260422T003035
CREATED:20250925T190451Z
LAST-MODIFIED:20250925T190451Z
UID:10013133-1791464400-1791471600@f2f.org
SUMMARY:Divulgación en los Dormitorios del Santa Rosa Junior College
DESCRIPTION:Alcance de la furgoneta móvil en los dormitorios del Santa Rosa Junior College de 13:00 a 15:00 en Polly O’Meara Doyle Hall 1950 Armory Drive\, Santa Rosa
URL:https://f2f.org/calendar-event/divulgacion-en-los-dormitorios-del-santa-rosa-junior-college-3/2026-10-08/
LOCATION:SRJC Dorms\, 1950 Armory Drive\, Santa Rosa\, CA\, 95401\, United States
CATEGORIES:Furgoneta móvil
END:VEVENT
BEGIN:VEVENT
DTSTART;TZID=America/Los_Angeles:20261013T110000
DTEND;TZID=America/Los_Angeles:20261013T130000
DTSTAMP:20260422T003035
CREATED:20250422T192135Z
LAST-MODIFIED:20250711T165243Z
UID:10010197-1791889200-1791896400@f2f.org
SUMMARY:Alcance de la Plaza Guerneville
DESCRIPTION:Furgoneta móvil de divulgación en la plaza de Guerneville\, bajo el puente peatonal\, de 11.00 a 13.00 h.
URL:https://f2f.org/calendar-event/alcance-de-la-plaza-guerneville/2026-10-13/
LOCATION:Guerneville Downtown Plaza\, Guerneville\, CA\, 95446\, United States
CATEGORIES:Furgoneta móvil
END:VEVENT
BEGIN:VEVENT
DTSTART;TZID=America/Los_Angeles:20261013T133000
DTEND;TZID=America/Los_Angeles:20261013T143000
DTSTAMP:20260422T003035
CREATED:20250711T154315Z
LAST-MODIFIED:20250711T165251Z
UID:10012080-1791898200-1791901800@f2f.org
SUMMARY:Joe Rodota Trail Outreach
DESCRIPTION:Difusión con furgoneta móvil en el Joe Rodota Trail\, cerca de Foodmaxx\, de 13.30 a 14.30 h\, en 2055 Sebastopol Road\, Santa Rosa.
URL:https://f2f.org/calendar-event/joe-rodota-trail-outreach/2026-10-13/
LOCATION:Joe Rodota Trail Near Foodmaxx\, 2055 Sebastopol Rd\, Santa Rosa\, CA\, 95407\, United States
CATEGORIES:Furgoneta móvil
END:VEVENT
BEGIN:VEVENT
DTSTART;TZID=America/Los_Angeles:20261013T150000
DTEND;TZID=America/Los_Angeles:20261013T160000
DTSTAMP:20260422T003035
CREATED:20250422T191949Z
LAST-MODIFIED:20250711T165241Z
UID:10009650-1791903600-1791907200@f2f.org
SUMMARY:Alcance del Puente de la Calle 6
DESCRIPTION:Alcance de la furgoneta móvil bajo el puente de la autopista\, en el 217 de la calle 6\, Santa Rosa\, de 15.00 a 16.00 h.
URL:https://f2f.org/calendar-event/alcance-del-puente-de-la-calle-6/2026-10-13/
LOCATION:6th Street\, 217 6th Street\, Santa Rosa\, CA\, 95404\, United States
CATEGORIES:Furgoneta móvil
END:VEVENT
BEGIN:VEVENT
DTSTART;TZID=America/Los_Angeles:20261014T113000
DTEND;TZID=America/Los_Angeles:20261014T123000
DTSTAMP:20260422T003035
CREATED:20250711T155317Z
LAST-MODIFIED:20250711T165248Z
UID:10011557-1791977400-1791981000@f2f.org
SUMMARY:Extensión del Camino de Montero
DESCRIPTION:Campaña de divulgación con furgoneta móvil en Montero Way\, Petaluma\, de 11.30 a 12.30 h.
URL:https://f2f.org/calendar-event/extension-del-camino-de-montero/2026-10-14/
LOCATION:Montero Way\, Montero Way\, Petaluma\, CA\, 94954\, United States
CATEGORIES:Furgoneta móvil
END:VEVENT
BEGIN:VEVENT
DTSTART;TZID=America/Los_Angeles:20261014T124500
DTEND;TZID=America/Los_Angeles:20261014T134500
DTSTAMP:20260422T003035
CREATED:20250422T192846Z
LAST-MODIFIED:20250711T165241Z
UID:10010743-1791981900-1791985500@f2f.org
SUMMARY:Alcance de la Avenida Robles Este
DESCRIPTION:Alcance de la furgoneta móvil de 12:45 a 13:45 en 236 East Robles Ave\, Santa Rosa\nPor Avenue Car Wash
URL:https://f2f.org/calendar-event/alcance-de-la-avenida-robles-este/2026-10-14/
LOCATION:East Robles Avenue\, 236 East Robles Ave\, Santa Rosa\, CA\, 95407\, United States
CATEGORIES:Furgoneta móvil
END:VEVENT
BEGIN:VEVENT
DTSTART;TZID=America/Los_Angeles:20261014T130000
DTEND;TZID=America/Los_Angeles:20261014T140000
DTSTAMP:20260422T003035
CREATED:20251202T234319Z
LAST-MODIFIED:20251202T234319Z
UID:10014354-1791982800-1791986400@f2f.org
SUMMARY:St. Vincent De Paul Commons Outreach
DESCRIPTION:Alcance de la furgoneta móvil de 13:00 a 14:00 en 2400 Mendocino Ave\, Santa Rosa\, CA 95403
URL:https://f2f.org/calendar-event/st-vincent-de-paul-commons-outreach/2026-10-14/
LOCATION:St. Vincent de Paul Commons\, 2400 Mendocino Ave\, Santa Rosa\, 95403\, United States
CATEGORIES:Furgoneta móvil
END:VEVENT
BEGIN:VEVENT
DTSTART;TZID=America/Los_Angeles:20261014T140000
DTEND;TZID=America/Los_Angeles:20261014T150000
DTSTAMP:20260422T003035
CREATED:20250711T155832Z
LAST-MODIFIED:20250711T165249Z
UID:10011819-1791986400-1791990000@f2f.org
SUMMARY:Alcance de la Avenida Finley
DESCRIPTION:Campaña de divulgación con furgoneta móvil en Finley Avenue\, cerca de Sam Jones Hall\, de 14:00 a 15:00 h.
URL:https://f2f.org/calendar-event/alcance-de-la-avenida-finley/2026-10-14/
LOCATION:Finley Avenue\, 4020 Finley Ave\, Santa Rosa\, CA\, 95407\, United States
CATEGORIES:Furgoneta móvil
END:VEVENT
BEGIN:VEVENT
DTSTART;TZID=America/Los_Angeles:20261015T103000
DTEND;TZID=America/Los_Angeles:20261015T113000
DTSTAMP:20260422T003035
CREATED:20251120T174601Z
LAST-MODIFIED:20251120T174601Z
UID:10013523-1792060200-1792063800@f2f.org
SUMMARY:Alcance del Programa de Tratamiento de Santa Rosa
DESCRIPTION:Alcance de la furgoneta móvil en el Programa de Tratamiento de Santa Rosa de 9:00 a.m. a 11:00 a.m. en 625 Steele Lane\, Santa Rosa
URL:https://f2f.org/calendar-event/alcance-del-programa-de-tratamiento-de-santa-rosa-3/2026-10-15/
LOCATION:SRTP\, 625 Steele Ln\, Santa Rosa\, CA\, 95403\, United States
CATEGORIES:Furgoneta móvil
END:VEVENT
BEGIN:VEVENT
DTSTART;TZID=America/Los_Angeles:20261015T103000
DTEND;TZID=America/Los_Angeles:20261015T113000
DTSTAMP:20260422T003035
CREATED:20251120T175527Z
LAST-MODIFIED:20251202T234415Z
UID:10013835-1792060200-1792063800@f2f.org
SUMMARY:Alcance del Programa de Tratamiento de Santa Rosa
DESCRIPTION:Alcance de la furgoneta móvil en el Programa de Tratamiento de Santa Rosa de 9:00 a.m. a 11:00 a.m. en 625 Steele Lane\, Santa Rosa
URL:https://f2f.org/calendar-event/alcance-del-programa-de-tratamiento-de-santa-rosa-4/2026-10-15/
LOCATION:SRTP\, 625 Steele Ln\, Santa Rosa\, CA\, 95403\, United States
CATEGORIES:Furgoneta móvil
END:VEVENT
BEGIN:VEVENT
DTSTART;TZID=America/Los_Angeles:20261015T120000
DTEND;TZID=America/Los_Angeles:20261015T133000
DTSTAMP:20260422T003035
CREATED:20250711T162036Z
LAST-MODIFIED:20250711T165250Z
UID:10012738-1792065600-1792071000@f2f.org
SUMMARY:Labath Landing Outreach
DESCRIPTION:Alcance de la furgoneta móvil en Labath Landing de 12:00 a 13:30.
URL:https://f2f.org/calendar-event/labath-landing-outreach/2026-10-15/
LOCATION:Labath Landing\, 6050 Labath Avenue\, Rohnert Park\, CA\, 94928\, United States
CATEGORIES:Furgoneta móvil
END:VEVENT
BEGIN:VEVENT
DTSTART;TZID=America/Los_Angeles:20261020T110000
DTEND;TZID=America/Los_Angeles:20261020T130000
DTSTAMP:20260422T003035
CREATED:20250422T192135Z
LAST-MODIFIED:20250711T165243Z
UID:10010198-1792494000-1792501200@f2f.org
SUMMARY:Alcance de la Plaza Guerneville
DESCRIPTION:Furgoneta móvil de divulgación en la plaza de Guerneville\, bajo el puente peatonal\, de 11.00 a 13.00 h.
URL:https://f2f.org/calendar-event/alcance-de-la-plaza-guerneville/2026-10-20/
LOCATION:Guerneville Downtown Plaza\, Guerneville\, CA\, 95446\, United States
CATEGORIES:Furgoneta móvil
END:VEVENT
BEGIN:VEVENT
DTSTART;TZID=America/Los_Angeles:20261020T133000
DTEND;TZID=America/Los_Angeles:20261020T143000
DTSTAMP:20260422T003035
CREATED:20250711T154315Z
LAST-MODIFIED:20250711T165251Z
UID:10012081-1792503000-1792506600@f2f.org
SUMMARY:Joe Rodota Trail Outreach
DESCRIPTION:Difusión con furgoneta móvil en el Joe Rodota Trail\, cerca de Foodmaxx\, de 13.30 a 14.30 h\, en 2055 Sebastopol Road\, Santa Rosa.
URL:https://f2f.org/calendar-event/joe-rodota-trail-outreach/2026-10-20/
LOCATION:Joe Rodota Trail Near Foodmaxx\, 2055 Sebastopol Rd\, Santa Rosa\, CA\, 95407\, United States
CATEGORIES:Furgoneta móvil
END:VEVENT
BEGIN:VEVENT
DTSTART;TZID=America/Los_Angeles:20261020T150000
DTEND;TZID=America/Los_Angeles:20261020T160000
DTSTAMP:20260422T003035
CREATED:20250422T191949Z
LAST-MODIFIED:20250711T165241Z
UID:10009651-1792508400-1792512000@f2f.org
SUMMARY:Alcance del Puente de la Calle 6
DESCRIPTION:Alcance de la furgoneta móvil bajo el puente de la autopista\, en el 217 de la calle 6\, Santa Rosa\, de 15.00 a 16.00 h.
URL:https://f2f.org/calendar-event/alcance-del-puente-de-la-calle-6/2026-10-20/
LOCATION:6th Street\, 217 6th Street\, Santa Rosa\, CA\, 95404\, United States
CATEGORIES:Furgoneta móvil
END:VEVENT
BEGIN:VEVENT
DTSTART;TZID=America/Los_Angeles:20261021T113000
DTEND;TZID=America/Los_Angeles:20261021T123000
DTSTAMP:20260422T003035
CREATED:20250711T155317Z
LAST-MODIFIED:20250711T165248Z
UID:10011558-1792582200-1792585800@f2f.org
SUMMARY:Extensión del Camino de Montero
DESCRIPTION:Campaña de divulgación con furgoneta móvil en Montero Way\, Petaluma\, de 11.30 a 12.30 h.
URL:https://f2f.org/calendar-event/extension-del-camino-de-montero/2026-10-21/
LOCATION:Montero Way\, Montero Way\, Petaluma\, CA\, 94954\, United States
CATEGORIES:Furgoneta móvil
END:VEVENT
BEGIN:VEVENT
DTSTART;TZID=America/Los_Angeles:20261021T124500
DTEND;TZID=America/Los_Angeles:20261021T134500
DTSTAMP:20260422T003035
CREATED:20250422T192846Z
LAST-MODIFIED:20250711T165241Z
UID:10010744-1792586700-1792590300@f2f.org
SUMMARY:Alcance de la Avenida Robles Este
DESCRIPTION:Alcance de la furgoneta móvil de 12:45 a 13:45 en 236 East Robles Ave\, Santa Rosa\nPor Avenue Car Wash
URL:https://f2f.org/calendar-event/alcance-de-la-avenida-robles-este/2026-10-21/
LOCATION:East Robles Avenue\, 236 East Robles Ave\, Santa Rosa\, CA\, 95407\, United States
CATEGORIES:Furgoneta móvil
END:VEVENT
BEGIN:VEVENT
DTSTART;TZID=America/Los_Angeles:20261021T130000
DTEND;TZID=America/Los_Angeles:20261021T140000
DTSTAMP:20260422T003035
CREATED:20251202T234319Z
LAST-MODIFIED:20251202T234319Z
UID:10014355-1792587600-1792591200@f2f.org
SUMMARY:St. Vincent De Paul Commons Outreach
DESCRIPTION:Alcance de la furgoneta móvil de 13:00 a 14:00 en 2400 Mendocino Ave\, Santa Rosa\, CA 95403
URL:https://f2f.org/calendar-event/st-vincent-de-paul-commons-outreach/2026-10-21/
LOCATION:St. Vincent de Paul Commons\, 2400 Mendocino Ave\, Santa Rosa\, 95403\, United States
CATEGORIES:Furgoneta móvil
END:VEVENT
END:VCALENDAR