BEGIN:VCALENDAR
VERSION:2.0
PRODID:-//Face to Face | Sonoma County - ECPv6.15.20//NONSGML v1.0//EN
CALSCALE:GREGORIAN
METHOD:PUBLISH
X-WR-CALNAME:Face to Face | Sonoma County
X-ORIGINAL-URL:https://f2f.org
X-WR-CALDESC:Events for Face to Face | Sonoma County
REFRESH-INTERVAL;VALUE=DURATION:PT1H
X-Robots-Tag:noindex
X-PUBLISHED-TTL:PT1H
BEGIN:VTIMEZONE
TZID:America/Los_Angeles
BEGIN:DAYLIGHT
TZOFFSETFROM:-0800
TZOFFSETTO:-0700
TZNAME:PDT
DTSTART:20240310T100000
END:DAYLIGHT
BEGIN:STANDARD
TZOFFSETFROM:-0700
TZOFFSETTO:-0800
TZNAME:PST
DTSTART:20241103T090000
END:STANDARD
BEGIN:DAYLIGHT
TZOFFSETFROM:-0800
TZOFFSETTO:-0700
TZNAME:PDT
DTSTART:20250309T100000
END:DAYLIGHT
BEGIN:STANDARD
TZOFFSETFROM:-0700
TZOFFSETTO:-0800
TZNAME:PST
DTSTART:20251102T090000
END:STANDARD
BEGIN:DAYLIGHT
TZOFFSETFROM:-0800
TZOFFSETTO:-0700
TZNAME:PDT
DTSTART:20260308T100000
END:DAYLIGHT
BEGIN:STANDARD
TZOFFSETFROM:-0700
TZOFFSETTO:-0800
TZNAME:PST
DTSTART:20261101T090000
END:STANDARD
END:VTIMEZONE
BEGIN:VEVENT
DTSTART;TZID=America/Los_Angeles:20250716T124500
DTEND;TZID=America/Los_Angeles:20250716T134500
DTSTAMP:20260424T072430
CREATED:20250422T192846Z
LAST-MODIFIED:20250711T160544Z
UID:10010405-1752669900-1752673500@f2f.org
SUMMARY:East Robles Avenue Outreach
DESCRIPTION:Mobile van outreach from 12:45 p.m. – 1:45 p.m. at 236 East Robles Ave\, Santa Rosa\nBy Avenue Car Wash
URL:https://f2f.org/calendar-event/east-robles-avenue-outreach/2025-07-16/
LOCATION:East Robles Avenue\, 236 East Robles Ave\, Santa Rosa\, CA\, 95407\, United States
CATEGORIES:Mobile Van
END:VEVENT
BEGIN:VEVENT
DTSTART;TZID=America/Los_Angeles:20250709T124500
DTEND;TZID=America/Los_Angeles:20250709T134500
DTSTAMP:20260424T072430
CREATED:20250422T192846Z
LAST-MODIFIED:20250711T160544Z
UID:10010404-1752065100-1752068700@f2f.org
SUMMARY:East Robles Avenue Outreach
DESCRIPTION:Mobile van outreach from 12:45 p.m. – 1:45 p.m. at 236 East Robles Ave\, Santa Rosa\nBy Avenue Car Wash
URL:https://f2f.org/calendar-event/east-robles-avenue-outreach/2025-07-09/
LOCATION:East Robles Avenue\, 236 East Robles Ave\, Santa Rosa\, CA\, 95407\, United States
CATEGORIES:Mobile Van
END:VEVENT
BEGIN:VEVENT
DTSTART;TZID=America/Los_Angeles:20250709T124500
DTEND;TZID=America/Los_Angeles:20250709T134500
DTSTAMP:20260424T072430
CREATED:20250422T192846Z
LAST-MODIFIED:20250711T165241Z
UID:10010677-1752065100-1752068700@f2f.org
SUMMARY:Alcance de la Avenida Robles Este
DESCRIPTION:Alcance de la furgoneta móvil de 12:45 a 13:45 en 236 East Robles Ave\, Santa Rosa\nPor Avenue Car Wash
URL:https://f2f.org/calendar-event/alcance-de-la-avenida-robles-este/2025-07-09/
LOCATION:East Robles Avenue\, 236 East Robles Ave\, Santa Rosa\, CA\, 95407\, United States
CATEGORIES:Furgoneta móvil
END:VEVENT
BEGIN:VEVENT
DTSTART;TZID=America/Los_Angeles:20250702T124500
DTEND;TZID=America/Los_Angeles:20250702T134500
DTSTAMP:20260424T072430
CREATED:20250422T192846Z
LAST-MODIFIED:20250711T160544Z
UID:10010403-1751460300-1751463900@f2f.org
SUMMARY:East Robles Avenue Outreach
DESCRIPTION:Mobile van outreach from 12:45 p.m. – 1:45 p.m. at 236 East Robles Ave\, Santa Rosa\nBy Avenue Car Wash
URL:https://f2f.org/calendar-event/east-robles-avenue-outreach/2025-07-02/
LOCATION:East Robles Avenue\, 236 East Robles Ave\, Santa Rosa\, CA\, 95407\, United States
CATEGORIES:Mobile Van
END:VEVENT
BEGIN:VEVENT
DTSTART;TZID=America/Los_Angeles:20250702T124500
DTEND;TZID=America/Los_Angeles:20250702T134500
DTSTAMP:20260424T072430
CREATED:20250422T192846Z
LAST-MODIFIED:20250711T165241Z
UID:10010676-1751460300-1751463900@f2f.org
SUMMARY:Alcance de la Avenida Robles Este
DESCRIPTION:Alcance de la furgoneta móvil de 12:45 a 13:45 en 236 East Robles Ave\, Santa Rosa\nPor Avenue Car Wash
URL:https://f2f.org/calendar-event/alcance-de-la-avenida-robles-este/2025-07-02/
LOCATION:East Robles Avenue\, 236 East Robles Ave\, Santa Rosa\, CA\, 95407\, United States
CATEGORIES:Furgoneta móvil
END:VEVENT
BEGIN:VEVENT
DTSTART;TZID=America/Los_Angeles:20250625T124500
DTEND;TZID=America/Los_Angeles:20250625T134500
DTSTAMP:20260424T072430
CREATED:20250422T192846Z
LAST-MODIFIED:20250711T160544Z
UID:10010402-1750855500-1750859100@f2f.org
SUMMARY:East Robles Avenue Outreach
DESCRIPTION:Mobile van outreach from 12:45 p.m. – 1:45 p.m. at 236 East Robles Ave\, Santa Rosa\nBy Avenue Car Wash
URL:https://f2f.org/calendar-event/east-robles-avenue-outreach/2025-06-25/
LOCATION:East Robles Avenue\, 236 East Robles Ave\, Santa Rosa\, CA\, 95407\, United States
CATEGORIES:Mobile Van
END:VEVENT
BEGIN:VEVENT
DTSTART;TZID=America/Los_Angeles:20250625T124500
DTEND;TZID=America/Los_Angeles:20250625T134500
DTSTAMP:20260424T072430
CREATED:20250422T192846Z
LAST-MODIFIED:20250711T165241Z
UID:10010675-1750855500-1750859100@f2f.org
SUMMARY:Alcance de la Avenida Robles Este
DESCRIPTION:Alcance de la furgoneta móvil de 12:45 a 13:45 en 236 East Robles Ave\, Santa Rosa\nPor Avenue Car Wash
URL:https://f2f.org/calendar-event/alcance-de-la-avenida-robles-este/2025-06-25/
LOCATION:East Robles Avenue\, 236 East Robles Ave\, Santa Rosa\, CA\, 95407\, United States
CATEGORIES:Furgoneta móvil
END:VEVENT
BEGIN:VEVENT
DTSTART;TZID=America/Los_Angeles:20250618T124500
DTEND;TZID=America/Los_Angeles:20250618T134500
DTSTAMP:20260424T072430
CREATED:20250422T192846Z
LAST-MODIFIED:20250711T160544Z
UID:10010401-1750250700-1750254300@f2f.org
SUMMARY:East Robles Avenue Outreach
DESCRIPTION:Mobile van outreach from 12:45 p.m. – 1:45 p.m. at 236 East Robles Ave\, Santa Rosa\nBy Avenue Car Wash
URL:https://f2f.org/calendar-event/east-robles-avenue-outreach/2025-06-18/
LOCATION:East Robles Avenue\, 236 East Robles Ave\, Santa Rosa\, CA\, 95407\, United States
CATEGORIES:Mobile Van
END:VEVENT
BEGIN:VEVENT
DTSTART;TZID=America/Los_Angeles:20250618T124500
DTEND;TZID=America/Los_Angeles:20250618T134500
DTSTAMP:20260424T072430
CREATED:20250422T192846Z
LAST-MODIFIED:20250711T165241Z
UID:10010674-1750250700-1750254300@f2f.org
SUMMARY:Alcance de la Avenida Robles Este
DESCRIPTION:Alcance de la furgoneta móvil de 12:45 a 13:45 en 236 East Robles Ave\, Santa Rosa\nPor Avenue Car Wash
URL:https://f2f.org/calendar-event/alcance-de-la-avenida-robles-este/2025-06-18/
LOCATION:East Robles Avenue\, 236 East Robles Ave\, Santa Rosa\, CA\, 95407\, United States
CATEGORIES:Furgoneta móvil
END:VEVENT
BEGIN:VEVENT
DTSTART;TZID=America/Los_Angeles:20250611T124500
DTEND;TZID=America/Los_Angeles:20250611T134500
DTSTAMP:20260424T072431
CREATED:20250422T192846Z
LAST-MODIFIED:20250711T160544Z
UID:10010400-1749645900-1749649500@f2f.org
SUMMARY:East Robles Avenue Outreach
DESCRIPTION:Mobile van outreach from 12:45 p.m. – 1:45 p.m. at 236 East Robles Ave\, Santa Rosa\nBy Avenue Car Wash
URL:https://f2f.org/calendar-event/east-robles-avenue-outreach/2025-06-11/
LOCATION:East Robles Avenue\, 236 East Robles Ave\, Santa Rosa\, CA\, 95407\, United States
CATEGORIES:Mobile Van
END:VEVENT
BEGIN:VEVENT
DTSTART;TZID=America/Los_Angeles:20250611T124500
DTEND;TZID=America/Los_Angeles:20250611T134500
DTSTAMP:20260424T072431
CREATED:20250422T192846Z
LAST-MODIFIED:20250711T165241Z
UID:10010673-1749645900-1749649500@f2f.org
SUMMARY:Alcance de la Avenida Robles Este
DESCRIPTION:Alcance de la furgoneta móvil de 12:45 a 13:45 en 236 East Robles Ave\, Santa Rosa\nPor Avenue Car Wash
URL:https://f2f.org/calendar-event/alcance-de-la-avenida-robles-este/2025-06-11/
LOCATION:East Robles Avenue\, 236 East Robles Ave\, Santa Rosa\, CA\, 95407\, United States
CATEGORIES:Furgoneta móvil
END:VEVENT
BEGIN:VEVENT
DTSTART;TZID=America/Los_Angeles:20250604T124500
DTEND;TZID=America/Los_Angeles:20250604T134500
DTSTAMP:20260424T072431
CREATED:20250422T192846Z
LAST-MODIFIED:20250711T165241Z
UID:10010672-1749041100-1749044700@f2f.org
SUMMARY:Alcance de la Avenida Robles Este
DESCRIPTION:Alcance de la furgoneta móvil de 12:45 a 13:45 en 236 East Robles Ave\, Santa Rosa\nPor Avenue Car Wash
URL:https://f2f.org/calendar-event/alcance-de-la-avenida-robles-este/2025-06-04/
LOCATION:East Robles Avenue\, 236 East Robles Ave\, Santa Rosa\, CA\, 95407\, United States
CATEGORIES:Furgoneta móvil
END:VEVENT
BEGIN:VEVENT
DTSTART;TZID=America/Los_Angeles:20250604T124500
DTEND;TZID=America/Los_Angeles:20250604T134500
DTSTAMP:20260424T072431
CREATED:20250422T192846Z
LAST-MODIFIED:20250711T160544Z
UID:10010399-1749041100-1749044700@f2f.org
SUMMARY:East Robles Avenue Outreach
DESCRIPTION:Mobile van outreach from 12:45 p.m. – 1:45 p.m. at 236 East Robles Ave\, Santa Rosa\nBy Avenue Car Wash
URL:https://f2f.org/calendar-event/east-robles-avenue-outreach/2025-06-04/
LOCATION:East Robles Avenue\, 236 East Robles Ave\, Santa Rosa\, CA\, 95407\, United States
CATEGORIES:Mobile Van
END:VEVENT
BEGIN:VEVENT
DTSTART;TZID=America/Los_Angeles:20250528T124500
DTEND;TZID=America/Los_Angeles:20250528T134500
DTSTAMP:20260424T072431
CREATED:20250422T192846Z
LAST-MODIFIED:20250711T165241Z
UID:10010671-1748436300-1748439900@f2f.org
SUMMARY:Alcance de la Avenida Robles Este
DESCRIPTION:Alcance de la furgoneta móvil de 12:45 a 13:45 en 236 East Robles Ave\, Santa Rosa\nPor Avenue Car Wash
URL:https://f2f.org/calendar-event/alcance-de-la-avenida-robles-este/2025-05-28/
LOCATION:East Robles Avenue\, 236 East Robles Ave\, Santa Rosa\, CA\, 95407\, United States
CATEGORIES:Furgoneta móvil
END:VEVENT
BEGIN:VEVENT
DTSTART;TZID=America/Los_Angeles:20250528T124500
DTEND;TZID=America/Los_Angeles:20250528T134500
DTSTAMP:20260424T072431
CREATED:20250422T192846Z
LAST-MODIFIED:20250711T160544Z
UID:10010398-1748436300-1748439900@f2f.org
SUMMARY:East Robles Avenue Outreach
DESCRIPTION:Mobile van outreach from 12:45 p.m. – 1:45 p.m. at 236 East Robles Ave\, Santa Rosa\nBy Avenue Car Wash
URL:https://f2f.org/calendar-event/east-robles-avenue-outreach/2025-05-28/
LOCATION:East Robles Avenue\, 236 East Robles Ave\, Santa Rosa\, CA\, 95407\, United States
CATEGORIES:Mobile Van
END:VEVENT
BEGIN:VEVENT
DTSTART;TZID=America/Los_Angeles:20250521T124500
DTEND;TZID=America/Los_Angeles:20250521T134500
DTSTAMP:20260424T072431
CREATED:20250422T192846Z
LAST-MODIFIED:20250711T165241Z
UID:10010670-1747831500-1747835100@f2f.org
SUMMARY:Alcance de la Avenida Robles Este
DESCRIPTION:Alcance de la furgoneta móvil de 12:45 a 13:45 en 236 East Robles Ave\, Santa Rosa\nPor Avenue Car Wash
URL:https://f2f.org/calendar-event/alcance-de-la-avenida-robles-este/2025-05-21/
LOCATION:East Robles Avenue\, 236 East Robles Ave\, Santa Rosa\, CA\, 95407\, United States
CATEGORIES:Furgoneta móvil
END:VEVENT
BEGIN:VEVENT
DTSTART;TZID=America/Los_Angeles:20250521T124500
DTEND;TZID=America/Los_Angeles:20250521T134500
DTSTAMP:20260424T072431
CREATED:20250422T192846Z
LAST-MODIFIED:20250711T160544Z
UID:10010397-1747831500-1747835100@f2f.org
SUMMARY:East Robles Avenue Outreach
DESCRIPTION:Mobile van outreach from 12:45 p.m. – 1:45 p.m. at 236 East Robles Ave\, Santa Rosa\nBy Avenue Car Wash
URL:https://f2f.org/calendar-event/east-robles-avenue-outreach/2025-05-21/
LOCATION:East Robles Avenue\, 236 East Robles Ave\, Santa Rosa\, CA\, 95407\, United States
CATEGORIES:Mobile Van
END:VEVENT
BEGIN:VEVENT
DTSTART;TZID=America/Los_Angeles:20250514T124500
DTEND;TZID=America/Los_Angeles:20250514T134500
DTSTAMP:20260424T072431
CREATED:20250422T192846Z
LAST-MODIFIED:20250711T160544Z
UID:10010396-1747226700-1747230300@f2f.org
SUMMARY:East Robles Avenue Outreach
DESCRIPTION:Mobile van outreach from 12:45 p.m. – 1:45 p.m. at 236 East Robles Ave\, Santa Rosa\nBy Avenue Car Wash
URL:https://f2f.org/calendar-event/east-robles-avenue-outreach/2025-05-14/
LOCATION:East Robles Avenue\, 236 East Robles Ave\, Santa Rosa\, CA\, 95407\, United States
CATEGORIES:Mobile Van
END:VEVENT
BEGIN:VEVENT
DTSTART;TZID=America/Los_Angeles:20250514T124500
DTEND;TZID=America/Los_Angeles:20250514T134500
DTSTAMP:20260424T072431
CREATED:20250422T192846Z
LAST-MODIFIED:20250711T165241Z
UID:10010669-1747226700-1747230300@f2f.org
SUMMARY:Alcance de la Avenida Robles Este
DESCRIPTION:Alcance de la furgoneta móvil de 12:45 a 13:45 en 236 East Robles Ave\, Santa Rosa\nPor Avenue Car Wash
URL:https://f2f.org/calendar-event/alcance-de-la-avenida-robles-este/2025-05-14/
LOCATION:East Robles Avenue\, 236 East Robles Ave\, Santa Rosa\, CA\, 95407\, United States
CATEGORIES:Furgoneta móvil
END:VEVENT
BEGIN:VEVENT
DTSTART;TZID=America/Los_Angeles:20250507T124500
DTEND;TZID=America/Los_Angeles:20250507T134500
DTSTAMP:20260424T072431
CREATED:20250422T192846Z
LAST-MODIFIED:20250711T160544Z
UID:10010395-1746621900-1746625500@f2f.org
SUMMARY:East Robles Avenue Outreach
DESCRIPTION:Mobile van outreach from 12:45 p.m. – 1:45 p.m. at 236 East Robles Ave\, Santa Rosa\nBy Avenue Car Wash
URL:https://f2f.org/calendar-event/east-robles-avenue-outreach/2025-05-07/
LOCATION:East Robles Avenue\, 236 East Robles Ave\, Santa Rosa\, CA\, 95407\, United States
CATEGORIES:Mobile Van
END:VEVENT
BEGIN:VEVENT
DTSTART;TZID=America/Los_Angeles:20250507T124500
DTEND;TZID=America/Los_Angeles:20250507T134500
DTSTAMP:20260424T072431
CREATED:20250422T192846Z
LAST-MODIFIED:20250711T165241Z
UID:10010668-1746621900-1746625500@f2f.org
SUMMARY:Alcance de la Avenida Robles Este
DESCRIPTION:Alcance de la furgoneta móvil de 12:45 a 13:45 en 236 East Robles Ave\, Santa Rosa\nPor Avenue Car Wash
URL:https://f2f.org/calendar-event/alcance-de-la-avenida-robles-este/2025-05-07/
LOCATION:East Robles Avenue\, 236 East Robles Ave\, Santa Rosa\, CA\, 95407\, United States
CATEGORIES:Furgoneta móvil
END:VEVENT
BEGIN:VEVENT
DTSTART;TZID=America/Los_Angeles:20250430T124500
DTEND;TZID=America/Los_Angeles:20250430T134500
DTSTAMP:20260424T072431
CREATED:20250422T192846Z
LAST-MODIFIED:20250711T160544Z
UID:10010394-1746017100-1746020700@f2f.org
SUMMARY:East Robles Avenue Outreach
DESCRIPTION:Mobile van outreach from 12:45 p.m. – 1:45 p.m. at 236 East Robles Ave\, Santa Rosa\nBy Avenue Car Wash
URL:https://f2f.org/calendar-event/east-robles-avenue-outreach/2025-04-30/
LOCATION:East Robles Avenue\, 236 East Robles Ave\, Santa Rosa\, CA\, 95407\, United States
CATEGORIES:Mobile Van
END:VEVENT
BEGIN:VEVENT
DTSTART;TZID=America/Los_Angeles:20250430T124500
DTEND;TZID=America/Los_Angeles:20250430T134500
DTSTAMP:20260424T072431
CREATED:20250422T192846Z
LAST-MODIFIED:20250711T165241Z
UID:10010667-1746017100-1746020700@f2f.org
SUMMARY:Alcance de la Avenida Robles Este
DESCRIPTION:Alcance de la furgoneta móvil de 12:45 a 13:45 en 236 East Robles Ave\, Santa Rosa\nPor Avenue Car Wash
URL:https://f2f.org/calendar-event/alcance-de-la-avenida-robles-este/2025-04-30/
LOCATION:East Robles Avenue\, 236 East Robles Ave\, Santa Rosa\, CA\, 95407\, United States
CATEGORIES:Furgoneta móvil
END:VEVENT
BEGIN:VEVENT
DTSTART;TZID=America/Los_Angeles:20250423T124500
DTEND;TZID=America/Los_Angeles:20250423T134500
DTSTAMP:20260424T072431
CREATED:20250422T192846Z
LAST-MODIFIED:20250711T160544Z
UID:10010393-1745412300-1745415900@f2f.org
SUMMARY:East Robles Avenue Outreach
DESCRIPTION:Mobile van outreach from 12:45 p.m. – 1:45 p.m. at 236 East Robles Ave\, Santa Rosa\nBy Avenue Car Wash
URL:https://f2f.org/calendar-event/east-robles-avenue-outreach/2025-04-23/
LOCATION:East Robles Avenue\, 236 East Robles Ave\, Santa Rosa\, CA\, 95407\, United States
CATEGORIES:Mobile Van
END:VEVENT
BEGIN:VEVENT
DTSTART;TZID=America/Los_Angeles:20250423T124500
DTEND;TZID=America/Los_Angeles:20250423T134500
DTSTAMP:20260424T072431
CREATED:20250422T192846Z
LAST-MODIFIED:20250711T165241Z
UID:10010666-1745412300-1745415900@f2f.org
SUMMARY:Alcance de la Avenida Robles Este
DESCRIPTION:Alcance de la furgoneta móvil de 12:45 a 13:45 en 236 East Robles Ave\, Santa Rosa\nPor Avenue Car Wash
URL:https://f2f.org/calendar-event/alcance-de-la-avenida-robles-este/2025-04-23/
LOCATION:East Robles Avenue\, 236 East Robles Ave\, Santa Rosa\, CA\, 95407\, United States
CATEGORIES:Furgoneta móvil
END:VEVENT
END:VCALENDAR